BEGIN:VCALENDAR
VERSION:2.0
PRODID:-//NCMBC - ECPv6.15.20//NONSGML v1.0//EN
CALSCALE:GREGORIAN
METHOD:PUBLISH
X-ORIGINAL-URL:https://www.ncmbc.us
X-WR-CALDESC:Events for NCMBC
REFRESH-INTERVAL;VALUE=DURATION:PT1H
X-Robots-Tag:noindex
X-PUBLISHED-TTL:PT1H
BEGIN:VTIMEZONE
TZID:America/New_York
BEGIN:DAYLIGHT
TZOFFSETFROM:-0500
TZOFFSETTO:-0400
TZNAME:EDT
DTSTART:20210314T070000
END:DAYLIGHT
BEGIN:STANDARD
TZOFFSETFROM:-0400
TZOFFSETTO:-0500
TZNAME:EST
DTSTART:20211107T060000
END:STANDARD
BEGIN:DAYLIGHT
TZOFFSETFROM:-0500
TZOFFSETTO:-0400
TZNAME:EDT
DTSTART:20220313T070000
END:DAYLIGHT
BEGIN:STANDARD
TZOFFSETFROM:-0400
TZOFFSETTO:-0500
TZNAME:EST
DTSTART:20221106T060000
END:STANDARD
BEGIN:DAYLIGHT
TZOFFSETFROM:-0500
TZOFFSETTO:-0400
TZNAME:EDT
DTSTART:20230312T070000
END:DAYLIGHT
BEGIN:STANDARD
TZOFFSETFROM:-0400
TZOFFSETTO:-0500
TZNAME:EST
DTSTART:20231105T060000
END:STANDARD
END:VTIMEZONE
BEGIN:VEVENT
DTSTART;VALUE=DATE:20220928
DTEND;VALUE=DATE:20221001
DTSTAMP:20260424T195946
CREATED:20220822T113609Z
LAST-MODIFIED:20220825T181955Z
UID:279-1664323200-1664582399@www.ncmbc.us
SUMMARY:Defense Contractor Academy
DESCRIPTION:The North Carolina Community College System Small Business Center Network and the North Carolina Military Business Center are pleased to host a three-part Defense Contractor Academy – For Small Businesses Engaged in Contracting from September 28-30\, 2022. \nThe Defense Contractor Academy (DCA) offers intermediate-level instruction to existing small business defense contractors to provide the tools needed to grow the federal portion of their business portfolio. \nPart 1: September 28\, 0900-1645. Part 1\, constructed as a business development focused day\, will take a deeper dive into federal contract opportunities and discuss how a business should respond to different notice types; review non-traditional opportunity types including non-competitive and limited-competition acquisitions (OTAs\, Ability One\, GSA\, IDIQ\, MATOC\, MACC\, etc.); demonstrate data sources available to better know your respective industry and competition; and explore available resources (FPDS\, SAM.gov\, MatchForce.org) to identify buyers\, competitors\, and contract opportunities. \nAgenda: \n9:00 AM–11:15 AM – Opening Remarks\, Administrative Comments\, Government Contract Opportunities and Contractor Responses\n11:15 AM–11:30 AM – Break\n11:30 AM-12:30 PM – Leveraging Non-Competitive and Limited-Competition Acquisitions and Sources of Supply\n12:30 PM–1:00 PM – Break\n1:00 PM-2:00 PM – Critical Data for Success as a Defense Contractor\n2:00 PM-3:00 PM – Technology Resources\n3:00 PM-3:15 PM – Break\n3:15 PM-4:45 PM – Effectively Presenting Your Business to the Government\, Military\, and Prime Contractors (including capabilities statements\, the All-Small program\, SDVOSB\, and new HUBZone requirements) \nPart 2: September 29\, 0900-1700. Part 2 is constructed as a cybersecurity and financial focused day. We will start the morning with an overview on the importance of cybersecurity requirements for federal contractors to help defend our nation’s security. Next\, presenters will focus on financial-related topics including cost estimating\, developing pricing proposals\, financing government contracts\, cost accounting standards\, and contract audits. \nAgenda: \n9:00 AM-10:30 AM – Cybersecurity Maturity Model Certification and Defense Contractor Requirements (CMMC 2.0)\n10:30 AM-12:30 PM – Cost Estimating and Developing Pricing Proposals\n12:30 PM-1:30 PM – Break\n1:30 PM-2:50 PM – Financing Government Contracts\n2:50 PM-3:00 PM – Break\n3:00 PM-5:00 PM – Cost Accounting Standards and Contract Audits \nPart 3: September 30\, 0900-1530. Part 3\, constructed as a legal focused day\, will cover several topics ranging from teaming; joint ventures; mentor-protégé programs and limitations on subcontracting; human resource considerations and labor laws related to federal contracts; debriefings; protests; and contract administration issues. \nAgenda: \n9:00 AM-11:00 AM – Teaming Arrangements\, Joint Ventures\, Mentor-Protégé Programs\, and Limitations on Subcontracting\n11:00 AM-11:10 AM – Break\n11:10 AM-1:10 PM – HR Considerations and Labor Laws Related to Executing Contracts\n1:10 PM-1:30 PM – Break\n1:30 PM-3:30 PM – Debriefings\, Protests\, and Contract Administration Issues \n\nREGISTRATION IS REQUIRED. \nRegister for Part 1 on September 28: https://www.ncsbc.net/workshop.aspx?ekey=580420056\nRegister for Part 2 on September 29: https://www.ncsbc.net/workshop.aspx?ekey=590420079\nRegister for Part 3 on September 30: https://www.ncsbc.net/workshop.aspx?ekey=580420058
URL:https://www.ncmbc.us/event/lorem-ipsum-dolor-2/
CATEGORIES:Homepage Events
ATTACH;FMTTYPE=image/jpeg:https://www.ncmbc.us/wp-content/uploads/220805-F-JV039-1020Z.jpg
END:VEVENT
BEGIN:VEVENT
DTSTART;TZID=America/New_York:20220929T110000
DTEND;TZID=America/New_York:20220929T130000
DTSTAMP:20260424T195946
CREATED:20220912T175700Z
LAST-MODIFIED:20220913T153307Z
UID:608-1664449200-1664456400@www.ncmbc.us
SUMMARY:Online Seller for the Small Business Owner (Online)
DESCRIPTION:Topic: Tax Planning\nThis webinar will assist online sellers that are “engaged in business” in North Carolina. Areas of discussion within the webinar will include: sellers with a physical presence in N.C.\, remote sales to N.C.\, marketplace facilitators and marketplace sellers as well as applying for a N.C. Sales and Use Tax Account ID\, if necessary. \nSpeaker(s): NCDOR \nThis webinar will be presented via Webex platform. If you’ve never used Webex it will ask you to download onto your computer. We ask that you go ahead and complete this step\, utilizing the same First Name\, Last Name and Email address used during registration. Once you do this it will allow you access to the webinar. We recommend that you sign in to the webinar at least five minutes prior to the start of the session to ensure you don’t have any technical issues. \nFee: No Cost \nRegister Online\nAlready Registered? Sign in for more information.
URL:https://www.ncmbc.us/event/online-seller-for-the-small-business-owner-online/
LOCATION:Online
ATTACH;FMTTYPE=image/png:https://www.ncmbc.us/wp-content/uploads/71D62290-9B5D-496C-B0C1-9ED541854C95.png
END:VEVENT
END:VCALENDAR