BEGIN:VCALENDAR
VERSION:2.0
PRODID:-//NCMBC - ECPv6.15.20//NONSGML v1.0//EN
CALSCALE:GREGORIAN
METHOD:PUBLISH
X-WR-CALNAME:NCMBC
X-ORIGINAL-URL:https://www.ncmbc.us
X-WR-CALDESC:Events for NCMBC
REFRESH-INTERVAL;VALUE=DURATION:PT1H
X-Robots-Tag:noindex
X-PUBLISHED-TTL:PT1H
BEGIN:VTIMEZONE
TZID:America/New_York
BEGIN:DAYLIGHT
TZOFFSETFROM:-0500
TZOFFSETTO:-0400
TZNAME:EDT
DTSTART:20210314T070000
END:DAYLIGHT
BEGIN:STANDARD
TZOFFSETFROM:-0400
TZOFFSETTO:-0500
TZNAME:EST
DTSTART:20211107T060000
END:STANDARD
BEGIN:DAYLIGHT
TZOFFSETFROM:-0500
TZOFFSETTO:-0400
TZNAME:EDT
DTSTART:20220313T070000
END:DAYLIGHT
BEGIN:STANDARD
TZOFFSETFROM:-0400
TZOFFSETTO:-0500
TZNAME:EST
DTSTART:20221106T060000
END:STANDARD
BEGIN:DAYLIGHT
TZOFFSETFROM:-0500
TZOFFSETTO:-0400
TZNAME:EDT
DTSTART:20230312T070000
END:DAYLIGHT
BEGIN:STANDARD
TZOFFSETFROM:-0400
TZOFFSETTO:-0500
TZNAME:EST
DTSTART:20231105T060000
END:STANDARD
END:VTIMEZONE
BEGIN:VEVENT
DTSTART;TZID=America/New_York:20221003T180000
DTEND;TZID=America/New_York:20221003T200000
DTSTAMP:20260424T211713
CREATED:20220901T195812Z
LAST-MODIFIED:20220913T150638Z
UID:583-1664820000-1664827200@www.ncmbc.us
SUMMARY:Mission Monday: For-Profit: B-Corps
DESCRIPTION:Topic: Start-up Assistance\n\nB Corps represent a movement of entrepreneurs who are proud of their companies’ positive impact\, whether it’s improving the livelihoods of their workers\, strengthening their community ties\, or revolutionizing current environmental practices. Over 100 thousand companies around the world are using the B Impact Assessment\, a free\, confidential online tool to measure their governance practices as well as their impact on their employees\, community\, environment and customers. \nOver 5 thousand companies have achieved B Corp certification\, demonstrating the highest standards when it comes to social and environmental responsibility. In this webinar\, you will learn why it’s increasingly important for companies to measure and demonstrate their impact\, what B Corporation certification is all about\, how you can complete the B Impact Assessment and best practices among B Corps in North Carolina and beyond to help you build a more innovative\, engaged\, competitive and impactful business. \n\nSpeaker(s): Jessica Yinka Thomas \nFee: No Cost \nRegister Online\n\nAlready Registered? Sign in for more information.
URL:https://www.ncmbc.us/event/mission-monday-for-profit-b-corps/
LOCATION:Online
ATTACH;FMTTYPE=image/png:https://www.ncmbc.us/wp-content/uploads/71D62290-9B5D-496C-B0C1-9ED541854C95.png
END:VEVENT
BEGIN:VEVENT
DTSTART;TZID=America/New_York:20221003T183000
DTEND;TZID=America/New_York:20221003T210000
DTSTAMP:20260424T211713
CREATED:20220901T200036Z
LAST-MODIFIED:20220913T153607Z
UID:585-1664821800-1664830800@www.ncmbc.us
SUMMARY:How to Start a Business
DESCRIPTION:Topic: Start-up Assistance\n\nUnderstand the basics of starting a business in this seminar that takes you from idea to opportunity. Learn key strategies for start-up\, financing\, and marketing as well as important information about legal issues\, licensing\, zoning\, operations\, and more. Realize the importance of a self-assessment and how to evaluate the feasibility of your business idea. Discover the resources available to help you start and successfully operate your business. \n\nFee: No Cost \nRegister Online\n\nAlready Registered? Sign in for more information.
URL:https://www.ncmbc.us/event/how-to-start-a-business/
LOCATION:Online
ATTACH;FMTTYPE=image/png:https://www.ncmbc.us/wp-content/uploads/71D62290-9B5D-496C-B0C1-9ED541854C95.png
END:VEVENT
END:VCALENDAR