BEGIN:VCALENDAR
VERSION:2.0
PRODID:-//NCMBC - ECPv6.15.20//NONSGML v1.0//EN
CALSCALE:GREGORIAN
METHOD:PUBLISH
X-WR-CALNAME:NCMBC
X-ORIGINAL-URL:https://www.ncmbc.us
X-WR-CALDESC:Events for NCMBC
REFRESH-INTERVAL;VALUE=DURATION:PT1H
X-Robots-Tag:noindex
X-PUBLISHED-TTL:PT1H
BEGIN:VTIMEZONE
TZID:America/New_York
BEGIN:DAYLIGHT
TZOFFSETFROM:-0500
TZOFFSETTO:-0400
TZNAME:EDT
DTSTART:20210314T070000
END:DAYLIGHT
BEGIN:STANDARD
TZOFFSETFROM:-0400
TZOFFSETTO:-0500
TZNAME:EST
DTSTART:20211107T060000
END:STANDARD
BEGIN:DAYLIGHT
TZOFFSETFROM:-0500
TZOFFSETTO:-0400
TZNAME:EDT
DTSTART:20220313T070000
END:DAYLIGHT
BEGIN:STANDARD
TZOFFSETFROM:-0400
TZOFFSETTO:-0500
TZNAME:EST
DTSTART:20221106T060000
END:STANDARD
BEGIN:DAYLIGHT
TZOFFSETFROM:-0500
TZOFFSETTO:-0400
TZNAME:EDT
DTSTART:20230312T070000
END:DAYLIGHT
BEGIN:STANDARD
TZOFFSETFROM:-0400
TZOFFSETTO:-0500
TZNAME:EST
DTSTART:20231105T060000
END:STANDARD
END:VTIMEZONE
BEGIN:VEVENT
DTSTART;TZID=America/New_York:20221013T080000
DTEND;TZID=America/New_York:20221230T170000
DTSTAMP:20260424T195204
CREATED:20221013T175155Z
LAST-MODIFIED:20221013T175403Z
UID:1239-1665648000-1672419600@www.ncmbc.us
SUMMARY:7(j) Management and Technical Training
DESCRIPTION:We are now enrolling 7(j) Eligible Applicants for new FedMap Capture Cohorts\nThe U.S. Small Business Administration is offering Free training to 7(j) eligible participants in the Federal Market Acceleration Program (FedMap™). \nWhat is FedMap? \nFedMap is a powerful training program guided by certified business development coaches\, who have an average of 25 plus years’ experience winning government contracts.  They use their experience to guide you through the pursuit of a real contract opportunity while following the steps of industry leading capture planning and strategy processes. The FedMap curriculum is flexible to meet your busy schedule. \nHow is FedMap Different? \nFedMap Capture is an action-based curriculum focused on helping you win government contracts. Our BD Coaches help you turn learning into action and action into contract wins. Over 650 companies have gone through FedMap and have already won nearly $2 Billion in new contract awards since completing the program. \nTo learn more about the program and to apply:\nClick Here
URL:https://www.ncmbc.us/event/7j-management-and-technical-training/
LOCATION:Virtual
ATTACH;FMTTYPE=image/jpeg:https://www.ncmbc.us/wp-content/uploads/C21FC783-4817-4203-8FC4-5106A713E180_4_5005_c.jpeg
END:VEVENT
BEGIN:VEVENT
DTSTART;TZID=America/New_York:20221027T080000
DTEND;TZID=America/New_York:20221027T120000
DTSTAMP:20260424T195204
CREATED:20221012T150710Z
LAST-MODIFIED:20221012T150710Z
UID:1197-1666857600-1666872000@www.ncmbc.us
SUMMARY:BUILDING A MORE COLLABORATIVE ADVANCED TEXTILES ECOSYSTEM IN SUPPORT OF THE DEPARTMENT OF DEFENSE
DESCRIPTION:AGENDA \nWelcome\nDr. Garrett D. Hinshaw\, President of Catawba Valley Community College \n“Recognition of Special Guests and Opening Remarks”\nTammy Everett\, Executive Director\, Defense Alliance of North Carolina (DANC) \n“Department of Defense (DoD) Defense Manufacturing Community Support Program (DMCSP)”\nMichael Mullins\, Director\, North Carolina Defense Industry Initiatives at NC State University Industry Expansion Solutions (IES) \n“Overview of Frontline of the Future”\nDenny Lewis\, Business Development Manager\, Defense Industry\, Economic Development Partnership of North Carolina (EDPNC) \n“‘Reshoring’ A Talent Ecosystem in North Carolina’s Textile Industry: Establishing a Model for Workforce Development” (Pre Recorded presentation)\nLeressa Suber\, Evaluation and Talent Development Specialist and Doctoral Student\, NC State Industry Expansion Solutions (IES) \n“Utilizing Immigrants in Support of North Carolina’s Textile Industry”\nJohn Oswald\, Chief Executive Officer\, Mills Manufacturing Corporation \n“Veterans Transition Programs”\nNathan Huret\, Co-Founder and Chief of Veteran Engagement\, Hickory for Vets \n“Manufacturing Solutions Center Resources and Innovation Facilities”\nJeff Neuville\, Director of Manufacturing Solutions Center \nTour of Catawba Valley Community College Workforce Solutions Complex \nhttp://events.r20.constantcontact.com/register/regform?llr=y644jvdab&oeidk=a07ejehb7ica835d1d0
URL:https://www.ncmbc.us/event/building-a-more-collaborative-advanced-textiles-ecosystem-in-support-of-the-department-of-defense/
LOCATION:Catawba Valley Community College (CVCC) Workforce Solutions Complex\, 2550 US Hwy 70 SE\, Hickory\, NC\, 28602
ATTACH;FMTTYPE=image/png:https://www.ncmbc.us/wp-content/uploads/CD4A360C-471C-4A3B-9C1F-675A4267536B.png
END:VEVENT
BEGIN:VEVENT
DTSTART;TZID=America/New_York:20221027T093000
DTEND;TZID=America/New_York:20221027T160000
DTSTAMP:20260424T195204
CREATED:20221013T185603Z
LAST-MODIFIED:20221013T185622Z
UID:1245-1666863000-1666886400@www.ncmbc.us
SUMMARY:Native Edge Institute (NEI) Business Development Training Event
DESCRIPTION:Join the National Center for American Indian Enterprise Development (NCAIED) for a one-day business development training event\, you will learn about Economic resilience opportunities; Federal program and procurement coaching; Leadership and Marketing\, and Trade/Export and Access to Capital. This is an onsite (to the first 50) and “virtual” hybrid training event that provides both established and small business owners critical business training. \nThursday\, October 27\, 2022 – 9:30am – 4:00pm PDT \nIn person: Nike World Headquarters: Tiger Woods Events Center\, Valderrama Conference Room. One Bowerman Drive\, Beaverton\, OR 97005 \nClick Here to Register 
URL:https://www.ncmbc.us/event/native-edge-institute-nei-business-development-training-event/
LOCATION:Nike World Headquarters\, Tiger Woods Events Center\, Valderrama Conference Center\, One Bowerman Drive\, Beaverton\, OR\, 97005
ATTACH;FMTTYPE=image/jpeg:https://www.ncmbc.us/wp-content/uploads/C21FC783-4817-4203-8FC4-5106A713E180_4_5005_c.jpeg
END:VEVENT
BEGIN:VEVENT
DTSTART;TZID=America/New_York:20221027T120000
DTEND;TZID=America/New_York:20221027T133000
DTSTAMP:20260424T195204
CREATED:20221014T143630Z
LAST-MODIFIED:20221014T143630Z
UID:1251-1666872000-1666877400@www.ncmbc.us
SUMMARY:Havelock Lunch and Learn: How to Develop a Small Business Plan
DESCRIPTION:Topic: Start-up Assistance\nAn effective business plan is vital to the success of a small business. By committing your idea to paper\, you face tough questions and identify strengths and weaknesses. Business plans are not just for financing purposes; they are working documents to guide your business. For new and established small business owners\, the course will start you down the path of small business success. This class will discuss tools necessary to write a business plan that will help raise capital and serve as a guide for your business. \nSpeaker(s): Dr. Jeff Wilke\, Craven Community College Small Business Center Director \nCo-Sponsor(s): Havelock Chamber of Commerce \nFee: No Cost \nRegister Online\nAlready Registered? Sign in for more information.\n\n\n\n\nEmail: sbc@cravencc.edu\n\n\n \n\n\nLocation\n\n\nCraven Community College\nSTEM 126 – Conference Room\nCraven Community College Havelock Campus 305 Cunningham Blvd. Havelock\, NC 28532
URL:https://www.ncmbc.us/event/havelock-lunch-and-learn-how-to-develop-a-small-business-plan/
LOCATION:Craven Community College Havelock Campus\, STEM 126 Conference Room\, 305 Cunningham Blvd\, Havelock\, NC\, 28532
ATTACH;FMTTYPE=image/png:https://www.ncmbc.us/wp-content/uploads/2212DC7B-E0BE-438E-927B-54A55C472798.png
END:VEVENT
BEGIN:VEVENT
DTSTART;TZID=America/New_York:20221027T130000
DTEND;TZID=America/New_York:20221027T143000
DTSTAMP:20260424T195204
CREATED:20221017T132229Z
LAST-MODIFIED:20221017T132229Z
UID:1264-1666875600-1666881000@www.ncmbc.us
SUMMARY:What You Need To Know Before Moving Forward With Your Business Idea
DESCRIPTION:Does the thought of building a business and being your own boss make your heart beat faster? It sounds like you’re an entrepreneur\, but before starting your business journey\, you need to lay the groundwork. \nIn this webinar\, our expert presenter will explain what it means to run a business\, what you should expect\, and how to set yourself up for success. \nBy the end of this webinar\, you will know if you’re ready to move forward with your business idea or if you need more time to prepare. \nYou will learn: \n\nHow to determine “the why” behind your business\nWhat skills and experience should you have\nHow to set personal goals\nWhy it’s essential to have a support system\n\nPresenter: Domenic A Chiarella\n\nAfter running three multimillion-dollar companies\, he created a consortium called The Art of Life\, a business and life development environment helping people find financial and professional success. \nDomenic is an entrepreneur\, author\, coach\, and mentors multiple companies\, including a national brand and talent production firm\, an agritourism company near Rome\, Italy\, a meat and sausage manufacturer\, a New York construction company\, and many landscape/snow removal companies in New England\, Chicago\, New Jersey\, Miami\, and Colorado.
URL:https://www.ncmbc.us/event/what-you-need-to-know-before-moving-forward-with-your-business-idea/
LOCATION:Live Webinar
ATTACH;FMTTYPE=image/jpeg:https://www.ncmbc.us/wp-content/uploads/SCORE.jpg
END:VEVENT
END:VCALENDAR