BEGIN:VCALENDAR
VERSION:2.0
PRODID:-//NCMBC - ECPv6.15.20//NONSGML v1.0//EN
CALSCALE:GREGORIAN
METHOD:PUBLISH
X-WR-CALNAME:NCMBC
X-ORIGINAL-URL:https://www.ncmbc.us
X-WR-CALDESC:Events for NCMBC
REFRESH-INTERVAL;VALUE=DURATION:PT1H
X-Robots-Tag:noindex
X-PUBLISHED-TTL:PT1H
BEGIN:VTIMEZONE
TZID:America/New_York
BEGIN:DAYLIGHT
TZOFFSETFROM:-0500
TZOFFSETTO:-0400
TZNAME:EDT
DTSTART:20210314T070000
END:DAYLIGHT
BEGIN:STANDARD
TZOFFSETFROM:-0400
TZOFFSETTO:-0500
TZNAME:EST
DTSTART:20211107T060000
END:STANDARD
BEGIN:DAYLIGHT
TZOFFSETFROM:-0500
TZOFFSETTO:-0400
TZNAME:EDT
DTSTART:20220313T070000
END:DAYLIGHT
BEGIN:STANDARD
TZOFFSETFROM:-0400
TZOFFSETTO:-0500
TZNAME:EST
DTSTART:20221106T060000
END:STANDARD
BEGIN:DAYLIGHT
TZOFFSETFROM:-0500
TZOFFSETTO:-0400
TZNAME:EDT
DTSTART:20230312T070000
END:DAYLIGHT
BEGIN:STANDARD
TZOFFSETFROM:-0400
TZOFFSETTO:-0500
TZNAME:EST
DTSTART:20231105T060000
END:STANDARD
END:VTIMEZONE
BEGIN:VEVENT
DTSTART;TZID=America/New_York:20221013T080000
DTEND;TZID=America/New_York:20221230T170000
DTSTAMP:20260420T095457
CREATED:20221013T175155Z
LAST-MODIFIED:20221013T175403Z
UID:1239-1665648000-1672419600@www.ncmbc.us
SUMMARY:7(j) Management and Technical Training
DESCRIPTION:We are now enrolling 7(j) Eligible Applicants for new FedMap Capture Cohorts\nThe U.S. Small Business Administration is offering Free training to 7(j) eligible participants in the Federal Market Acceleration Program (FedMap™). \nWhat is FedMap? \nFedMap is a powerful training program guided by certified business development coaches\, who have an average of 25 plus years’ experience winning government contracts.  They use their experience to guide you through the pursuit of a real contract opportunity while following the steps of industry leading capture planning and strategy processes. The FedMap curriculum is flexible to meet your busy schedule. \nHow is FedMap Different? \nFedMap Capture is an action-based curriculum focused on helping you win government contracts. Our BD Coaches help you turn learning into action and action into contract wins. Over 650 companies have gone through FedMap and have already won nearly $2 Billion in new contract awards since completing the program. \nTo learn more about the program and to apply:\nClick Here
URL:https://www.ncmbc.us/event/7j-management-and-technical-training/
LOCATION:Virtual
ATTACH;FMTTYPE=image/jpeg:https://www.ncmbc.us/wp-content/uploads/C21FC783-4817-4203-8FC4-5106A713E180_4_5005_c.jpeg
END:VEVENT
BEGIN:VEVENT
DTSTART;TZID=America/New_York:20221031T080000
DTEND;TZID=America/New_York:20221104T170000
DTSTAMP:20260420T095457
CREATED:20221013T173247Z
LAST-MODIFIED:20221013T173247Z
UID:1234-1667203200-1667581200@www.ncmbc.us
SUMMARY:National Veterans Small Business Week
DESCRIPTION:The U.S. Small Business Administration (SBA) celebrates\, connects\, and empowers service member (including National Guard and Reserve)\, veteran\, and military spouse entrepreneurs and business owners – past\, present\, and future – during National Veterans Small Business Week (NVSBW). \nNVSBW 2022 will take place on October 31-November 4. This year\, we will focus on celebrating the strength and resilience of the veteran and military small business community as they continue to march beyond the events of the pandemic and use what they’ve learned over the past few years to propel their businesses forward. The SBA and its partners will work to connect these small business owners to resources that will help them start\, grow\, or expand their businesses. \nsba.gov/nvsbw
URL:https://www.ncmbc.us/event/national-veterans-small-business-week/
LOCATION:NC
ATTACH;FMTTYPE=image/jpeg:https://www.ncmbc.us/wp-content/uploads/C21FC783-4817-4203-8FC4-5106A713E180_4_5005_c.jpeg
END:VEVENT
BEGIN:VEVENT
DTSTART;TZID=America/New_York:20221101T090000
DTEND;TZID=America/New_York:20221101T103000
DTSTAMP:20260420T095457
CREATED:20220822T113653Z
LAST-MODIFIED:20221031T165139Z
UID:274-1667293200-1667298600@www.ncmbc.us
SUMMARY:Introduction to Federal Contracting
DESCRIPTION:The North Carolina Military Business Center will host “Introduction to Federal Contracting” virtually on November 1\, 2022 from 0900-1030 \nAbout. This training is an introduction to doing business with the federal government. Topics trained include: levels of federal purchasing; how the federal government buys products\, construction and engineering and non-personal services; marketing a business to the federal government; socio-economic small business programs; registering as a federal contractor; locating\, identifying and responding to federal business opportunities; and resources available to assist federal contractors in North Carolina. \nLog-in Credentials.\nWhen: Nov 1\, 2022 09:00 AM Eastern Time (US and Canada)\nTopic: Introduction to Federal Contracting \nPlease click the link below to join the webinar:\nhttps://www.zoomgov.com/j/1602528282?pwd=aWJCSU53Q0ZoNVYwYkJEeHdSMzltdz09 \nPasscode: 933541\nWebinar ID: 160 252 8282
URL:https://www.ncmbc.us/event/lorem-ipsum-dolo-7/
LOCATION:NC
CATEGORIES:Homepage Events
ATTACH;FMTTYPE=image/jpeg:https://www.ncmbc.us/wp-content/uploads/210501-A-VY746-385M-scaled.jpg
END:VEVENT
BEGIN:VEVENT
DTSTART;TZID=America/New_York:20221101T090000
DTEND;TZID=America/New_York:20221101T160000
DTSTAMP:20260420T095457
CREATED:20221019T171701Z
LAST-MODIFIED:20221019T172137Z
UID:1286-1667293200-1667318400@www.ncmbc.us
SUMMARY:REGIONAL SMALL BUSINESS CONTRACTING SYMPOSIUM
DESCRIPTION:The goal of this symposium is to provide detailed information about upcoming opportunities generated on the state level from the recently passed Infrastructure Investment and Jobs ACT (IIJA). \nRepresentatives and DOT leaders from the South Atlantic region\, which includes Kentucky\, North Carolina\, Virginia\, West Virginia\, and DC metro area\, will inform and engage with the small business community to discuss upcoming opportunities in transportation and construction. \nHear from subject matter experts and learn more about Minority Business Development Agency (MBDA) programs\, DOT Operating Administrations and regional DOT leadership initiatives. \nIn person activities include panel discussions and a business expo. \nRegister Online Today: https://cvent.me/raWr3V \nLunch provided to in-person attendees \n*VIRTUAL options available for those unable to travel \nFor additional information contact: sbtrc@theinstituteenc.org \nCLICK HERE TO REGISTER
URL:https://www.ncmbc.us/event/regional-small-business-contracting-symposium/
LOCATION:The Conference Center at Guilford Technical Community College\, 7908 Leabourne Rd.\, Greensboro\, NC\, 27235
ATTACH;FMTTYPE=image/jpeg:https://www.ncmbc.us/wp-content/uploads/B631BCA8-6D10-48F6-9C61-663380EAB698_4_5005_c.jpeg
END:VEVENT
END:VCALENDAR