BEGIN:VCALENDAR
VERSION:2.0
PRODID:-//NCMBC - ECPv6.15.20//NONSGML v1.0//EN
CALSCALE:GREGORIAN
METHOD:PUBLISH
X-ORIGINAL-URL:https://www.ncmbc.us
X-WR-CALDESC:Events for NCMBC
REFRESH-INTERVAL;VALUE=DURATION:PT1H
X-Robots-Tag:noindex
X-PUBLISHED-TTL:PT1H
BEGIN:VTIMEZONE
TZID:America/New_York
BEGIN:DAYLIGHT
TZOFFSETFROM:-0500
TZOFFSETTO:-0400
TZNAME:EDT
DTSTART:20210314T070000
END:DAYLIGHT
BEGIN:STANDARD
TZOFFSETFROM:-0400
TZOFFSETTO:-0500
TZNAME:EST
DTSTART:20211107T060000
END:STANDARD
BEGIN:DAYLIGHT
TZOFFSETFROM:-0500
TZOFFSETTO:-0400
TZNAME:EDT
DTSTART:20220313T070000
END:DAYLIGHT
BEGIN:STANDARD
TZOFFSETFROM:-0400
TZOFFSETTO:-0500
TZNAME:EST
DTSTART:20221106T060000
END:STANDARD
BEGIN:DAYLIGHT
TZOFFSETFROM:-0500
TZOFFSETTO:-0400
TZNAME:EDT
DTSTART:20230312T070000
END:DAYLIGHT
BEGIN:STANDARD
TZOFFSETFROM:-0400
TZOFFSETTO:-0500
TZNAME:EST
DTSTART:20231105T060000
END:STANDARD
END:VTIMEZONE
BEGIN:VEVENT
DTSTART;TZID=America/New_York:20221013T080000
DTEND;TZID=America/New_York:20221230T170000
DTSTAMP:20260424T181912
CREATED:20221013T175155Z
LAST-MODIFIED:20221013T175403Z
UID:1239-1665648000-1672419600@www.ncmbc.us
SUMMARY:7(j) Management and Technical Training
DESCRIPTION:We are now enrolling 7(j) Eligible Applicants for new FedMap Capture Cohorts\nThe U.S. Small Business Administration is offering Free training to 7(j) eligible participants in the Federal Market Acceleration Program (FedMap™). \nWhat is FedMap? \nFedMap is a powerful training program guided by certified business development coaches\, who have an average of 25 plus years’ experience winning government contracts.  They use their experience to guide you through the pursuit of a real contract opportunity while following the steps of industry leading capture planning and strategy processes. The FedMap curriculum is flexible to meet your busy schedule. \nHow is FedMap Different? \nFedMap Capture is an action-based curriculum focused on helping you win government contracts. Our BD Coaches help you turn learning into action and action into contract wins. Over 650 companies have gone through FedMap and have already won nearly $2 Billion in new contract awards since completing the program. \nTo learn more about the program and to apply:\nClick Here
URL:https://www.ncmbc.us/event/7j-management-and-technical-training/
LOCATION:Virtual
ATTACH;FMTTYPE=image/jpeg:https://www.ncmbc.us/wp-content/uploads/C21FC783-4817-4203-8FC4-5106A713E180_4_5005_c.jpeg
END:VEVENT
BEGIN:VEVENT
DTSTART;TZID=America/New_York:20221109T090000
DTEND;TZID=America/New_York:20221110T130000
DTSTAMP:20260424T181912
CREATED:20221013T173744Z
LAST-MODIFIED:20221013T173744Z
UID:1236-1667984400-1668085200@www.ncmbc.us
SUMMARY:Boots to Business Reboot  North Carolina
DESCRIPTION:TWO-DAY INTRODUCTION TO ENTREPRENEURSHIP WORKSHOP\nNovember 9 –10\, 2022\nThe goals and objectives of this workshop are to:  \n1. Assist participants in understanding the steps\, stages\, and activities related to launching and growing a business as a post-military career. \n2. Help participants understand how business ownership might align (or not) with their own personal strength and life goals. \n3. Provide introductory training and orientation to the fundamental tools and strategies associated with executing on plans to launch a new business. \n\nWondering what it takes to be an entrepreneur and how you can prepare? Enroll in Boots to Business Reboot. \n\n\nAbout this event\n\n\n\nOwning a Veteran-Owned Small Business \nVeterans have the character\, discipline and skills needed to succeed as small business owners and entrepreneurs. Wondering what it takes and how you can prepare? Enroll in Boots to Business Reboot. \nAbout Boots to Business Reboot \nBoots to Business Reboot is an entrepreneurial education and training program offered by the U.S. Small Business Administration (SBA). The course provides an overview of entrepreneurship and applicable business ownership fundamentals. Veterans of all eras\, Active Duty Service members (including National Guard and Reserve)\, and spouses are eligible to participate. \nDuring Reboot\, participants are introduced to the skills\, knowledge\, and resources they need to launch a business\, including steps for developing business concepts\, how to develop a business plan\, and information on SBA resources available to help. The program is facilitated by subject matter experts from the SBA and their extensive network of skilled business advisors. \nParticipants that complete an in-person or online B2B Reboot course can elect to further their study through one of many B2B online courses\, offered at no cost to Service members\, Veterans and military spouses. \n\n\n\n\nFunded in part through a Cooperative Agreement with the U.S. Small Business Administration. All opinions\, conclusions\, and/or recommendations expressed herein are those of the author(s) and do not necessarily reflect the views of the SBA. \nReasonable accommodations for persons with disabilities will be made if requested at least two weeks in advance. Contact Sarah Espinosa at 910-672-2683 or sespinos@uncfsu.edu. \n\n\n\n\nWondering what it takes to be an entrepreneur and how you can prepare? Enroll in Boots to Business Reboot. \nClick Here to Register
URL:https://www.ncmbc.us/event/boots-to-business-reboot-north-carolina/
LOCATION:Online event
ATTACH;FMTTYPE=image/jpeg:https://www.ncmbc.us/wp-content/uploads/C21FC783-4817-4203-8FC4-5106A713E180_4_5005_c.jpeg
END:VEVENT
END:VCALENDAR