BEGIN:VCALENDAR
VERSION:2.0
PRODID:-//NCMBC - ECPv6.15.20//NONSGML v1.0//EN
CALSCALE:GREGORIAN
METHOD:PUBLISH
X-ORIGINAL-URL:https://www.ncmbc.us
X-WR-CALDESC:Events for NCMBC
REFRESH-INTERVAL;VALUE=DURATION:PT1H
X-Robots-Tag:noindex
X-PUBLISHED-TTL:PT1H
BEGIN:VTIMEZONE
TZID:America/New_York
BEGIN:DAYLIGHT
TZOFFSETFROM:-0500
TZOFFSETTO:-0400
TZNAME:EDT
DTSTART:20220313T070000
END:DAYLIGHT
BEGIN:STANDARD
TZOFFSETFROM:-0400
TZOFFSETTO:-0500
TZNAME:EST
DTSTART:20221106T060000
END:STANDARD
BEGIN:DAYLIGHT
TZOFFSETFROM:-0500
TZOFFSETTO:-0400
TZNAME:EDT
DTSTART:20230312T070000
END:DAYLIGHT
BEGIN:STANDARD
TZOFFSETFROM:-0400
TZOFFSETTO:-0500
TZNAME:EST
DTSTART:20231105T060000
END:STANDARD
BEGIN:DAYLIGHT
TZOFFSETFROM:-0500
TZOFFSETTO:-0400
TZNAME:EDT
DTSTART:20240310T070000
END:DAYLIGHT
BEGIN:STANDARD
TZOFFSETFROM:-0400
TZOFFSETTO:-0500
TZNAME:EST
DTSTART:20241103T060000
END:STANDARD
END:VTIMEZONE
BEGIN:VEVENT
DTSTART;TZID=America/New_York:20230111T080000
DTEND;TZID=America/New_York:20230111T170000
DTSTAMP:20260420T003006
CREATED:20221215T193606Z
LAST-MODIFIED:20221215T193606Z
UID:1494-1673424000-1673456400@www.ncmbc.us
SUMMARY:Seymour Johnson Air Force Base Vendor Industry Day
DESCRIPTION:Seymour Johnson Air Force Base Vendor Industry Day\nJanuary 11\, 2023 * Seymour Johnson AFB\nThe 4th Contracting Squadron will be hosting a Vendor Industry Day 11 January 2023. The intent of this Vendor Industry Day event is to invite vendors/contractors to share their capabilities with the Air Force to provide new capabilities or better fulfill anticipated requirements. This is an opportunity for Industry to propose new and innovative solutions to the 4th Fighter Wing at Seymour Johnson Air Force Base. The areas of interest are Warehouse Modernization\, Jet/Facility Maintenance\, Emergency Management Software\, Civil Engineering Solutions\, and Base Security however additional ideas for innovation are welcomed. \nSee the below table for highlights the lists of categories and some ideas within those categories. The ideas within those categories are NOT solely what the Government is looking for\, merely some suggestions. \n \nAdditionally\, the government is requesting industry to provide a statement of capability in preparation for the Industry Day.  The statement of capability shall consist of not more than 10 pages describing the responder’s ability to demonstrate. Companies planning to participate in the Industry Day activities shall provide one consolidated attendance request\, with the company name\, point of contact\, title\, email address\, phone number\, whether or not a one-on-one session is desired\, and to fill out and send Attachment 2 (available on the SAM.gov posting). \nAll questions are due by 20 December 2022. \nThe government does not intend to award a contract on the basis of this request. The government will not reimburse costs associated with the documentation submitted under this request. Responders are solely responsible for all expenses associated with responding to this inquiry. \nPoints of contact: \n\nLt. Darren Ostrander: darren.ostrander.1@us.af.mil\nIan Woods: ian.woods.2@us.af.mil\n\nFOR MORE INFORMATION
URL:https://www.ncmbc.us/event/seymour-johnson-air-force-base-vendor-industry-day/
LOCATION:Seymour Johnson AFB
ATTACH;FMTTYPE=image/jpeg:https://www.ncmbc.us/wp-content/uploads/7D3CD52D-0486-45C8-99ED-EA2290824B56_4_5005_c.jpeg
END:VEVENT
BEGIN:VEVENT
DTSTART;TZID=America/New_York:20230111T090000
DTEND;TZID=America/New_York:20230111T103000
DTSTAMP:20260420T003006
CREATED:20220921T193506Z
LAST-MODIFIED:20220921T193506Z
UID:1042-1673427600-1673433000@www.ncmbc.us
SUMMARY:INTRODUCTION TO FEDERAL CONTRACTING
DESCRIPTION:The North Carolina Military Business Center will host “Introduction to Federal Contracting” virtually on the following dates: \n\nJanuary 11\, 2023 from 0900-1030\nApril 19\, 2023 from 0900-1030\nAugust 16\, 2023 from 0900-1030\nDecember 6\, 2023 from 0900-1030\n\nAbout. This training is an introduction to doing business with the federal government. Topics trained include: levels of federal purchasing; how the federal government buys products\, construction and engineering and non-personal services; marketing a business to the federal government; socio-economic small business programs; registering as a federal contractor; locating\, identifying and responding to federal business opportunities; and resources available to assist federal contractors in North Carolina. \nRegistration. This is a free webinar; however\, pre-registration is required in order to receive the virtual platform credentials. Credentials will be emailed out a few days prior to the training. \nRegister
URL:https://www.ncmbc.us/event/introduction-to-federal-contracting/
LOCATION:Virtual
CATEGORIES:Homepage Events
ATTACH;FMTTYPE=image/jpeg:https://www.ncmbc.us/wp-content/uploads/image-1-scaled.jpeg
END:VEVENT
END:VCALENDAR