BEGIN:VCALENDAR
VERSION:2.0
PRODID:-//NCMBC - ECPv6.15.20//NONSGML v1.0//EN
CALSCALE:GREGORIAN
METHOD:PUBLISH
X-WR-CALNAME:NCMBC
X-ORIGINAL-URL:https://www.ncmbc.us
X-WR-CALDESC:Events for NCMBC
REFRESH-INTERVAL;VALUE=DURATION:PT1H
X-Robots-Tag:noindex
X-PUBLISHED-TTL:PT1H
BEGIN:VTIMEZONE
TZID:America/New_York
BEGIN:DAYLIGHT
TZOFFSETFROM:-0500
TZOFFSETTO:-0400
TZNAME:EDT
DTSTART:20220313T070000
END:DAYLIGHT
BEGIN:STANDARD
TZOFFSETFROM:-0400
TZOFFSETTO:-0500
TZNAME:EST
DTSTART:20221106T060000
END:STANDARD
BEGIN:DAYLIGHT
TZOFFSETFROM:-0500
TZOFFSETTO:-0400
TZNAME:EDT
DTSTART:20230312T070000
END:DAYLIGHT
BEGIN:STANDARD
TZOFFSETFROM:-0400
TZOFFSETTO:-0500
TZNAME:EST
DTSTART:20231105T060000
END:STANDARD
BEGIN:DAYLIGHT
TZOFFSETFROM:-0500
TZOFFSETTO:-0400
TZNAME:EDT
DTSTART:20240310T070000
END:DAYLIGHT
BEGIN:STANDARD
TZOFFSETFROM:-0400
TZOFFSETTO:-0500
TZNAME:EST
DTSTART:20241103T060000
END:STANDARD
END:VTIMEZONE
BEGIN:VEVENT
DTSTART;TZID=America/New_York:20230331T080000
DTEND;TZID=America/New_York:20230331T090000
DTSTAMP:20260419T094327
CREATED:20230328T162926Z
LAST-MODIFIED:20230328T162926Z
UID:2058-1680249600-1680253200@www.ncmbc.us
SUMMARY:DEFTECH Coffee Call Early Bird Session: Hybrid in-person & virtual
DESCRIPTION:DEFTECH Coffee Call Early Bird Session \nFriday\, March 31\, 2023\, 0800 – 0900 am ET DEFTECH “Early Bird” “Hybrid”  in-person & virtual Coffee Call \n(TEAMS Link Below) \nTopic: Textile Sciences\, Nano-Hybrid LED Fiber Yarn Innovations \nGuest Speakers:  \n\nMatthew Kolmes\, CEO of Supreme Corporation\, USA\nRakkiyappan Chandran PhD\, Principal Scientist at Supreme Corporation\, USA\nLee Moritz\, Textile Industry Professional\, NC Military Business Center\n\nLocation: TEAMS Call or In-Person at: The Manufacturing Solutions Center II\, 350 5th Ave SE\, Conover\, NC 28613  www.manufacturingsolutionscenter.org \nRegistration (In-Person Only): Please use the following link to assist DEFTECH with the headcount for those who wish to attend in person.  We recommend that you arrive by 745 am.  You only need to register 1 time for the in-person session (8 am – 10 am).\nPlease register by 12 noon\, Wednesday March 29\, 2023. \nRegistration for the DEFTECH In-Person Coffee Call Friday March 31\, 2023\, 8 – 10 am ET\nIf you are Not attending In-Person\, there is no need to register. The link for all Coffee Calls this year is the same (link at the bottom). Thank you\, and we look forward to joining you on Friday for the In-Person Coffee Call. \nSupreme Corporation – Advanced Yarn Technologies \nSupreme Corporation – Advanced Yarn Technologies Advanced Textile Science 58 Years in Business 8 Innovation Awards 64 Patents 14 Patents Pending Explore Our Yarn Solutions TUFF-N-LITE® PPE Our Tuff-N-Lite® material is ounce for ounce up to 15 times stronger than steel — but it’s as soft and flexible as cotton. \nMatthew Kolmes\nMr. Kolmes is the CEO of Supreme Corporation\, USA. Supremes’ Mission is to make the highest quality cut\, slash\, and abrasion resistant yarns\, fabrics\, and safety products in the world\, utilizing proprietary coatings engineered to provide antimicrobial\, flame retardant (FR)\, durable water repellent (DWR)\, and other desired protective finishes.  Supreme celebrated its fifty eighth year in business this July\, and has engineered yarns\, fabrics\, and safety products for such prestigious organizations including the Japanese Police Department\, Holland SWAT\, The Italian Ministry of Defense\, Beijing SWAT\, and in America for the New York Police Department (NYPD). Supreme engineers a diverse array of extremely high-tech yarns\, including those that are used for body implants and medical devices\, and conductive and reflective yarns used for Military\, Police\, Sports\, and Motorcycling applications. Our latest projects include Heated Gloves for the Military\, Medicine Releasing yarns and fabrics\, Anti-viral finish that kills viruses on contact\, Geo-location and impact sensing shirts\, with vital sign monitoring for Soldiers\, First Responders\, Police and Athletes. Matt’s focus has been on developing platforms of products that improve health and well-being or lead to intervention and prevention of fatalities. \nRakkiyappan Chandran PhD\nRakkiyappan Chandran is the Principal Scientist at Supreme Corporation with more than 8 years of diversified experience and specialized training from Harvard-MIT research laboratories. His strong background in polymeric biomaterials science and engineering has allowed his research to be particularly unique\, with applications such as novel nanostructured polymeric surfaces\, nanotechnology\, and treatments for disease. His expertise is in the field of nano-polymeric biomaterials and encapsulation formulation\, photodynamic therapy\, polymer processing & characterization\, composite fibers\, and smart textiles. At Supreme Corporation Dr.Chandran leads the R&D to new product and process development\, quality improvement\, and cost reduction. He undertook many industrial and academic project for execution and management\, from technology transfer to commercialization of new products.\n2023 DEFTECH Coffee Call Connection Instructions: \nMicrosoft Teams meeting \nJoin on your computer\, mobile app\, or room device  \nClick here to join the meeting \nMeeting ID: 286 586 268 492\nPasscode: SG3mYd \nDownload Teams | Join on the web \nOr call in (audio only) \n+1 980-296-2533\,\,849190916#   United States\, Charlotte \nPhone Conference ID: 849 190 916# \nFind a local number \nQuestions or assistance\, contact:\nNorth Carolina Defense Technology Transition Office (DEFTECH) \nDennis Lewis\nlewisd@ncmbc.us\n703-217-3127 \nBob Burton\nburtonr@ncmbc.us\n910-824-9609
URL:https://www.ncmbc.us/event/deftech-coffee-call-early-bird-session-hybrid-in-person-virtual/
LOCATION:The Manufacturing Solutions Center II\, 350 5th Avenue\, Conover\, NC\, 28613
ATTACH;FMTTYPE=image/jpeg:https://www.ncmbc.us/wp-content/uploads/97EA8876-55BE-4BA1-823D-EB9EE0C4DE5B_4_5005_c.jpeg
END:VEVENT
END:VCALENDAR