BEGIN:VCALENDAR
VERSION:2.0
PRODID:-//NCMBC - ECPv6.15.20//NONSGML v1.0//EN
CALSCALE:GREGORIAN
METHOD:PUBLISH
X-ORIGINAL-URL:https://www.ncmbc.us
X-WR-CALDESC:Events for NCMBC
REFRESH-INTERVAL;VALUE=DURATION:PT1H
X-Robots-Tag:noindex
X-PUBLISHED-TTL:PT1H
BEGIN:VTIMEZONE
TZID:America/New_York
BEGIN:DAYLIGHT
TZOFFSETFROM:-0500
TZOFFSETTO:-0400
TZNAME:EDT
DTSTART:20230312T070000
END:DAYLIGHT
BEGIN:STANDARD
TZOFFSETFROM:-0400
TZOFFSETTO:-0500
TZNAME:EST
DTSTART:20231105T060000
END:STANDARD
BEGIN:DAYLIGHT
TZOFFSETFROM:-0500
TZOFFSETTO:-0400
TZNAME:EDT
DTSTART:20240310T070000
END:DAYLIGHT
BEGIN:STANDARD
TZOFFSETFROM:-0400
TZOFFSETTO:-0500
TZNAME:EST
DTSTART:20241103T060000
END:STANDARD
BEGIN:DAYLIGHT
TZOFFSETFROM:-0500
TZOFFSETTO:-0400
TZNAME:EDT
DTSTART:20250309T070000
END:DAYLIGHT
BEGIN:STANDARD
TZOFFSETFROM:-0400
TZOFFSETTO:-0500
TZNAME:EST
DTSTART:20251102T060000
END:STANDARD
END:VTIMEZONE
BEGIN:VEVENT
DTSTART;TZID=America/New_York:20240103T090000
DTEND;TZID=America/New_York:20240103T100000
DTSTAMP:20260424T122536
CREATED:20231120T192912Z
LAST-MODIFIED:20231120T193331Z
UID:2794-1704272400-1704276000@www.ncmbc.us
SUMMARY:Introduction to National Stock Numbers (NSNs)
DESCRIPTION:Join the North Carolina Military Business Center for “Introduction to National Stock Numbers (NSNs)” on January 3\, 2024 at 0900.  This webinar is a prerequisite to the “How to Bid on National Stock Number Items By Becoming an Approved Source” occurring on January 10\, 2024. \nWhen. January 3\, 2024 at 0900 \nIn this session you will learn\n\n\nwhat a National Stock Number is\,\n\n\nwho issues them and their purpose\, and\n\n\nwhy they may be important to your business.\n\n\nRegistration. This is a free event; however registration is required in order to receive the log-in credentials the day prior to the training. \nTo register\, click here.
URL:https://www.ncmbc.us/event/introduction-to-national-stock-numbers-nsns/
LOCATION:NC
CATEGORIES:Homepage Events
END:VEVENT
BEGIN:VEVENT
DTSTART;TZID=America/New_York:20240110T100000
DTEND;TZID=America/New_York:20240110T110000
DTSTAMP:20260424T122536
CREATED:20240104T174227Z
LAST-MODIFIED:20240109T130504Z
UID:2916-1704880800-1704884400@www.ncmbc.us
SUMMARY:How to Bid on National Stock Number Items By Becoming an Approved Source
DESCRIPTION:Join the North Carolina Military Business Center for a webinar on “How to Bid on National Stock Number Items By Becoming an Approved Source” with guest speaker\, Jamie Spangler\, Contracting Officer and SAR/AO Monitor with Defense Logistics Agency (DLA) Land and Maritime. \nWhen. January 10\, 2024 at 10:00 am. \nAbout. In this session you will learn how to submit a request to become an approved source for a product that has already been issued an NSN.  DLA’s Land and Maritime expert on Source Approval Request (SAR) packages will teach how to successfully add your product to an existing NSN. If you would like to have a National Stock Number (NSN) for something you manufacture\, this may be a way for you to go. \nThis one-hour session is presented by Jamie Spangler\, a Contracting Officer\, Procurement Analyst\, and Source Approval Request and Alternate Offer Monitor for DLA Land and Maritime at Defense Supply Center Columbus.​​​​ \nREGISTER HERE
URL:https://www.ncmbc.us/event/how-to-bid-on-national-stock-number-items-by-becoming-an-approved-source/
LOCATION:Live Webinar
CATEGORIES:Homepage Events
ATTACH;FMTTYPE=image/png:https://www.ncmbc.us/wp-content/uploads/ncmbclogo.png
END:VEVENT
BEGIN:VEVENT
DTSTART;TZID=America/New_York:20240117T090000
DTEND;TZID=America/New_York:20240117T103000
DTSTAMP:20260424T122536
CREATED:20231116T173133Z
LAST-MODIFIED:20231116T173133Z
UID:2772-1705482000-1705487400@www.ncmbc.us
SUMMARY:2024 Introduction to Federal Contracting
DESCRIPTION:The North Carolina Military Business Center will host “Introduction to Federal Contracting” virtually on the following dates: \n\nJanuary 17\, 2024 from 0900-1030\nMay 22\, 2024 from 0900-1030\nSeptember 11\, 2024 from 0900-1030\nDecember 11\, 2024 from 0900-1030\n\nAbout. This training is an introduction to doing business with the federal government. Topics trained include: levels of federal purchasing; how the federal government buys products\, construction and engineering and non-personal services; marketing a business to the federal government; socio-economic small business programs; registering as a federal contractor; locating\, identifying and responding to federal business opportunities; and resources available to assist federal contractors in North Carolina. \nRegistration. This is a free webinar; however\, pre-registration is required in order to receive the virtual platform credentials. Credentials will be emailed out a few days prior to the training. \nRegister
URL:https://www.ncmbc.us/event/2024-introduction-to-federal-contracting/
LOCATION:Webinar
CATEGORIES:Homepage Events
ATTACH;FMTTYPE=image/jpeg:https://www.ncmbc.us/wp-content/uploads/image-1-scaled.jpeg
END:VEVENT
BEGIN:VEVENT
DTSTART;TZID=America/New_York:20240124T080000
DTEND;TZID=America/New_York:20240308T170000
DTSTAMP:20260424T122536
CREATED:20240124T160628Z
LAST-MODIFIED:20240124T162311Z
UID:3060-1706083200-1709917200@www.ncmbc.us
SUMMARY:Request for Research Proposals to Womack Army Medical Center (WAMC)
DESCRIPTION:Thank you for attending the Military Medical Innovation Operational (MIO) Forum on December 7\, 2023\, in Fayetteville\, North Carolina hosted by Womack Army Medical Center (WAMC)\, Fort Liberty\, NC; the North Carolina Military Business Center; the North Carolina Defense Technology Transition Office (DEFTECH); and Fayetteville Technical Community College (FTCC). \nA friendly reminder for submissions.  Industry\, academic\, and military partners may submit research proposals to Womack Army Medical Center (WAMC) by March 8\, 2024 via dha.liberty.womack-amc.mbx.me-dci-triage@health.mil. This email box can also be used to ask questions during this submission phase. WAMC will review all proposals and respond to submitters within 45 days. \nSubmission and Review Format: \n\nFull name of proposer.\nDepartment/Organization name.\nContact information (email and phone).\nTitle\nAbstract summary (100-word limit)\nProposal Narrative (3-page limit\, 12-font\, single space):\nRationale\nObjectives/Specific AIMS/Hypotheses\nMethodology\nAnticipated Deliverables with Timeline\nRelevance and Impact\nReferences\nQuad Chart via PowerPoint Slide\nTitle with date\, name\, organization\, and contact information\nTechnology with brief description\nDeliverables\nMilitary operational impact (include identified gap\, specific objectives/goals)\nTimeline\n\nThe views expressed herein do not necessarily reflect the official policy of the Department of the Army\, Defense Health Agency\, Department of Defense\, or the US Government. \nAll submissions are confidential. If you/your organization requires a non-disclosure agreement\, please let Womack know before your submission.
URL:https://www.ncmbc.us/event/request-for-research-proposals-to-womack-army-medical-center-wamc/
LOCATION:Email Submissions
CATEGORIES:Homepage Events
ATTACH;FMTTYPE=image/webp:https://www.ncmbc.us/wp-content/uploads/WAMC-logo.webp
END:VEVENT
BEGIN:VEVENT
DTSTART;TZID=America/New_York:20240126T080000
DTEND;TZID=America/New_York:20240126T100000
DTSTAMP:20260424T122536
CREATED:20240123T175122Z
LAST-MODIFIED:20240123T181029Z
UID:3049-1706256000-1706263200@www.ncmbc.us
SUMMARY:DEFTECH Coffee Call: FBI Defining the Technology Threat Landscape for Small Businesses
DESCRIPTION:This event is aimed at securing and growing the defense economy in North Carolina\, which is a vital part of the DEFTECH Tech Protect Initiative. Attendees will gain valuable insights into current counterintelligence threats and protective measures they can take now to prepare. \nWHEN: Friday\, January 26\, 2024\nWHERE: First Flight Venture Center\, 2 Davis Drive\, RTP (virtual option below) \nAGENDA: \n\n8:00 – 8:15 AM (EST): DEFTECH Tech Protect Overview and Updates\n8:15 – 8:45 AM (EST): DotBliss journey in the Army xTech Search Prize Competition\n8:45 – 9:00 AM (EST): SA Don Anderson\, Overview of the 2024 NC RED DART Meeting\n9:00 – 10:00 AM (EST): FBI Defining the Technology Threat Landscape for Small Businesses\n\nImportant topics covered include: \n\nCurrent Counterintelligence Threats\nForeign Adversarial Targeting\nChina’s Approach to Technology Transfer\nSocial Media Targeting\nRecent CI Case Studies\nArmy Research Office Research Protection Plan\n\nDistinguished Guest Speakers: \n\nS. Heath Wilson: US Army Counterintelligence Special Agent\, Raleigh CI Task Force\nKlinton Snead: DEVCOM Army Research Laboratory\, US Army Futures Command\nSA Don Anderson\, FBI – Raleigh\n\nAttend In-Person: Engage directly with experts\, network with peers\, and participate in in-depth discussions. REGISTER to attend in-person \nAttend Virtually: Access crucial information and insights conveniently from anywhere. \nREGISTER TODAY and join a community shaping the future of national security\, with a comprehensive understanding of the defense landscape and how your company can be part of securing the future of defense technology in NC. \n*Coffee Call Connection Options*\n1. Join via Teams on your computer\, mobile app or room device \nClick here to join the meeting\nMeeting ID: 266 787 473 943  Passcode: Q7zfHp\nDownload Teams | Join on the web\n2. Call in (audio only)\n+1 980-296-2533\,\,802776946# United States\, Charlotte\nPhone Conference ID: 802 776 946#\nFind a local number | Reset PIN\nLearn More | Meeting options \nNC Defense Innovation Calendar
URL:https://www.ncmbc.us/event/deftech-coffee-call-fbi-defining-the-technology-threat-landscape-for-small-businesses/
LOCATION:First Flight Venture Center\, 2 Davis Drive\, Research Triangle Park\, NC\, 27709\, United States
CATEGORIES:Homepage Events
ATTACH;FMTTYPE=image/jpeg:https://www.ncmbc.us/wp-content/uploads/97EA8876-55BE-4BA1-823D-EB9EE0C4DE5B_4_5005_c.jpeg
END:VEVENT
END:VCALENDAR