BEGIN:VCALENDAR
VERSION:2.0
PRODID:-//NCMBC - ECPv6.15.20//NONSGML v1.0//EN
CALSCALE:GREGORIAN
METHOD:PUBLISH
X-ORIGINAL-URL:https://www.ncmbc.us
X-WR-CALDESC:Events for NCMBC
REFRESH-INTERVAL;VALUE=DURATION:PT1H
X-Robots-Tag:noindex
X-PUBLISHED-TTL:PT1H
BEGIN:VTIMEZONE
TZID:America/New_York
BEGIN:DAYLIGHT
TZOFFSETFROM:-0500
TZOFFSETTO:-0400
TZNAME:EDT
DTSTART:20240310T070000
END:DAYLIGHT
BEGIN:STANDARD
TZOFFSETFROM:-0400
TZOFFSETTO:-0500
TZNAME:EST
DTSTART:20241103T060000
END:STANDARD
BEGIN:DAYLIGHT
TZOFFSETFROM:-0500
TZOFFSETTO:-0400
TZNAME:EDT
DTSTART:20250309T070000
END:DAYLIGHT
BEGIN:STANDARD
TZOFFSETFROM:-0400
TZOFFSETTO:-0500
TZNAME:EST
DTSTART:20251102T060000
END:STANDARD
BEGIN:DAYLIGHT
TZOFFSETFROM:-0500
TZOFFSETTO:-0400
TZNAME:EDT
DTSTART:20260308T070000
END:DAYLIGHT
BEGIN:STANDARD
TZOFFSETFROM:-0400
TZOFFSETTO:-0500
TZNAME:EST
DTSTART:20261101T060000
END:STANDARD
END:VTIMEZONE
BEGIN:VEVENT
DTSTART;TZID=America/New_York:20250502T080000
DTEND;TZID=America/New_York:20250502T100000
DTSTAMP:20260424T072646
CREATED:20250430T141935Z
LAST-MODIFIED:20250430T141935Z
UID:4770-1746172800-1746180000@www.ncmbc.us
SUMMARY:Warfighter Ready: Innovation Briefings from Lab to Battlefield
DESCRIPTION:Join us on Friday\, May 2\, for a two-part session that spotlights cutting-edge defense innovation efforts and funding opportunities to accelerate the transition of new technologies.   \nWhere: First Flight Venture Center\, 2 Davis Drive\, Durham NC 27709\nThis is a free event; however\, registration is required for both in-person and virtual participation. \n8:00a – 9:00a\nSpeaker: Laurra Winters\, Director of the Navy Clothing and Textile Research Facility (NCTRF) \nWhat you’ll learn: \n\nHear from the NCTRF about the military’s evolving textile and nonwoven needs\nInsights into innovations designed to enhance protection\, performance\, and survivability\, from smart fabrics equipped with health monitoring sensors to advanced materials addressing radar\, infrared\, and environmental challenges across various climates\n\n9:00a – 10:00a\nSpeaker: DARPA SBIR/STTR Program Office\n \nWhat you’ll learn:\n \n\nHow to compete for high-impact\, non-dilutive funding through one of the most competitive and transformational innovation programs in the federal government\nDiscover priority technology areas\, upcoming opportunities\, proposal best practices\, and stories of successful transitions from past awardees.  \n\nRegister
URL:https://www.ncmbc.us/event/warfighter-ready-innovation-briefings-from-lab-to-battlefield/
LOCATION:First Flight Venture Center\, 2 Davis Drive\, Research Triangle Park\, NC\, 27709\, United States
CATEGORIES:Homepage Events
ATTACH;FMTTYPE=image/png:https://www.ncmbc.us/wp-content/uploads/Picture2-e1746022758845.png
END:VEVENT
BEGIN:VEVENT
DTSTART;TZID=America/New_York:20250509T080000
DTEND;TZID=America/New_York:20250509T100000
DTSTAMP:20260424T072646
CREATED:20250430T142541Z
LAST-MODIFIED:20250508T155713Z
UID:4777-1746777600-1746784800@www.ncmbc.us
SUMMARY:Textiles in Action: Fueling Defense Manufacturing at NC State
DESCRIPTION:Join us at the Wilson College of Textiles\, NC State University\, for a focused session exploring cutting-edge advancements in defense manufacturing and textile innovation. The event will highlight textile-related programs and initiatives that are boosting defense manufacturing. Don’t miss this opportunity to connect with leaders and align your capabilities with the future needs of national defense and sustainable manufacturing. \nWhen: May 9\, 2025 from 8- 10 a.m.\nWhere: Zeis Textiles Extension (ZTE) Classroom\, Wilson College of Textiles\, Centennial Campus\, NC State University\, Raleigh\, NC\n*Virtual option available.  \nAgenda Highlights: \n\nMichael Mullins (8:00–8:45 AM) – Overview of IES and the Defense Manufacturing Community Support Program (DMCSP)\nMelissa Sharp (8:45–9:15 AM) – Insights into the NSF Engines Grant and its impact\nAndre West (9:15–10:00 AM) – Flex Factory overview: A look at capabilities and collaboration opportunities in sustainable textile innovation\n\nAttendees can also join the NC Defense Manufacturing Community Support Program (DMCSP) meeting at 10:00 AM. \nRegistration: This is a free event; however\, registration is required for both in-person and virtual participation \nRegister
URL:https://www.ncmbc.us/event/textiles-in-action-fueling-defense-manufacturing-at-nc-state/
LOCATION:NCSU\, 1020 Main Campus Drive\, Raleigh\, NC\, 27606
CATEGORIES:Homepage Events
ATTACH;FMTTYPE=image/png:https://www.ncmbc.us/wp-content/uploads/Picture2-e1746022758845.png
END:VEVENT
BEGIN:VEVENT
DTSTART;TZID=America/New_York:20250513T090000
DTEND;TZID=America/New_York:20250514T143000
DTSTAMP:20260424T072646
CREATED:20250218T173057Z
LAST-MODIFIED:20250513T111423Z
UID:4635-1747126800-1747233000@www.ncmbc.us
SUMMARY:DLA Energy Industry Day for COG4 Ground Fuels
DESCRIPTION:The Defense Logistics Agency (DLA) Energy will host an Industry Day to inform current and potential contractors about the COG 4 region Ground Fuels contract opportunity.  COG4 includes fuel delivery sites in the following states: Alabama\, Arkansas\, Florida\, Georgia\, Louisiana\, Missouri\, Mississippi\, North Carolina and South Carolina. The North Carolina Military Business Center (NCMBC)\, an entity of the State of North Carolina\, will host and logistically support the DLA Energy Industry Day.   \n\n\nWhen: May 13-14\, 2025 starting at 9:00 am – 2:30 pm on both days.  \n\n\nWhere:  This will be a virtual event\, credentials will be provided closer to the event.  Registration is required.   \n\n\nWhat: Topics to be discussed include: how to do business with DLA Energy\, details of the COG4 Ground Fuels contract\, bidding opportunities and processes applicable to this contract\, etc.  Optional opportunities for one-on-one meetings with DLA Energy staff members will be available for scheduling following the event on the registration form.  \n\n\nWho: Potential prime and subcontractors able to deliver fuels to one or more delivery points in any of the COG4 states are encouraged to participate. \nSPE607-25-R-0201 is a DDF Intoplane solicitation for procurement of various petroleum fuel products for delivery to support Department of Defense (DoD) activities and Federal Civilian agencies at various commercial airports in: Connecticut\, Massachusetts\, Maine\, New Hampshire\, New York\, Rhode Island\, Vermont\, Delaware\, Maryland\, New Jersey\, Pennsylvania\, Virginia\, District of Columbia\, Florida\, Georgia\, North Carolina\, South Carolina\, Puerto Rico\, Virgin Islands and Canada. \nAll offers are due by not later than Friday\, 23 May 2025\, at 1:00 PM EDT. \nThe full solicitation can be viewed here: https://sam.gov/opp/5ee37f5b9ead45f28021e46f7f58c1db/view \nAgenda.  \n\n\n\n\nREGISTER
URL:https://www.ncmbc.us/event/dla-energy-small-business-outreach-event-for-cog4-ground-fuels/
LOCATION:NC
CATEGORIES:Homepage Events
ATTACH;FMTTYPE=image/png:https://www.ncmbc.us/wp-content/uploads/Screenshot-2025-02-18-at-1.14.28 PM.png
END:VEVENT
BEGIN:VEVENT
DTSTART;TZID=America/New_York:20250515T090000
DTEND;TZID=America/New_York:20250515T100000
DTSTAMP:20260424T072646
CREATED:20250430T181240Z
LAST-MODIFIED:20250508T133511Z
UID:4789-1747299600-1747303200@www.ncmbc.us
SUMMARY:5/15 - Opps Talk: R&D
DESCRIPTION:Opps Talk is a virtual forum spotlighting key federal R&D opportunities for North Carolina’s innovation ecosystem. Each session features timely\, high-impact solicitations from agencies like DoD\, DOE\, DHS\, and others — including SBIR/STTR topics\, BAAs\, and significant announcements. Designed to keep innovators informed and engaged\, Opps Talk connects businesses\, researchers\, and partners with the federal R&D landscape in a fast\, focused format — helping turn opportunity into action. \nParticipants are encouraged to ask questions and schedule an appointment for one-on-one technical assistance. \nMicrosoft Teams Need help?\nJoin the meeting now\nMeeting ID: 282 010 451 93\nPasscode: Uj9G8p5w
URL:https://www.ncmbc.us/event/5-15-opps-talk/
LOCATION:Online
CATEGORIES:Homepage Events
ATTACH;FMTTYPE=image/jpeg:https://www.ncmbc.us/wp-content/uploads/Untitled-design.jpg
END:VEVENT
BEGIN:VEVENT
DTSTART;TZID=America/New_York:20250522T090000
DTEND;TZID=America/New_York:20250522T100000
DTSTAMP:20260424T072646
CREATED:20250430T181408Z
LAST-MODIFIED:20250519T161419Z
UID:4790-1747904400-1747908000@www.ncmbc.us
SUMMARY:5/22 - Opps Talk: R&D
DESCRIPTION:Opps Talk is a virtual forum spotlighting key federal R&D opportunities for North Carolina’s innovation ecosystem. Each session features timely\, high-impact solicitations from agencies like DoD\, DOE\, DHS\, and others — including SBIR/STTR topics\, BAAs\, and significant announcements. Designed to keep innovators informed and engaged\, Opps Talk connects businesses\, researchers\, and partners with the federal R&D landscape in a fast\, focused format — helping turn opportunity into action. \nParticipants are encouraged to ask questions and schedule an appointment for one-on-one technical assistance. \nOpportunities to be discussed include: \n\nNext Generation Command and Control (NGC2) – Commercial Solutions Opening (CSO)\nNight Vision Devices\nDSIP (Defense SBIR/STTR Innovation Portal)\n\nMicrosoft Teams Need help?\nJoin the meeting now\nMeeting ID: 282 010 451 93\nPasscode: Uj9G8p5w
URL:https://www.ncmbc.us/event/5-22-opps-talk/
LOCATION:Online
CATEGORIES:Homepage Events
ATTACH;FMTTYPE=image/jpeg:https://www.ncmbc.us/wp-content/uploads/Untitled-design.jpg
END:VEVENT
BEGIN:VEVENT
DTSTART;TZID=America/New_York:20250529T090000
DTEND;TZID=America/New_York:20250529T100000
DTSTAMP:20260424T072646
CREATED:20250430T181515Z
LAST-MODIFIED:20250527T154223Z
UID:4791-1748509200-1748512800@www.ncmbc.us
SUMMARY:5/29 - Opps Talk: R&D
DESCRIPTION:Opps Talk is a virtual forum spotlighting key federal R&D opportunities for North Carolina’s innovation ecosystem. Each session features timely\, high-impact solicitations from agencies like DoD\, DOE\, DHS\, and others — including SBIR/STTR topics\, BAAs\, and significant announcements. Designed to keep innovators informed and engaged\, Opps Talk connects businesses\, researchers\, and partners with the federal R&D landscape in a fast\, focused format — helping turn opportunity into action. \nParticipants are encouraged to ask questions and schedule an appointment for one-on-one technical assistance. \nThis is a free virtual session. \nOpportunities to be discussed include: \n\nMissile Defense Agency (MDA) Multiple Award IDIQ Contract\nERIS Special Topic Area – Industrial Base Research and Experimentation Events\nTechnical Support and Operational Analysis (TSOA) Defense-in-Depth Experiment (DiDEX) 25 Request for Information Counter-small Unmanned Aircraft System (C-sUAS) and other Small Unmanned Systems (UxS) Including Surface and Water\n\nMicrosoft Teams Need help?\nJoin the meeting now\nMeeting ID: 282 010 451 93\nPasscode: Uj9G8p5w
URL:https://www.ncmbc.us/event/5-29-opps-talk/
LOCATION:Online
CATEGORIES:Homepage Events
ATTACH;FMTTYPE=image/jpeg:https://www.ncmbc.us/wp-content/uploads/Untitled-design.jpg
END:VEVENT
END:VCALENDAR