BEGIN:VCALENDAR
VERSION:2.0
PRODID:-//NCMBC - ECPv6.15.20//NONSGML v1.0//EN
CALSCALE:GREGORIAN
METHOD:PUBLISH
X-ORIGINAL-URL:https://www.ncmbc.us
X-WR-CALDESC:Events for NCMBC
REFRESH-INTERVAL;VALUE=DURATION:PT1H
X-Robots-Tag:noindex
X-PUBLISHED-TTL:PT1H
BEGIN:VTIMEZONE
TZID:America/New_York
BEGIN:DAYLIGHT
TZOFFSETFROM:-0500
TZOFFSETTO:-0400
TZNAME:EDT
DTSTART:20240310T070000
END:DAYLIGHT
BEGIN:STANDARD
TZOFFSETFROM:-0400
TZOFFSETTO:-0500
TZNAME:EST
DTSTART:20241103T060000
END:STANDARD
BEGIN:DAYLIGHT
TZOFFSETFROM:-0500
TZOFFSETTO:-0400
TZNAME:EDT
DTSTART:20250309T070000
END:DAYLIGHT
BEGIN:STANDARD
TZOFFSETFROM:-0400
TZOFFSETTO:-0500
TZNAME:EST
DTSTART:20251102T060000
END:STANDARD
BEGIN:DAYLIGHT
TZOFFSETFROM:-0500
TZOFFSETTO:-0400
TZNAME:EDT
DTSTART:20260308T070000
END:DAYLIGHT
BEGIN:STANDARD
TZOFFSETFROM:-0400
TZOFFSETTO:-0500
TZNAME:EST
DTSTART:20261101T060000
END:STANDARD
END:VTIMEZONE
BEGIN:VEVENT
DTSTART;TZID=America/New_York:20250605T090000
DTEND;TZID=America/New_York:20250605T100000
DTSTAMP:20260422T062921
CREATED:20250430T161852Z
LAST-MODIFIED:20250603T122326Z
UID:4788-1749114000-1749117600@www.ncmbc.us
SUMMARY:6/5 - Opps Talk: R&D
DESCRIPTION:Opps Talk is a virtual forum spotlighting key federal R&D opportunities for North Carolina’s innovation ecosystem. Each session features timely\, high-impact solicitations from agencies like DoD\, DOE\, DHS\, and others — including SBIR/STTR topics\, BAAs\, and significant announcements. Designed to keep innovators informed and engaged\, Opps Talk connects businesses\, researchers\, and partners with the federal R&D landscape in a fast\, focused format — helping turn opportunity into action. \nParticipants are encouraged to ask questions and schedule an appointment for one-on-one technical assistance. \nThis is a free virtual session. Click here for the link to join. \nOpportunities to be discussed include: \n\nERIS Special Topic Area – AgxBTO\nSOF Modernization Industry Engagement (SMIE)\nRads to Watts Proposers Day\nDIU Presents: Dual-Use University Accelerator Challenge\n\nMicrosoft Teams Need help?\nJoin the meeting now\nMeeting ID: 282 010 451 93\nPasscode: Uj9G8p5w
URL:https://www.ncmbc.us/event/5-8-opps-talk/
LOCATION:Online
CATEGORIES:Homepage Events
ATTACH;FMTTYPE=image/jpeg:https://www.ncmbc.us/wp-content/uploads/Untitled-design.jpg
END:VEVENT
BEGIN:VEVENT
DTSTART;TZID=America/New_York:20250612T090000
DTEND;TZID=America/New_York:20250612T100000
DTSTAMP:20260422T062921
CREATED:20250519T170706Z
LAST-MODIFIED:20250609T155605Z
UID:4848-1749718800-1749722400@www.ncmbc.us
SUMMARY:6/12 - Opps Talk: R&D
DESCRIPTION:Opps Talk is a virtual forum spotlighting key federal R&D opportunities for North Carolina’s innovation ecosystem. Each session features timely\, high-impact solicitations from agencies like DoD\, DOE\, DHS\, and others — including SBIR/STTR topics\, BAAs\, and significant announcements. Designed to keep innovators informed and engaged\, Opps Talk connects businesses\, researchers\, and partners with the federal R&D landscape in a fast\, focused format — helping turn opportunity into action. \nParticipants are encouraged to ask questions and schedule an appointment for one-on-one technical assistance. \nThis is a free virtual session. Opportunities to be discussed include: \n\nArmy Applications Laboratory Broad Agency Announcement for Disruptive Technologies\nComputational Chemistry\nContract Research Organization for the National Institute on Alcohol Abuse\nFY 2025 DoD SBIR/STTR Solicitation Schedule​​​\n\nMicrosoft Teams Need help?\nJoin the meeting now\nMeeting ID: 282 010 451 93\nPasscode: Uj9G8p5w
URL:https://www.ncmbc.us/event/6-12-opps-talk-rd/
LOCATION:Online
CATEGORIES:Homepage Events
ATTACH;FMTTYPE=image/jpeg:https://www.ncmbc.us/wp-content/uploads/Untitled-design.jpg
END:VEVENT
BEGIN:VEVENT
DTSTART;TZID=America/New_York:20250613T090000
DTEND;TZID=America/New_York:20250613T100000
DTSTAMP:20260422T062921
CREATED:20250430T143034Z
LAST-MODIFIED:20250609T165345Z
UID:4784-1749805200-1749808800@www.ncmbc.us
SUMMARY:Unlocking Opportunities with USSOCOM’s Office of Small Business Programs
DESCRIPTION:Join us on June 13th featuring Ashley M. Farrier\, Director of the USSOCOM Office of Small Business Programs (OSBP). This session is a must-attend for small businesses\, entrepreneurs\, and innovators looking to engage with U.S. Special Operations Command (USSOCOM) and support its mission to equip SOF Warfighters with cutting-edge capabilities. \nWhen: June 13\, 2025 from 9-10 a.m.\nWhere: Online \nKey takeaways include: \n\nUnderstanding USSOCOM’s Mission Needs – Gain insights into current procurement priorities and how your business can contribute.\nEffective Engagement Strategies – Learn how to connect with USSOCOM\, navigate the DoD small business ecosystem\, and access contracting opportunities.\nBuilding a DoD Network – Discover strategies to develop relationships within USSOCOM and DoD\, including potential teaming opportunities.\nEmpowering Small Businesses – Explore resources and advantages available to small\, disadvantaged\, veteran-owned\, and woman-owned businesses.\n\nDon’t miss this opportunity to hear directly from USSOCOM’s OSBP leadership and learn how to position your business for success in the special operations marketplace! \nThis is a free webinar; however\, pre-registration is required in order to receive the virtual platform credentials.  \nRegister Here!
URL:https://www.ncmbc.us/event/unlocking-opportunities-with-ussocoms-office-of-small-business-programs/
LOCATION:Virtual: Microsoft Teams
CATEGORIES:Homepage Events
ATTACH;FMTTYPE=application/pdf:https://www.ncmbc.us/wp-content/uploads/NCMBC-Logo1-1.pdf
END:VEVENT
BEGIN:VEVENT
DTSTART;TZID=America/New_York:20250619T090000
DTEND;TZID=America/New_York:20250619T100000
DTSTAMP:20260422T062921
CREATED:20250519T170945Z
LAST-MODIFIED:20250616T204744Z
UID:4849-1750323600-1750327200@www.ncmbc.us
SUMMARY:6/19 - Opps Talk: R&D
DESCRIPTION:Opps Talk is a virtual forum spotlighting key federal R&D opportunities for North Carolina’s innovation ecosystem. Each session features timely\, high-impact solicitations from agencies like DoD\, DOE\, DHS\, and others — including SBIR/STTR topics\, BAAs\, and significant announcements. Designed to keep innovators informed and engaged\, Opps Talk connects businesses\, researchers\, and partners with the federal R&D landscape in a fast\, focused format — helping turn opportunity into action. \nParticipants are encouraged to ask questions and schedule an appointment for one-on-one technical assistance. \nThis is a free virtual session.\nOpportunities to be discussed include: \n\nMedical CDID BAA – US Army Medical Capability Development Integration Directorate (MED CDID)\nVERTEX | Launched Effects – Army Applications Lab\nBroad Agency Announcement (BAA) C4ISR\, Information Operations\, Cyberspace Operations\, and Information Technology System Research\, Cryogenics\, and Quantum\n\nMicrosoft Teams Need help?\nJoin the meeting now\nMeeting ID: 282 010 451 93\nPasscode: Uj9G8p5w
URL:https://www.ncmbc.us/event/6-19-opps-talk-rd/
LOCATION:Online
CATEGORIES:Homepage Events
ATTACH;FMTTYPE=image/jpeg:https://www.ncmbc.us/wp-content/uploads/Untitled-design.jpg
END:VEVENT
BEGIN:VEVENT
DTSTART;TZID=America/New_York:20250626T090000
DTEND;TZID=America/New_York:20250626T100000
DTSTAMP:20260422T062921
CREATED:20250519T171042Z
LAST-MODIFIED:20250623T180927Z
UID:4850-1750928400-1750932000@www.ncmbc.us
SUMMARY:6/26 - Opps Talk: R&D
DESCRIPTION:Opps Talk is a virtual forum spotlighting key federal R&D opportunities for North Carolina’s innovation ecosystem. Each session features timely\, high-impact solicitations from agencies like DoD\, DOE\, DHS\, and others — including SBIR/STTR topics\, BAAs\, and significant announcements. Designed to keep innovators informed and engaged\, Opps Talk connects businesses\, researchers\, and partners with the federal R&D landscape in a fast\, focused format — helping turn opportunity into action. \nParticipants are encouraged to ask questions and schedule an appointment for one-on-one technical assistance. \nThis is a free virtual session. \nOpportunities to be discussed include: \n\nA254-019: Generative AI Enabled Tactical Network\nA254 – 020: Artificial Intelligence for Aided Driving of Ground Combat\nA254 – 016: Innovative Operations for Treatment and Processing of Wastewater\n\nMicrosoft Teams Need help?\nJoin the meeting now\nMeeting ID: 282 010 451 93\nPasscode: Uj9G8p5w
URL:https://www.ncmbc.us/event/6-26-opps-talk-rd/
LOCATION:Online
CATEGORIES:Homepage Events
ATTACH;FMTTYPE=image/jpeg:https://www.ncmbc.us/wp-content/uploads/Untitled-design.jpg
END:VEVENT
END:VCALENDAR