BEGIN:VCALENDAR
VERSION:2.0
PRODID:-//NCMBC - ECPv6.15.20//NONSGML v1.0//EN
CALSCALE:GREGORIAN
METHOD:PUBLISH
X-ORIGINAL-URL:https://www.ncmbc.us
X-WR-CALDESC:Events for NCMBC
REFRESH-INTERVAL;VALUE=DURATION:PT1H
X-Robots-Tag:noindex
X-PUBLISHED-TTL:PT1H
BEGIN:VTIMEZONE
TZID:America/New_York
BEGIN:DAYLIGHT
TZOFFSETFROM:-0500
TZOFFSETTO:-0400
TZNAME:EDT
DTSTART:20230312T070000
END:DAYLIGHT
BEGIN:STANDARD
TZOFFSETFROM:-0400
TZOFFSETTO:-0500
TZNAME:EST
DTSTART:20231105T060000
END:STANDARD
BEGIN:DAYLIGHT
TZOFFSETFROM:-0500
TZOFFSETTO:-0400
TZNAME:EDT
DTSTART:20240310T070000
END:DAYLIGHT
BEGIN:STANDARD
TZOFFSETFROM:-0400
TZOFFSETTO:-0500
TZNAME:EST
DTSTART:20241103T060000
END:STANDARD
BEGIN:DAYLIGHT
TZOFFSETFROM:-0500
TZOFFSETTO:-0400
TZNAME:EDT
DTSTART:20250309T070000
END:DAYLIGHT
BEGIN:STANDARD
TZOFFSETFROM:-0400
TZOFFSETTO:-0500
TZNAME:EST
DTSTART:20251102T060000
END:STANDARD
END:VTIMEZONE
BEGIN:VEVENT
DTSTART;TZID=America/New_York:20240110T100000
DTEND;TZID=America/New_York:20240110T110000
DTSTAMP:20260424T135623
CREATED:20240104T174227Z
LAST-MODIFIED:20240109T130504Z
UID:2916-1704880800-1704884400@www.ncmbc.us
SUMMARY:How to Bid on National Stock Number Items By Becoming an Approved Source
DESCRIPTION:Join the North Carolina Military Business Center for a webinar on “How to Bid on National Stock Number Items By Becoming an Approved Source” with guest speaker\, Jamie Spangler\, Contracting Officer and SAR/AO Monitor with Defense Logistics Agency (DLA) Land and Maritime. \nWhen. January 10\, 2024 at 10:00 am. \nAbout. In this session you will learn how to submit a request to become an approved source for a product that has already been issued an NSN.  DLA’s Land and Maritime expert on Source Approval Request (SAR) packages will teach how to successfully add your product to an existing NSN. If you would like to have a National Stock Number (NSN) for something you manufacture\, this may be a way for you to go. \nThis one-hour session is presented by Jamie Spangler\, a Contracting Officer\, Procurement Analyst\, and Source Approval Request and Alternate Offer Monitor for DLA Land and Maritime at Defense Supply Center Columbus.​​​​ \nREGISTER HERE
URL:https://www.ncmbc.us/event/how-to-bid-on-national-stock-number-items-by-becoming-an-approved-source/
LOCATION:Live Webinar
CATEGORIES:Homepage Events
ATTACH;FMTTYPE=image/png:https://www.ncmbc.us/wp-content/uploads/ncmbclogo.png
END:VEVENT
END:VCALENDAR