BEGIN:VCALENDAR
VERSION:2.0
PRODID:-//NCMBC - ECPv6.15.20//NONSGML v1.0//EN
CALSCALE:GREGORIAN
METHOD:PUBLISH
X-WR-CALNAME:NCMBC
X-ORIGINAL-URL:https://www.ncmbc.us
X-WR-CALDESC:Events for NCMBC
REFRESH-INTERVAL;VALUE=DURATION:PT1H
X-Robots-Tag:noindex
X-PUBLISHED-TTL:PT1H
BEGIN:VTIMEZONE
TZID:America/New_York
BEGIN:DAYLIGHT
TZOFFSETFROM:-0500
TZOFFSETTO:-0400
TZNAME:EDT
DTSTART:20230312T070000
END:DAYLIGHT
BEGIN:STANDARD
TZOFFSETFROM:-0400
TZOFFSETTO:-0500
TZNAME:EST
DTSTART:20231105T060000
END:STANDARD
BEGIN:DAYLIGHT
TZOFFSETFROM:-0500
TZOFFSETTO:-0400
TZNAME:EDT
DTSTART:20240310T070000
END:DAYLIGHT
BEGIN:STANDARD
TZOFFSETFROM:-0400
TZOFFSETTO:-0500
TZNAME:EST
DTSTART:20241103T060000
END:STANDARD
BEGIN:DAYLIGHT
TZOFFSETFROM:-0500
TZOFFSETTO:-0400
TZNAME:EDT
DTSTART:20250309T070000
END:DAYLIGHT
BEGIN:STANDARD
TZOFFSETFROM:-0400
TZOFFSETTO:-0500
TZNAME:EST
DTSTART:20251102T060000
END:STANDARD
END:VTIMEZONE
BEGIN:VEVENT
DTSTART;TZID=America/New_York:20240124T080000
DTEND;TZID=America/New_York:20240308T170000
DTSTAMP:20260424T081704
CREATED:20240124T160628Z
LAST-MODIFIED:20240124T162311Z
UID:3060-1706083200-1709917200@www.ncmbc.us
SUMMARY:Request for Research Proposals to Womack Army Medical Center (WAMC)
DESCRIPTION:Thank you for attending the Military Medical Innovation Operational (MIO) Forum on December 7\, 2023\, in Fayetteville\, North Carolina hosted by Womack Army Medical Center (WAMC)\, Fort Liberty\, NC; the North Carolina Military Business Center; the North Carolina Defense Technology Transition Office (DEFTECH); and Fayetteville Technical Community College (FTCC). \nA friendly reminder for submissions.  Industry\, academic\, and military partners may submit research proposals to Womack Army Medical Center (WAMC) by March 8\, 2024 via dha.liberty.womack-amc.mbx.me-dci-triage@health.mil. This email box can also be used to ask questions during this submission phase. WAMC will review all proposals and respond to submitters within 45 days. \nSubmission and Review Format: \n\nFull name of proposer.\nDepartment/Organization name.\nContact information (email and phone).\nTitle\nAbstract summary (100-word limit)\nProposal Narrative (3-page limit\, 12-font\, single space):\nRationale\nObjectives/Specific AIMS/Hypotheses\nMethodology\nAnticipated Deliverables with Timeline\nRelevance and Impact\nReferences\nQuad Chart via PowerPoint Slide\nTitle with date\, name\, organization\, and contact information\nTechnology with brief description\nDeliverables\nMilitary operational impact (include identified gap\, specific objectives/goals)\nTimeline\n\nThe views expressed herein do not necessarily reflect the official policy of the Department of the Army\, Defense Health Agency\, Department of Defense\, or the US Government. \nAll submissions are confidential. If you/your organization requires a non-disclosure agreement\, please let Womack know before your submission.
URL:https://www.ncmbc.us/event/request-for-research-proposals-to-womack-army-medical-center-wamc/
LOCATION:Email Submissions
CATEGORIES:Homepage Events
ATTACH;FMTTYPE=image/webp:https://www.ncmbc.us/wp-content/uploads/WAMC-logo.webp
END:VEVENT
BEGIN:VEVENT
DTSTART;TZID=America/New_York:20240213T090000
DTEND;TZID=America/New_York:20240213T103000
DTSTAMP:20260424T081704
CREATED:20240110T143709Z
LAST-MODIFIED:20240119T153918Z
UID:2976-1707814800-1707820200@www.ncmbc.us
SUMMARY:CMMC is a Thing (Almost) - Now What Do We Do?
DESCRIPTION:When. February 13\, 2024 at 0900-1030. \nInstructor. Laura Rodgers\, Director of Cybersecurity Practice\, Secure Computing Institute and Director\, NC-PaCE \n\n\n\nAbout. After nearly four years of multiple changes to the CMMC model\, it has been published in the CFR as a Proposed Final Rule\, and is expected to be published as a Final Rule in early 2025. One of the most important – and unexpected – changes in CMMC is the requirement that defense contractor’s managed service providers that have access to your sensitive data must also undergo a successful 3rd party CMMC assessment BEFORE the contractor can be assessed. Because of this new requirement\, it is important that your MSP/MSSP attend this webinar as well. \n\n\n\nAdditionally\, the Department of Defense Chief Information Officer recently issued a memo describing what FedRAMP “equivalency” means. If your company’s sensitive data is being stored or processed in a cloud environment\, you need to understand the implications of this memo. \n\n\n\nThis informative webinar will include: \n\n\n\n\nAn overview of the new CMMC model and the DoD CIO Memo\n\n\n\nKey changes to CMMC and how they affect your organization\n\n\n\nWhat you should be doing now to be eligible to win contracts in 2025 and beyond\n\n\n\nInformation about the conversations you need to be having with your MSPs and cloud service providers\n\n\n\nStrategies for navigating changing regulations\n\n\n\nResources to help you develop and strengthen you cybersecurity compliance program\n\n\n\n\nJoin us to gain valuable knowledge and actionable strategies to ensure your organization’s compliance with the latest cybersecurity regulations. \n\n\n\nRegistration. This is a free webinar; however registration is required to receive the log-in credentials. Click here to register.
URL:https://www.ncmbc.us/event/cmmc-is-a-thing-almost-now-what-do-we-do/
LOCATION:Live Webinar
CATEGORIES:Homepage Events
ATTACH;FMTTYPE=image/png:https://www.ncmbc.us/wp-content/uploads/ncmbclogo.png
END:VEVENT
END:VCALENDAR