BEGIN:VCALENDAR
VERSION:2.0
PRODID:-//NCMBC - ECPv6.15.20//NONSGML v1.0//EN
CALSCALE:GREGORIAN
METHOD:PUBLISH
X-ORIGINAL-URL:https://www.ncmbc.us
X-WR-CALDESC:Events for NCMBC
REFRESH-INTERVAL;VALUE=DURATION:PT1H
X-Robots-Tag:noindex
X-PUBLISHED-TTL:PT1H
BEGIN:VTIMEZONE
TZID:America/New_York
BEGIN:DAYLIGHT
TZOFFSETFROM:-0500
TZOFFSETTO:-0400
TZNAME:EDT
DTSTART:20230312T070000
END:DAYLIGHT
BEGIN:STANDARD
TZOFFSETFROM:-0400
TZOFFSETTO:-0500
TZNAME:EST
DTSTART:20231105T060000
END:STANDARD
BEGIN:DAYLIGHT
TZOFFSETFROM:-0500
TZOFFSETTO:-0400
TZNAME:EDT
DTSTART:20240310T070000
END:DAYLIGHT
BEGIN:STANDARD
TZOFFSETFROM:-0400
TZOFFSETTO:-0500
TZNAME:EST
DTSTART:20241103T060000
END:STANDARD
BEGIN:DAYLIGHT
TZOFFSETFROM:-0500
TZOFFSETTO:-0400
TZNAME:EDT
DTSTART:20250309T070000
END:DAYLIGHT
BEGIN:STANDARD
TZOFFSETFROM:-0400
TZOFFSETTO:-0500
TZNAME:EST
DTSTART:20251102T060000
END:STANDARD
END:VTIMEZONE
BEGIN:VEVENT
DTSTART;TZID=America/New_York:20240124T080000
DTEND;TZID=America/New_York:20240308T170000
DTSTAMP:20260424T110252
CREATED:20240124T160628Z
LAST-MODIFIED:20240124T162311Z
UID:3060-1706083200-1709917200@www.ncmbc.us
SUMMARY:Request for Research Proposals to Womack Army Medical Center (WAMC)
DESCRIPTION:Thank you for attending the Military Medical Innovation Operational (MIO) Forum on December 7\, 2023\, in Fayetteville\, North Carolina hosted by Womack Army Medical Center (WAMC)\, Fort Liberty\, NC; the North Carolina Military Business Center; the North Carolina Defense Technology Transition Office (DEFTECH); and Fayetteville Technical Community College (FTCC). \nA friendly reminder for submissions.  Industry\, academic\, and military partners may submit research proposals to Womack Army Medical Center (WAMC) by March 8\, 2024 via dha.liberty.womack-amc.mbx.me-dci-triage@health.mil. This email box can also be used to ask questions during this submission phase. WAMC will review all proposals and respond to submitters within 45 days. \nSubmission and Review Format: \n\nFull name of proposer.\nDepartment/Organization name.\nContact information (email and phone).\nTitle\nAbstract summary (100-word limit)\nProposal Narrative (3-page limit\, 12-font\, single space):\nRationale\nObjectives/Specific AIMS/Hypotheses\nMethodology\nAnticipated Deliverables with Timeline\nRelevance and Impact\nReferences\nQuad Chart via PowerPoint Slide\nTitle with date\, name\, organization\, and contact information\nTechnology with brief description\nDeliverables\nMilitary operational impact (include identified gap\, specific objectives/goals)\nTimeline\n\nThe views expressed herein do not necessarily reflect the official policy of the Department of the Army\, Defense Health Agency\, Department of Defense\, or the US Government. \nAll submissions are confidential. If you/your organization requires a non-disclosure agreement\, please let Womack know before your submission.
URL:https://www.ncmbc.us/event/request-for-research-proposals-to-womack-army-medical-center-wamc/
LOCATION:Email Submissions
CATEGORIES:Homepage Events
ATTACH;FMTTYPE=image/webp:https://www.ncmbc.us/wp-content/uploads/WAMC-logo.webp
END:VEVENT
BEGIN:VEVENT
DTSTART;TZID=America/New_York:20240226T140000
DTEND;TZID=America/New_York:20240228T123000
DTSTAMP:20260424T110252
CREATED:20240124T163817Z
LAST-MODIFIED:20240124T163817Z
UID:3067-1708956000-1709123400@www.ncmbc.us
SUMMARY:2024 Tactical Wheeled Vehicles Conference
DESCRIPTION:The North Carolina Military Business Center (NCMBC) is pleased to announce that the 2024 Tactical Wheeled Vehicle Conference will be held in Charlotte\, North Carolina on February 26-28 hosted by NDIA.  Scott Dorney\, Executive Director\, NCMBC will provide remarks at the Conference and NCMBC representatives will be in attendance to connect with business and government participants. \nThis extraordinary event brings together leaders from the Department of Defense\, the military services\, industry\, prime contractors\, subcontractors\, suppliers\, and academia to address present and future tactical wheeled vehicle requirements. The conference provides a unique atmosphere for open discussion between participants on the needs of the military users. \nThis conference is recognized industry-wide as the premier event focused on the tactical wheeled vehicle industry and its support to the Department of Defense and our nation’s warfighters. Kicking off the calendar year with the most updated information in the tactical wheeled vehicle industry. The information and dialogue which will be presented is invaluable to all organizations which play a role in the design\, development\, innovation\, acquisition\, production\, delivery and sustainment of tactical wheeled vehicles to our government customers. Interactive panel discussions and several networking events offer attendees direct access to OEMs and military leaders. \nFOR MORE INFORMATION
URL:https://www.ncmbc.us/event/2024-tactical-wheeled-vehicles-conference/
LOCATION:HIlton Charlotte Airport
CATEGORIES:Homepage Events
ATTACH;FMTTYPE=image/png:https://www.ncmbc.us/wp-content/uploads/A9B33296-571F-40ED-91EB-F32028EC29D0.png
END:VEVENT
BEGIN:VEVENT
DTSTART;TZID=America/New_York:20240227T090000
DTEND;TZID=America/New_York:20240227T100000
DTSTAMP:20260424T110252
CREATED:20240125T185831Z
LAST-MODIFIED:20240227T125913Z
UID:3076-1709024400-1709028000@www.ncmbc.us
SUMMARY:Introduction to Government Proposals and Source Selection Tips
DESCRIPTION:Join the North Carolina Military Business Center for “Introduction to Government Proposals and Source Selection Tips” webinar on February 27\, 2024 at 0900. \nAbout. Are you looking to navigate the complex world of government proposals with confidence and success? Join our introductory webinar on “Federal Government Proposal Best Practices” to gain invaluable insights and strategies that will elevate your proposal game to new heights. Don’t miss this opportunity to sharpen your skills and position your proposals for success in the competitive government contracting landscape.  \nAgenda: \n\nUnderstanding Government Procurement: Understand the government procurement processes and gain an overview of the key steps involved;\nStrategic Planning: Learn how to develop a robust proposal strategy that aligns with government requirements and maximizes your chances of success;\nEffective Research Techniques: Discover the importance of thorough research and how it can significantly enhance the quality of your government proposals;\nCompliance and Regulations: Navigate the maze of compliance requirements and regulations to ensure your proposals meet the necessary standards;\nCrafting a Compelling Proposal: Master the art of crafting persuasive and compelling proposals that stand out among competitors and resonate with government decision-makers;\nProposal Submission Tips: Get tips on the submission process\, including common pitfalls to avoid and best practices for a smooth submission;\nSource Selection: Get insider knowledge on how source selection panels evaluate contractor proposals. \nQ&A Session: Engage our speakers during the Q&A session to address your specific queries and concerns.\n\nRegistration.  Online registration is closed. \nLog-in Credentials.  \nWhen: Feb 27\, 2024 09:00 AM Eastern Time (US and Canada)\nTopic: Webinar: Introduction to Government Proposals and Source Selection Tips \nPlease click the link below to join the webinar:\nhttps://www.zoomgov.com/j/1614482533?pwd=Vk13eVNXK0V4ZTBSdFVEaUlGT0Zhdz09\nPasscode: 892250 \nOr Telephone:\nDial(for higher quality\, dial a number based on your current location):\n+1 669 254 5252 US (San Jose)\n+1 646 964 1167 US (US Spanish Line)\n+1 646 828 7666 US (New York)\n+1 669 216 1590 US (San Jose)\n+1 415 449 4000 US (US Spanish Line)\n+1 551 285 1373 US (New Jersey) \nWebinar ID: 161 448 2533
URL:https://www.ncmbc.us/event/introduction-to-government-proposals-and-source-selection-tips/
LOCATION:Virtual
CATEGORIES:Homepage Events
ATTACH;FMTTYPE=image/png:https://www.ncmbc.us/wp-content/uploads/ncmbclogo.png
END:VEVENT
BEGIN:VEVENT
DTSTART;TZID=America/New_York:20240227T160000
DTEND;TZID=America/New_York:20240227T190000
DTSTAMP:20260424T110252
CREATED:20240209T165757Z
LAST-MODIFIED:20240227T123012Z
UID:3280-1709049600-1709060400@www.ncmbc.us
SUMMARY:Government Contractor Networking: Connections/Partnerships
DESCRIPTION:Title: Government Contractor Networking: Forging Connections\, Building Partnerships \nEvent Description: The North Carolina Military Business Center (NCMBC) and Wake Tech Community College (WTCC) are excited to debut a Government Contracting networking and collaboration event. This in-person event is designed to bring together government contractors and industry experts for an afternoon of networking\, partnership building\, teaming\, and strategic alliances. \nDate: February 27\, 2024 \nTime: 4:00 – 7:00 PM EST \nLocation: Wake Tech Community College (WTCC) RTP Campus – Building 1\, Room 162\n10908 Chapel Hill Rd\, Morrisville\, NC 27560 \nFor this first event we plan to present an overview and discuss the upcoming Multiple Award (MA-IDIQ) NASA SEWP VI opportunity.  This event is ideal for technology companies who provide products\, solutions or services related to information technology\, communications\, and audiovisual aspects. These services could include hardware\, software\, communication services\, and audiovisual solutions. The objective is for us to bring together North Carolina companies to network and ideally build a team to win NASA SEWP VI. If you are new to government contracting\, this event may be a great place to just learn and network with potential Primes. \nOnline Registration is closed.  Walk-in attendance is encouraged. 
URL:https://www.ncmbc.us/event/government-contractor-networking-connections-partnerships/
LOCATION:NC
CATEGORIES:Homepage Events
END:VEVENT
END:VCALENDAR