BEGIN:VCALENDAR
VERSION:2.0
PRODID:-//NCMBC - ECPv6.15.20//NONSGML v1.0//EN
CALSCALE:GREGORIAN
METHOD:PUBLISH
X-ORIGINAL-URL:https://www.ncmbc.us
X-WR-CALDESC:Events for NCMBC
REFRESH-INTERVAL;VALUE=DURATION:PT1H
X-Robots-Tag:noindex
X-PUBLISHED-TTL:PT1H
BEGIN:VTIMEZONE
TZID:America/New_York
BEGIN:DAYLIGHT
TZOFFSETFROM:-0500
TZOFFSETTO:-0400
TZNAME:EDT
DTSTART:20230312T070000
END:DAYLIGHT
BEGIN:STANDARD
TZOFFSETFROM:-0400
TZOFFSETTO:-0500
TZNAME:EST
DTSTART:20231105T060000
END:STANDARD
BEGIN:DAYLIGHT
TZOFFSETFROM:-0500
TZOFFSETTO:-0400
TZNAME:EDT
DTSTART:20240310T070000
END:DAYLIGHT
BEGIN:STANDARD
TZOFFSETFROM:-0400
TZOFFSETTO:-0500
TZNAME:EST
DTSTART:20241103T060000
END:STANDARD
BEGIN:DAYLIGHT
TZOFFSETFROM:-0500
TZOFFSETTO:-0400
TZNAME:EDT
DTSTART:20250309T070000
END:DAYLIGHT
BEGIN:STANDARD
TZOFFSETFROM:-0400
TZOFFSETTO:-0500
TZNAME:EST
DTSTART:20251102T060000
END:STANDARD
END:VTIMEZONE
BEGIN:VEVENT
DTSTART;TZID=America/New_York:20241113T090000
DTEND;TZID=America/New_York:20241113T150000
DTSTAMP:20260420T080611
CREATED:20240822T161820Z
LAST-MODIFIED:20240924T154207Z
UID:3900-1731488400-1731510000@www.ncmbc.us
SUMMARY:Small Business Outreach Event
DESCRIPTION:When. November 13\, 2024\, 9:00 AM to 3:00 PM \nWhere. ENC Tech Bridge (former church in front of the New Bern Airport)\n834 Airport Road\, New Bern\, North Carolina \nPurpose of the Outreach Event. Inform and educate businesses on the North Carolina-based support organizations.  These support organizations assist businesses in becoming eligible and competitive for Department of Defense contracts. \nPremise of the Outreach Event. \n\nMany businesses do not know where to start in becoming eligible and competitive for Department of Defense contracts.\nFor existing businesses\, there are many new regulations and requirements regarding Department of Defense contracting.\n\nGoals of the Outreach Event. \n\nBusinesses leave with a greater understanding of the support organizations available to assist them.\nIncrease the base of eligible and competitive businesses proposing on Department of Defense contracts.\nShowcase the new ENC TechBridge space and inform attendees on what it offers.\n\nConfirmed Attendees for this event are: \n\nMarine Corps Installations East Small Business Programs\nNorth Carolina Military Business Center\nENC TechBridge\nSmall Business Training and Development Center\nVeteran Business Collective\n\nWho should participate in the Outreach Event:  Businesses interested in doing business with the Department of Defense\, businesses currently doing business with the Department of Defense.  Please note registration is limited to 100 people due to capacity limitations. \nCost:  Free to all registrants and presenters.  However\, you must register. \nREGISTER
URL:https://www.ncmbc.us/event/small-business-outreach-event/
LOCATION:NC
CATEGORIES:Homepage Events
ATTACH;FMTTYPE=image/jpeg:https://www.ncmbc.us/wp-content/uploads/C7064ABB-81E4-4B2B-BDE0-ABE51BE2F711-1.jpeg
END:VEVENT
END:VCALENDAR