BEGIN:VCALENDAR
VERSION:2.0
PRODID:-//NCMBC - ECPv6.15.20//NONSGML v1.0//EN
CALSCALE:GREGORIAN
METHOD:PUBLISH
X-ORIGINAL-URL:https://www.ncmbc.us
X-WR-CALDESC:Events for NCMBC
REFRESH-INTERVAL;VALUE=DURATION:PT1H
X-Robots-Tag:noindex
X-PUBLISHED-TTL:PT1H
BEGIN:VTIMEZONE
TZID:America/New_York
BEGIN:DAYLIGHT
TZOFFSETFROM:-0500
TZOFFSETTO:-0400
TZNAME:EDT
DTSTART:20240310T070000
END:DAYLIGHT
BEGIN:STANDARD
TZOFFSETFROM:-0400
TZOFFSETTO:-0500
TZNAME:EST
DTSTART:20241103T060000
END:STANDARD
BEGIN:DAYLIGHT
TZOFFSETFROM:-0500
TZOFFSETTO:-0400
TZNAME:EDT
DTSTART:20250309T070000
END:DAYLIGHT
BEGIN:STANDARD
TZOFFSETFROM:-0400
TZOFFSETTO:-0500
TZNAME:EST
DTSTART:20251102T060000
END:STANDARD
BEGIN:DAYLIGHT
TZOFFSETFROM:-0500
TZOFFSETTO:-0400
TZNAME:EDT
DTSTART:20260308T070000
END:DAYLIGHT
BEGIN:STANDARD
TZOFFSETFROM:-0400
TZOFFSETTO:-0500
TZNAME:EST
DTSTART:20261101T060000
END:STANDARD
END:VTIMEZONE
BEGIN:VEVENT
DTSTART;TZID=America/New_York:20250708T173000
DTEND;TZID=America/New_York:20250708T183000
DTSTAMP:20260420T113302
CREATED:20250617T121838Z
LAST-MODIFIED:20250618T125806Z
UID:4958-1751995800-1751999400@www.ncmbc.us
SUMMARY:Introduction to NCMBC and Federal Government Contracting
DESCRIPTION:Join the North Carolina Military Business Center and the Carteret County Big Rock/ NCWorks Career Center on July 8th at 5:30 pm to learn more about the NCMBC and federal contracting. In this introductory webinar you will get to know more about the NCMBC\, hear about federal contracting opportunities across our State\, and gain an understanding about working with the federal government and if it is right for your business. \nWhen. July 8th from 5:30 – 6:30 p.m.\nWhere. Online \nThis is a free webinar; however\, pre-registration is required in order to receive the virtual platform credentials. Credentials will be emailed out a few days prior to the training. \nRegister
URL:https://www.ncmbc.us/event/introduction-to-ncmbc-and-federal-government-contracting/
LOCATION:Online
CATEGORIES:Homepage Events
ATTACH;FMTTYPE=image/png:https://www.ncmbc.us/wp-content/uploads/NCWorks-Logo.png
END:VEVENT
END:VCALENDAR