BEGIN:VCALENDAR
VERSION:2.0
PRODID:-//NCMBC - ECPv6.15.20//NONSGML v1.0//EN
CALSCALE:GREGORIAN
METHOD:PUBLISH
X-WR-CALNAME:NCMBC
X-ORIGINAL-URL:https://www.ncmbc.us
X-WR-CALDESC:Events for NCMBC
REFRESH-INTERVAL;VALUE=DURATION:PT1H
X-Robots-Tag:noindex
X-PUBLISHED-TTL:PT1H
BEGIN:VTIMEZONE
TZID:America/New_York
BEGIN:DAYLIGHT
TZOFFSETFROM:-0500
TZOFFSETTO:-0400
TZNAME:EDT
DTSTART:20240310T070000
END:DAYLIGHT
BEGIN:STANDARD
TZOFFSETFROM:-0400
TZOFFSETTO:-0500
TZNAME:EST
DTSTART:20241103T060000
END:STANDARD
BEGIN:DAYLIGHT
TZOFFSETFROM:-0500
TZOFFSETTO:-0400
TZNAME:EDT
DTSTART:20250309T070000
END:DAYLIGHT
BEGIN:STANDARD
TZOFFSETFROM:-0400
TZOFFSETTO:-0500
TZNAME:EST
DTSTART:20251102T060000
END:STANDARD
BEGIN:DAYLIGHT
TZOFFSETFROM:-0500
TZOFFSETTO:-0400
TZNAME:EDT
DTSTART:20260308T070000
END:DAYLIGHT
BEGIN:STANDARD
TZOFFSETFROM:-0400
TZOFFSETTO:-0500
TZNAME:EST
DTSTART:20261101T060000
END:STANDARD
END:VTIMEZONE
BEGIN:VEVENT
DTSTART;TZID=America/New_York:20250814T090000
DTEND;TZID=America/New_York:20250814T100000
DTSTAMP:20260420T103002
CREATED:20250611T175950Z
LAST-MODIFIED:20250616T132931Z
UID:4935-1755162000-1755165600@www.ncmbc.us
SUMMARY:Tactical Rations: Supply Chain and Research and Development
DESCRIPTION:Join the North Carolina Military Business Center and the NC Department of Agriculture on August 14th for “Tactical Rations: Supply Chain and Research and Development\,” for Part 2 of the Federal Food Webinar Series. \nWhen. August 14th from 9:00 am – 10 am EST. \nAbout. Officials from the US Army Combat Capabilities Development Command (DEVCOM) Soldier Center will highlight ongoing research into advanced tactical rations.  Officials from the Defense Logistics Agency (DLA) Subsistence Supply Chain will address acquisition and distribution processes and challenges for current tactical rations. \nRegister
URL:https://www.ncmbc.us/event/tactical-rations-supply-chain-and-research-and-development/
LOCATION:NC
CATEGORIES:Homepage Events
ATTACH;FMTTYPE=image/avif:https://www.ncmbc.us/wp-content/uploads/TP4EASHCZFEX3F5D2DGY2SAEBQ-scaled.avif
END:VEVENT
BEGIN:VEVENT
DTSTART;TZID=America/New_York:20250814T090000
DTEND;TZID=America/New_York:20250814T100000
DTSTAMP:20260420T103002
CREATED:20250625T133706Z
LAST-MODIFIED:20250812T122227Z
UID:4976-1755162000-1755165600@www.ncmbc.us
SUMMARY:8/14 – Opps Talk: Construction/Infrastructure/Energy and R&D
DESCRIPTION:Opps Talks will spotlight key federal contract opportunities for North Carolina businesses. Each session will include presentation and discussion of timely\, high-impact contract solicitations from the Department of Defense\, Department of Homeland Security\, other federal agencies\, and installations and commands in North Carolina and neighboring states — including traditional acquisitions\, multiple award contract vehicles (IDIQ\, MATOC/MACC)\, research and development (including SBIR/STTR/BAAs) opportunities and other significant announcements. \nDesigned to keep North Carolina businesses informed and engaged\, “Opps Talk” will connect industry\, academia\, and resource partners with current\, emerging\, and future federal contract opportunities in a fast\, focused format — helping turn opportunities into contracts that expand businesses\, grow jobs\, and improve quality of life in North Carolina. \nOpps Talk sessions will occur every Thursday starting at 0900 and highlight contract opportunities within key industries in North Carolina. \nParticipants are encouraged to ask questions and schedule an appointment for one-on-one technical assistance.\nThis is a free virtual session. \n0900 – Construction/Infrastructure/Energy \nRegister in advance for this meeting. After registering\, you will receive a confirmation email containing information about joining the meeting. https://www.zoomgov.com/meeting/register/cuEGoG7BSQSVnJ7_kT0zFA \nOpps to be discussed include: \n\nPre-Solicitation Notice: 2-Phase Design-Build Single Award Task Order Contracts (SATOC) for Military Construction and Sustainment\, Restoration and Modernization (SRM) in North Carolina\nForecast: USACE Charleston District $99M East DB/DBB MATOC\nForecast: USACE Charleston District $350M DB/DBB MATOC East\nNOTICE TO THE DEFENSE INDUSTRIAL BASE – USACE CMMC Update\n\n0930 – R&D \nRegister in advance for this meeting. After registering\, you will receive a confirmation email containing information about joining the meeting.\nhttps://www.zoomgov.com/meeting/register/n5VDPdu5SguITXU9kvotjA \nOpps to be discussed include: \n\nNext-Generation Microelectronics Manufacturing (NGMM) Summit\nAntibiotic for Treatment of Bacterial Pneumonia or Bloodstream Infections\nLeveraging Enterprise Technologies for Holistic AI\, Logistics\, Integration\, Transformation\, and Yield\nVulcan SOF\nDSIP
URL:https://www.ncmbc.us/event/8-14-opps-talk-construction-infrastructure-energy-and-rd/
LOCATION:Online
CATEGORIES:Homepage Events
ATTACH;FMTTYPE=image/jpeg:https://www.ncmbc.us/wp-content/uploads/Untitled-design.jpg
END:VEVENT
END:VCALENDAR