BEGIN:VCALENDAR
VERSION:2.0
PRODID:-//NCMBC - ECPv6.15.20//NONSGML v1.0//EN
CALSCALE:GREGORIAN
METHOD:PUBLISH
X-WR-CALNAME:NCMBC
X-ORIGINAL-URL:https://www.ncmbc.us
X-WR-CALDESC:Events for NCMBC
REFRESH-INTERVAL;VALUE=DURATION:PT1H
X-Robots-Tag:noindex
X-PUBLISHED-TTL:PT1H
BEGIN:VTIMEZONE
TZID:America/New_York
BEGIN:DAYLIGHT
TZOFFSETFROM:-0500
TZOFFSETTO:-0400
TZNAME:EDT
DTSTART:20240310T070000
END:DAYLIGHT
BEGIN:STANDARD
TZOFFSETFROM:-0400
TZOFFSETTO:-0500
TZNAME:EST
DTSTART:20241103T060000
END:STANDARD
BEGIN:DAYLIGHT
TZOFFSETFROM:-0500
TZOFFSETTO:-0400
TZNAME:EDT
DTSTART:20250309T070000
END:DAYLIGHT
BEGIN:STANDARD
TZOFFSETFROM:-0400
TZOFFSETTO:-0500
TZNAME:EST
DTSTART:20251102T060000
END:STANDARD
BEGIN:DAYLIGHT
TZOFFSETFROM:-0500
TZOFFSETTO:-0400
TZNAME:EDT
DTSTART:20260308T070000
END:DAYLIGHT
BEGIN:STANDARD
TZOFFSETFROM:-0400
TZOFFSETTO:-0500
TZNAME:EST
DTSTART:20261101T060000
END:STANDARD
END:VTIMEZONE
BEGIN:VEVENT
DTSTART;TZID=America/New_York:20250827T090000
DTEND;TZID=America/New_York:20250827T103000
DTSTAMP:20260420T050336
CREATED:20250530T155106Z
LAST-MODIFIED:20250530T160420Z
UID:4889-1756285200-1756290600@www.ncmbc.us
SUMMARY:Adapt or Be Left Behind: AI Strategies for Securing and Delivering DoD Contracts
DESCRIPTION:Join the North Carolina Military Business Center for a webinar on Artificial Intelligence (AI) “Adapt or Be Left Behind: AI Strategies for Securing and Delivering DoD Contracts” on August 27th.  This webinar is designed to help bridge the gap between AI curiosity and real-world capability\, and gain a clear\, practical roadmap for leveraging AI in your business – from back-office efficiencies to front-line innovation and grabbing new opportunities. Don’t get left behind – discover how AI can be your competitive advantage! AI isn’t just a futuristic idea anymore – it’s giving businesses a real advantage today. But if you run a small or medium-sized business\, you might be wondering where to even start with AI. \nWhen. August 27th at 9:00 AM \nWhere. This is a virtual session.  Registration is required to receive the log-in credentials. \nREGISTER\nWhy Should You Attend? This webinar is designed specifically for business owners like you who want to understand AI without getting bogged down in technical details. We’ll cut through the noise and show you how AI can provide real\, tangible benefits to your bottom line. You’ll learn practical strategies and see real-world examples of how AI is being used by businesses just like yours to achieve significant growth and efficiency. \nKey Takeaways You’ll Gain: \n\nClarity on AI: Understand what AI really is and how it can be applied to your business in simple terms.\nPractical Applications: Discover concrete ways AI can automate tasks\, improve customer understanding\, streamline operations\, and enhance your decision-making.\nCost-Effective Strategies: Learn how to implement and maintain AI without breaking the bank or needing a team of data scientists.\nGovernment Contracting Advantage: See how AI can give you a significant edge in analyzing opportunities and crafting winning proposals for federal contracts.\nActionable Roadmap: Walk away with a clear\, step-by-step plan to start or strategically expand your use of AI.\nUnderstanding AI Maturity: Learn how to assess your current capabilities and build a scalable AI strategy for the future.\nResponsible Implementation Insights: Gain knowledge about employee involvement\, data readiness\, ethical considerations\, and change management for successful AI adoption.\n\nTo get you started on your AI journey\, here’s a document with common AI terms and a frequently asked questions (FAQ) section to help demystify the basics. We believe in the power of shared learning\, and this webinar is just the beginning. We aim to foster a learning community where you can connect with peers and continue to grow your understanding and application of AI. Feel free to send us any further questions you have – we’re here to support your journey! \nGUEST SPEAKERS:\nAdrianne Kroll is the Assistant Director of Quality at NC State University Industry Expansion Solutions (IES)\, where she helps manufacturers strengthen quality systems\, streamline processes\, and adopt emerging technologies. With a background in systems engineering and early career experience in the defense industry\, Adrianne has led cross-functional improvement initiatives across multiple industries & environments. She is now expanding her focus to guide clients in exploring practical\, value-driven applications of artificial intelligence in manufacturing. Adrianne holds a B.S. in Electrical Engineering Technology\, an M.S. in Systems Engineering\, and is a certified Continuous Improvement Facilitator. \nRonald (Ron) Berry\, Jr is CEO of Artificially Digital\, an AI company based in Cary\, NC\, that turns scattered data into clear\, actionable decisions using the right AI for the job. With global experience leading digital transformation across tech\, finance\, retail\, logistics\, and travel\, Ron is known for blending strategic vision with engineering precision. He holds an MBA from Wharton and a B.S. in Management Science and Engineering from Stanford.
URL:https://www.ncmbc.us/event/adapt-or-be-left-behind-ai-strategies-for-securing-and-delivering-dod-contracts/
LOCATION:NC
CATEGORIES:Homepage Events
ATTACH;FMTTYPE=image/jpeg:https://www.ncmbc.us/wp-content/uploads/vecteezy_digital-cyberspace-with-digital-data-network-connections_1971012-scaled.jpg
END:VEVENT
END:VCALENDAR