BEGIN:VCALENDAR
VERSION:2.0
PRODID:-//NCMBC - ECPv6.15.20//NONSGML v1.0//EN
CALSCALE:GREGORIAN
METHOD:PUBLISH
X-WR-CALNAME:NCMBC
X-ORIGINAL-URL:https://www.ncmbc.us
X-WR-CALDESC:Events for NCMBC
REFRESH-INTERVAL;VALUE=DURATION:PT1H
X-Robots-Tag:noindex
X-PUBLISHED-TTL:PT1H
BEGIN:VTIMEZONE
TZID:America/New_York
BEGIN:DAYLIGHT
TZOFFSETFROM:-0500
TZOFFSETTO:-0400
TZNAME:EDT
DTSTART:20240310T070000
END:DAYLIGHT
BEGIN:STANDARD
TZOFFSETFROM:-0400
TZOFFSETTO:-0500
TZNAME:EST
DTSTART:20241103T060000
END:STANDARD
BEGIN:DAYLIGHT
TZOFFSETFROM:-0500
TZOFFSETTO:-0400
TZNAME:EDT
DTSTART:20250309T070000
END:DAYLIGHT
BEGIN:STANDARD
TZOFFSETFROM:-0400
TZOFFSETTO:-0500
TZNAME:EST
DTSTART:20251102T060000
END:STANDARD
BEGIN:DAYLIGHT
TZOFFSETFROM:-0500
TZOFFSETTO:-0400
TZNAME:EDT
DTSTART:20260308T070000
END:DAYLIGHT
BEGIN:STANDARD
TZOFFSETFROM:-0400
TZOFFSETTO:-0500
TZNAME:EST
DTSTART:20261101T060000
END:STANDARD
END:VTIMEZONE
BEGIN:VEVENT
DTSTART;VALUE=DATE:20251008
DTEND;VALUE=DATE:20251010
DTSTAMP:20260421T154521
CREATED:20250820T140612Z
LAST-MODIFIED:20250820T140612Z
UID:5150-1759881600-1760054399@www.ncmbc.us
SUMMARY:Fayetteville-Cumberland Economic Development Corporation hosts Drone Competition
DESCRIPTION:The Fayetteville-Cumberland Economic Development Corporation is proud to present a first-of-its-kind drone challenge where military\, academic\, and industry participants will compete side by side to unleash drone dominance. Participants will be challenged to the utmost in a series of novel\, complex\, and exciting FPV and tactical exercises that will require real-time innovation and adaptation to win. \nWhen. October 8-9\, 2025 from 9:00 a.m. – 4:00 p.m. (both days) \nWhere. The Range Complex 2850 Tigerswan Dr. Autryville\, NC 28318 \nWhether you are spectating or participating in the drone competition\, you must fill out a waiver prior to stepping on the grounds of TRC. Click here to access the waiver. \nRegister\n 
URL:https://www.ncmbc.us/event/fayetteville-cumberland-economic-development-corporation-hosts-drone-competition/
ATTACH;FMTTYPE=image/jpeg:https://www.ncmbc.us/wp-content/uploads/Drone-scaled.jpg
END:VEVENT
BEGIN:VEVENT
DTSTART;VALUE=DATE:20251022
DTEND;VALUE=DATE:20251024
DTSTAMP:20260421T154521
CREATED:20251009T190651Z
LAST-MODIFIED:20251009T190745Z
UID:5323-1761091200-1761263999@www.ncmbc.us
SUMMARY:AFCEA: Space Industry Days 2025
DESCRIPTION:The Space Industry Days planning team is closely monitoring impacts from the government shutdown. At this moment\, we are still planning to host Space Industry Days on Oct 22-23.\nHowever\, if the government shutdown is not resolved by Oct 14\, we are working with our venue host (LAX Marriott) to move the dates to early 2026.\nWe are also working with the Space Enterprise Consortium team and NDIA Space Division for the Peter B. Teets Awards Dinner to move all of the events to the same future week\, if possible.\nWe will post updates as we have them to this registration site. \nWhen. October 22 – October 23\, 2025 from 8:00am – 5:00pm \nWhere. Los Angeles Airport Marriott\n5855 W. Century Blvd.\, Los Angeles\, California\, 90045\, United States \nAGENDA \nClick Here for Agenda  \nSpace Industry Days intends to have an agenda this year spanning two full days and including the following proposed events:\n– Keynote speakers from U.S. Space Command\, SSC/CC and Space Development Agency\n– USAF/USSF leadership speeches\n– Updates from SSC mission areas and functional support offices: Space Sensing; Communications and Positioning\, Navigation and Timing; Space Domain Awareness and Combat Power; Battle Management\, Command\, Control and Communications; Assured Access to Space; International Affairs Office\, Space System Integration Office\, Warfighter Integration Office\, and Commercial Services Office\n– Perspectives from the Space Rapid Capabilities Office\, Space Industry Panel\, Small Business Panel\, and other possible panels\n– Opportunities for side sessions with “Meet the PMs” (in-person only)\n– Exhibit hall (in-person only) \nWELCOME \nAFCEA Los Angeles\, the General Bernard A. Schriever Chapter of the Air and Space Forces Association (AFA)\, the National Defense Industrial Association (NDIA) Greater Los Angeles Chapter\, and the Southern California Aerospace Professional Representatives (SCAPR) are proud to announce Space Industry Days on October 22-23\, 2025. \nSpace Industry Days provides industry an opportunity to receive presentations from US Air Force\, US Space Force\, and Space Systems Command (SSC) senior leadership on current and emerging opportunities. The conference will focus on the future of military space in the new DoD Service. USAF/USSF Senior Leaders and SSC program offices will share their plans for the next five years and panels of industry representatives will provide their perspective on challenges they are facing as they develop aerospace solutions. \nThe event will provide an environment for participating attendees from both the government and commercial sectors to interact on the issues important to the future of SSC. The feedback generated from the Space Industry Day will help inform government and industry alike as they work though the major issues challenging the future of the nation’s space capability. \nThe first day will kick off with a welcome and comments by SSC/CC\, followed by multiple senior leader presentations and industry panels. The second day will also include a full day’s agenda of government and industry presentations and is planned to conclude around 4 p.m. (Pacific time). \nWe will provide all briefings that are cleared for public release on our website following the event. \nSPONSORSHIPS \nAs with past events\, we are offering unique sponsorship opportunities.  Click Here For Sponsorships. \nSponsorship Contact: Wayne Kauffman\, FarWest.President@afa.org\, 818-665-9911.
URL:https://www.ncmbc.us/event/afcea-space-industry-days-2025/
ATTACH;FMTTYPE=image/gif:https://www.ncmbc.us/wp-content/uploads/78312200-7B68-4FD8-869D-9CAA14261584.gif
END:VEVENT
BEGIN:VEVENT
DTSTART;TZID=America/New_York:20251023T090000
DTEND;TZID=America/New_York:20251023T100000
DTSTAMP:20260421T154521
CREATED:20250811T204354Z
LAST-MODIFIED:20251021T134129Z
UID:5127-1761210000-1761213600@www.ncmbc.us
SUMMARY:10/23 - Opps Talk: Aerospace\, Ground Vehicles and Maritime
DESCRIPTION:Opps Talks will spotlight key federal contract opportunities for North Carolina businesses. Each session will include presentation and discussion of timely\, high-impact contract solicitations from the Department of Defense\, Department of Homeland Security\, other federal agencies\, and installations and commands in North Carolina and neighboring states — including traditional acquisitions\, multiple award contract vehicles (IDIQ\, MATOC/MACC)\, research and development (including SBIR/STTR/BAAs) opportunities and other significant announcements. \nDesigned to keep North Carolina businesses informed and engaged\, “Opps Talk” will connect industry\, academia\, and resource partners with current\, emerging\, and future federal contract opportunities in a fast\, focused format — helping turn opportunities into contracts that expand businesses\, grow jobs\, and improve quality of life in North Carolina. \nOpps Talk sessions will occur every Thursday starting at 0900 and highlight contract opportunities within key industries in North Carolina. \nParticipants are encouraged to ask questions and schedule an appointment for one-on-one technical assistance.\nThis is a free virtual session. \n  \n0900 – Aerospace \nRegister in advance for this meeting. After registering\, you will receive a confirmation email containing information about joining the meeting. https://www.zoomgov.com/meeting/register/cuEGoG7BSQSVnJ7_kT0zFA \n\nProcurement Integrated Enterprise Environment (PIEE)\nSpace Systems Command Office of Small Business Programs Info\n\n0930 – Ground Vehicles and Maritime \nRegister in advance for this meeting. After registering\, you will receive a confirmation email containing information about joining the meeting.\nhttps://www.zoomgov.com/meeting/register/n5VDPdu5SguITXU9kvotjA \nGround Vehicles \n\nReducer Hose\, Copper Alloy\nPiston\, Probe Assembly\, Aluminum Alloy Cast Material\nTube Assembly\, Metal\n\nMaritime \n\n3228 CESWG Survey Vessel\nNextGen Logistics Ship Concept Design MAC\nEnvironmental ship motion forecasting (ESMF) Future opp\nTile RFI
URL:https://www.ncmbc.us/event/10-23-opps-talk-aerospace-ground-vehicles-and-maritime/
LOCATION:Online
CATEGORIES:Homepage Events
ATTACH;FMTTYPE=image/png:https://www.ncmbc.us/wp-content/uploads/logo.png
END:VEVENT
END:VCALENDAR