BEGIN:VCALENDAR
VERSION:2.0
PRODID:-//NCMBC - ECPv6.15.20//NONSGML v1.0//EN
CALSCALE:GREGORIAN
METHOD:PUBLISH
X-WR-CALNAME:NCMBC
X-ORIGINAL-URL:https://www.ncmbc.us
X-WR-CALDESC:Events for NCMBC
REFRESH-INTERVAL;VALUE=DURATION:PT1H
X-Robots-Tag:noindex
X-PUBLISHED-TTL:PT1H
BEGIN:VTIMEZONE
TZID:America/New_York
BEGIN:DAYLIGHT
TZOFFSETFROM:-0500
TZOFFSETTO:-0400
TZNAME:EDT
DTSTART:20250309T070000
END:DAYLIGHT
BEGIN:STANDARD
TZOFFSETFROM:-0400
TZOFFSETTO:-0500
TZNAME:EST
DTSTART:20251102T060000
END:STANDARD
BEGIN:DAYLIGHT
TZOFFSETFROM:-0500
TZOFFSETTO:-0400
TZNAME:EDT
DTSTART:20260308T070000
END:DAYLIGHT
BEGIN:STANDARD
TZOFFSETFROM:-0400
TZOFFSETTO:-0500
TZNAME:EST
DTSTART:20261101T060000
END:STANDARD
BEGIN:DAYLIGHT
TZOFFSETFROM:-0500
TZOFFSETTO:-0400
TZNAME:EDT
DTSTART:20270314T070000
END:DAYLIGHT
BEGIN:STANDARD
TZOFFSETFROM:-0400
TZOFFSETTO:-0500
TZNAME:EST
DTSTART:20271107T060000
END:STANDARD
END:VTIMEZONE
BEGIN:VEVENT
DTSTART;TZID=America/New_York:20260113T090000
DTEND;TZID=America/New_York:20260113T100000
DTSTAMP:20260423T143240
CREATED:20251110T141838Z
LAST-MODIFIED:20251218T194607Z
UID:5456-1768294800-1768298400@www.ncmbc.us
SUMMARY:Infrastructure\, Environmental and Energy Quarterly Industry Forum
DESCRIPTION:Join the North Carolina Military Business Center for our quarterly industry-related forums that spotlight key federal opportunities and strengthen connections across North Carolina’s federal and defense contracting ecosystem. Each industry-specific quarterly session will connect businesses\, government agencies\, and prime contractors to discuss: \n\nUpcoming contracting opportunities and capability gaps\nMarket and policy trends shaping the industry\nSuccess stories and lessons learned from peers\nStrategies for growth in the federal marketplace\n\nThese forums are part of our year-round commitment to industry engagement\, building momentum towards major annual industry events like FEDTEX\, DISC\, MBB\, FTS and the Summit ensuring that businesses stay connected and competitive in a rapidly evolving federal and defense landscape. \nWhen. January 13\, 2026 from 0900-1000 \nWhere. This forum will be held in a virtual setting. \nAgenda: \n\nNCMBC updates and industry insights\nHighlights of upcoming opportunities and capability gaps\nFeatured Presentation: Captain John D. Berry\, P.E.\, Commander\, Shore Infrastructure Logistics Center. Captain Berry will provide an overview of the US Coast Guards Shore Infrastructure Logistics Center (SILC) highlighting its mission to manage and sustain the Coast Guards shore facilities and infrastructure. Key topics will include current infrastructure challenges\, priorities for future investments\, and opportunities for industry collaboration to support mission readiness.\nBusiness Spotlight: Sambau Ly\, CEO\, Shepherds Response. Mr. Ly will share how partnering with the NCMBC was a turning point for his organization. Through this collaboration\, Shepherd Response was able to leverage resources and connections that strengthened its ability to deliver critical disaster recovery services. The company’s efforts during Hurricane Helene relief combined with NCMBC’s support\, enabled Shepherd response to expand its footprint\, secure new projects\, and create jobs.\nOpen Q&A and networking\n\nSave the date for the 2026 Infrastructure\, Environmental and Energy Quarterly Forums: July 14\, 2026 and October 13\, 2026 \nRegister
URL:https://www.ncmbc.us/event/infrastructure-environmental-and-energy-quarterly-industry-forum/
LOCATION:Online
CATEGORIES:Homepage Events
ATTACH;FMTTYPE=image/png:https://www.ncmbc.us/wp-content/uploads/Infrastructure.png
END:VEVENT
BEGIN:VEVENT
DTSTART;TZID=America/New_York:20260114T100000
DTEND;TZID=America/New_York:20260114T113000
DTSTAMP:20260423T143240
CREATED:20251013T143115Z
LAST-MODIFIED:20251013T143115Z
UID:5357-1768384800-1768390200@www.ncmbc.us
SUMMARY:Capability Statements - Government Contracting Foundations
DESCRIPTION:The U.S. Federal Government is the world’s largest customer – and small businesses are a critical part of its supply chain. But breaking into federal contracting can feel overwhelming without a roadmap. \nThe Government Contracting Foundations Series is designed for small businesses that are curious about federal work but don’t know where to start. With these monthly webinars\, you’ll learn the basics step by step: how the government buys\, how to register\, what certifications mean\, how to define your company’s capabilities\, and what infrastructure you need in place to compete. \nWhether you’re a one-person shop or a growing business\, this series gives you practical\, no-nonsense guidance to help you decide if federal contracting is right for you and how to get started the right way. \nWhen. Wednesday\, January 14\, 10:00am-11:30am \nNote: These sessions are focused on federal contracting – how to do business with U.S. federal agencies. While some concepts may apply broadly\, this series is not designed for companies pursuing state or local government contracts. \n\nWed\, Feb 11\, 2026 10:00 to 11:30 AM ET Foundations Session 6: The Federal Sales Cycle\nWed\, Mar 11\, 2026 10:00 to 11:30 AM ET Foundations Session 7: Foundational Infrastructure for GovCon\nWed\, Apr 8\, 2026 10:00 to 11:30 AM ET Foundations Session 8: Human Factors in GovCon\n\nSession 5 – Capability Statements Turn your story into a powerful marketing tool. Once you know your capabilities and who buys them\, it’s time to create a capability statement. We’ll cover what belongs in one\, how to design it\, and how to use it to open doors with government buyers and prime contractors. \nReena Bhatia of the NC Military Business Center at Wake Tech will provide a basic overview of essential topics. \nThis webinar will be presented via Microsoft Teams platform. If you’ve never used Teams it will ask you to download onto your computer. We ask that you go ahead and complete this step\, utilizing the same First Name\, Last Name and Email address used during registration. \nOnce you do this it will allow you access to the webinar. We recommend that you sign in to the webinar at least five minutes prior to the start of the session to ensure you don’t have any technical issues. \n\nSpeaker(s): Reena Bhatia \nRegister
URL:https://www.ncmbc.us/event/capability-statements-government-contracting-foundations/
LOCATION:Online event
ATTACH;FMTTYPE=image/jpeg:https://www.ncmbc.us/wp-content/uploads/sbcn_jpg-1.jpg
END:VEVENT
BEGIN:VEVENT
DTSTART;TZID=America/New_York:20260120T060000
DTEND;TZID=America/New_York:20260120T180000
DTSTAMP:20260423T143240
CREATED:20251009T200108Z
LAST-MODIFIED:20251009T200205Z
UID:5346-1768888800-1768932000@www.ncmbc.us
SUMMARY:2026 CAPITOL HILL DEFENSE OUTLOOK SUMMIT
DESCRIPTION:Join us on January 20\, 2026 for the 2026 Capitol Hill Defense Outlook Summit! This major national defense conference in Washington will feature Members of Congress\, Pentagon officials\, military base commanders\, procurement officials\, and prime defense contractors. The Summit offers insights into the historic $1 Trillion 2026 defense budget\, which allocates significant funds for Air Force\, Army\, Navy\, USMC\, and Space Force procurement. The Summit features General Sessions\, Matchmaking Sessions\, Exhibit Areas\, and many networking opportunities.  \nWhen. January 20\, 2026 \nWhere. Rayburn House Office Building\n45 Independence Ave SW\, Washington DC\, 20515 \nLearn more about the latest defense contracting opportunities especially in these important areas: \n\nGolden Dome for America\nShipbuilding\nAI in Defense\nDrones & Anti-Drone Technology\nCritical Munitions\nMilitary Base Infrastructure & Depot Maintenance\nMilitary Construction\nSmall Businesses Interested in Defense & Federal Contracting\n\nThe Summit is brought to you by the United States Defense Leadership Forum\, which has brought more than 250\,000 military\, government\, and business leaders together since 2010 to identify the best solutions to defend the United States. Numerous Members of Congress have provided keynote addresses at its highly-regarded defense contracting summits. \nRegister
URL:https://www.ncmbc.us/event/2026-capitol-hill-defense-outlook-summit/
ATTACH;FMTTYPE=image/png:https://www.ncmbc.us/wp-content/uploads/Industry-Summit.png
END:VEVENT
BEGIN:VEVENT
DTSTART;TZID=America/New_York:20260121T103000
DTEND;TZID=America/New_York:20260121T113000
DTSTAMP:20260423T143240
CREATED:20251117T151508Z
LAST-MODIFIED:20251117T151508Z
UID:5485-1768991400-1768995000@www.ncmbc.us
SUMMARY:Government Contracting for Manufacturers: Turning Capability into Opportunity
DESCRIPTION:Many North Carolina manufacturers have the capabilities\, quality standards\, and capacity that government agencies seek but few are tapping into this multi-billion-dollar market. This one-hour webinar introduces manufacturers to the fundamentals of federal contracting and how their products\, processes\, and certifications align with government purchasing needs. \nParticipants will learn how the federal marketplace works\, what agencies buy manufactured goods\, how to identify and qualify opportunities\, and how to position their business for success. The session will also highlight how the North Carolina Military Business Center (NCMBC) connects manufacturers to federal buyers and primes through tools like MatchForce and strategic industry initiatives. \nWhen. Wednesday\, January 21\, 2026 from 10:30 am-11:30 am \nWhere. Online \nKey Topics Covered: \n\nUnderstanding the scale and structure of federal procurement\nHow manufacturers fit into the government supply chain\nCommon pathways to enter the market (prime vs. subcontractor)\nWhere and how to find opportunities (MatchForce\, SAM.gov\, DLA DIBBS)\nCertifications\, registrations\, and readiness basics\nHow NCMBC supports manufacturers with business development and technology transition\n\nThis webinar is ideal for small and mid-sized North Carolina manufacturers who: \n\nWant to diversify beyond commercial and private-sector work\nHave quality production capabilities but haven’t explored government sales\nAre interested in becoming suppliers or teaming partners to large primes\nWant to understand how to align their operations\, certifications\, and pricing with federal buyer expectations\n\nHosted by the Small Business Center Network in partnership with the NCMBC \nRegister
URL:https://www.ncmbc.us/event/government-contracting-for-manufacturers-turning-capability-into-opportunity/
LOCATION:Online
CATEGORIES:Homepage Events
ATTACH;FMTTYPE=image/png:https://www.ncmbc.us/wp-content/uploads/Picture1.png
END:VEVENT
BEGIN:VEVENT
DTSTART;TZID=America/New_York:20260122T133000
DTEND;TZID=America/New_York:20260122T143000
DTSTAMP:20260423T143240
CREATED:20260121T152724Z
LAST-MODIFIED:20260121T154131Z
UID:5604-1769088600-1769092200@www.ncmbc.us
SUMMARY:How to Do Business with Science Applications International Corporation (SAIC) and Other Large Businesses
DESCRIPTION:Join the U.S. Department of Veterans Affairs (VA) Office of Small and Disadvantaged Business Utilization (OSDBU) and the Strategic Outreach and Communications Program (SOC) for a virtual training webinar on “How to Do Business with Science Applications International Corporation (SAIC) and Other Large Businesses.” Presented by SAIC\, a leading technology integrator\, the training webinar will provide valuable insights into the operations of SAIC and what qualities large businesses look for in small business partners. Attendees will have the opportunity to connect with SAIC’s Small Business and Health Teams and learn about various capabilities in IT systems integration\, electronic health record integration\, cybersecurity\, artificial intelligence\, and more. Register now to secure your spot and empower your business for future success. \nWhy Attend?\nGain valuable insights into and explore SAIC’s operations:\n• How to do business with SAIC and other large businesses.\n• Learn what qualities and attributes large business look for in small business partners.\n• Connect with SAIC’s Small Business Director and Health Team. \nDate: Thursday\, January 22\, 2026 \nTime: 1:30 PM – 2:30 PM ET \nRegister \nJoin VA OSDBU and SAIC for a training webinar focused on partnering with large businesses. Learn what qualities major corporations seek in small business partners and explore opportunities in IT systems integration\, cybersecurity\, AI\, and more.
URL:https://www.ncmbc.us/event/how-to-do-business-with-science-applications-international-corporation-saic-and-other-large-businesses/
ATTACH;FMTTYPE=image/png:https://www.ncmbc.us/wp-content/uploads/B1A05A2E-42B7-477B-BEEC-DAD6C4A6328E.png
END:VEVENT
BEGIN:VEVENT
DTSTART;TZID=America/New_York:20260122T150000
DTEND;TZID=America/New_York:20260122T160000
DTSTAMP:20260423T143240
CREATED:20260121T153537Z
LAST-MODIFIED:20260121T154205Z
UID:5606-1769094000-1769097600@www.ncmbc.us
SUMMARY:VHA Procurement & Logistics Office (P&LO) Regional Program Office (RPO) West (NCO 19) Quarterly Virtual Business Opportunity Session
DESCRIPTION:Join the Office of Small and Disadvantaged Business Utilization (OSDBU) for a virtual event in collaboration with the Veterans Health Administration (VHA) Procurement and Logistics Office (P&LO) Regional Program Office (RPO) West Network Contracting Office (NCO 19). \nHosted by VA Small Business Liaisons (SBLs)\, these sessions will provide insights into the region’s strategic priorities and upcoming opportunities for Service-Disabled Veteran-Owned Small Businesses (SDVOSB) and Veteran-Owned Small Businesses (VOSB). \nLearn best practices for engaging with the VHA and discover how to effectively navigate the contracting landscape. \nDon’t miss this chance to position your business for success within the VHA framework! \nDate: Thursday\, January 22\, 2026 \nTime: 3:00 PM – 4:00 PM ET \nRegister\nHosted by VA Small Business Liaisons\, this session provides insights into VHA’s strategic priorities and upcoming opportunities for SDVOSBs and VOSBs.
URL:https://www.ncmbc.us/event/vha-procurement-logistics-office-plo-regional-program-office-rpo-west-nco-19-quarterly-virtual-business-opportunity-session/
ATTACH;FMTTYPE=image/png:https://www.ncmbc.us/wp-content/uploads/B1A05A2E-42B7-477B-BEEC-DAD6C4A6328E.png
END:VEVENT
BEGIN:VEVENT
DTSTART;TZID=America/New_York:20260127T103000
DTEND;TZID=America/New_York:20260127T113000
DTSTAMP:20260423T143240
CREATED:20260106T135912Z
LAST-MODIFIED:20260106T135912Z
UID:5559-1769509800-1769513400@www.ncmbc.us
SUMMARY:Growing Opportunity: Connecting North Carolina's Agriculture Industry to Federal Markets Webinar
DESCRIPTION:North Carolina’s agriculture industry is one of the most diverse and advanced in the country — stretching from family farms and food processors to ag-tech innovators\, packagers\, and distributors. Every part of this ecosystem contributes to feeding the nation\, yet only a small share currently participates in the federal market. \nThis one-hour webinar\, co-hosted by the North Carolina Military Business Center (NCMBC)\, introduces the entire agriculture value chain to opportunities in government contracting. Participants will learn how federal agencies purchase agricultural goods\, food products\, and supply-chain services\, and how NCMBC connects businesses across North Carolina to those opportunities. \nThe session highlights how collaboration among producers\, processors\, logistics providers\, and research partners in the State is shaping an ecosystem ready to meet federal demand for safe\, innovative\, and sustainable food systems. \nWhen. January 27\, 2026 from 10:30-11:30 \nWhere. Online \nRegister
URL:https://www.ncmbc.us/event/growing-opportunity-connecting-north-carolinas-agriculture-industry-to-federal-markets-webinar/
LOCATION:Online
CATEGORIES:Homepage Events
ATTACH;FMTTYPE=image/png:https://www.ncmbc.us/wp-content/uploads/Picture1.png
END:VEVENT
BEGIN:VEVENT
DTSTART;TZID=America/New_York:20260129T090000
DTEND;TZID=America/New_York:20260129T103000
DTSTAMP:20260423T143240
CREATED:20251107T151832Z
LAST-MODIFIED:20260121T135933Z
UID:5443-1769677200-1769682600@www.ncmbc.us
SUMMARY:Agriculture\, Food and Beverage Quarterly Industry Forum
DESCRIPTION:Join the North Carolina Military Business Center for our quarterly industry-related forums that spotlight key federal opportunities and strengthen connections across North Carolina’s federal and defense contracting ecosystem. Each industry-specific quarterly session will connect businesses\, government agencies\, and prime contractors to discuss: \n\nUpcoming contracting opportunities and capability gaps\nMarket and policy trends shaping the industry\nSuccess stories and lessons learned from peers\nStrategies for growth in the federal marketplace\n\nThese forums are part of our year-round commitment to industry engagement\, building momentum towards major annual industry events like FEDTEX\, DISC\, MBB\, FTS and the Summit ensuring that businesses stay connected and competitive in a rapidly evolving federal and defense landscape. \nWhen. January 29\, 2026 from 0900-1030 \nWhere. This forum will be held in a virtual setting. \nAgenda: \n\nNCMBC updates and industry insights\nHighlights of upcoming opportunities and capability gaps. Shelf Stocking\, Receiving\, Storage\, and Holding Area\, and Click2Go Services at the Jacksonville NAS Commissary; Material Handling Equipment (MHE) Maintenance and Repair Services- Maryland (Andrews AFB\, Annapolis and NAS Fort Meade\nBusiness Spotlights. Keith Purvis\, VP Value-Added Services\, Foster USA. Foster USA is a long-standing regional food supply chain business rooted in North Carolina that focuses on delivering fresh food products and logistical solutions throughout the Mid-Atlantic region and beyond. Foster moves fresh produce\, dairy\, and other food products from growers to customers like restaurants\, schools\, retailers\, and institutions. Through a contract with the Defense Logistics Agency\, Foster provides fresh produce to military installations in North Carolina\, Camp Lejeune\, Fort Bragg\, Seymour Johnson Air Force Base; USDA Schools; and Tribal Reservations.\nSheetal Shah\, Ph.D.\, CEO and Co-Founder\, Cosmic Eats\, Agribusiness and Food Systems. Cosmic Eats\, Inc. is an NC-based women-led start-up (NAICs 541714\, 541715) developing solutions to grow and deliver nutrient-dense food directly at point of need (PON). These solutions are effectively portable mini-farms that can be deployed to stabilize military and civilian populations\, in austere or remote environments\, or anywhere that conventional food supply chains may be unavailable or contested. Cosmic Eats was a recipient of a Defense Advanced Research Projects Agency (DARPA) award.\nOpen Q&A and networking\n\nSave the date for the 2026 upcoming Agriculture\, Food and Beverage Quarterly Forums: April 30\, 2026; July 30\, 2026 and October 29\, 2026 \nRegister
URL:https://www.ncmbc.us/event/agriculture-food-and-beverage-quarterly-industry-forum/
LOCATION:Online
CATEGORIES:Homepage Events
ATTACH;FMTTYPE=image/png:https://www.ncmbc.us/wp-content/uploads/Food.png
END:VEVENT
END:VCALENDAR