BEGIN:VCALENDAR
VERSION:2.0
PRODID:-//NCMBC - ECPv6.15.20//NONSGML v1.0//EN
CALSCALE:GREGORIAN
METHOD:PUBLISH
X-WR-CALNAME:NCMBC
X-ORIGINAL-URL:https://www.ncmbc.us
X-WR-CALDESC:Events for NCMBC
REFRESH-INTERVAL;VALUE=DURATION:PT1H
X-Robots-Tag:noindex
X-PUBLISHED-TTL:PT1H
BEGIN:VTIMEZONE
TZID:America/New_York
BEGIN:DAYLIGHT
TZOFFSETFROM:-0500
TZOFFSETTO:-0400
TZNAME:EDT
DTSTART:20240310T070000
END:DAYLIGHT
BEGIN:STANDARD
TZOFFSETFROM:-0400
TZOFFSETTO:-0500
TZNAME:EST
DTSTART:20241103T060000
END:STANDARD
BEGIN:DAYLIGHT
TZOFFSETFROM:-0500
TZOFFSETTO:-0400
TZNAME:EDT
DTSTART:20250309T070000
END:DAYLIGHT
BEGIN:STANDARD
TZOFFSETFROM:-0400
TZOFFSETTO:-0500
TZNAME:EST
DTSTART:20251102T060000
END:STANDARD
BEGIN:DAYLIGHT
TZOFFSETFROM:-0500
TZOFFSETTO:-0400
TZNAME:EDT
DTSTART:20260308T070000
END:DAYLIGHT
BEGIN:STANDARD
TZOFFSETFROM:-0400
TZOFFSETTO:-0500
TZNAME:EST
DTSTART:20261101T060000
END:STANDARD
END:VTIMEZONE
BEGIN:VEVENT
DTSTART;TZID=America/New_York:20250619T090000
DTEND;TZID=America/New_York:20250619T100000
DTSTAMP:20260421T094125
CREATED:20250519T170945Z
LAST-MODIFIED:20250616T204744Z
UID:4849-1750323600-1750327200@www.ncmbc.us
SUMMARY:6/19 - Opps Talk: R&D
DESCRIPTION:Opps Talk is a virtual forum spotlighting key federal R&D opportunities for North Carolina’s innovation ecosystem. Each session features timely\, high-impact solicitations from agencies like DoD\, DOE\, DHS\, and others — including SBIR/STTR topics\, BAAs\, and significant announcements. Designed to keep innovators informed and engaged\, Opps Talk connects businesses\, researchers\, and partners with the federal R&D landscape in a fast\, focused format — helping turn opportunity into action. \nParticipants are encouraged to ask questions and schedule an appointment for one-on-one technical assistance. \nThis is a free virtual session.\nOpportunities to be discussed include: \n\nMedical CDID BAA – US Army Medical Capability Development Integration Directorate (MED CDID)\nVERTEX | Launched Effects – Army Applications Lab\nBroad Agency Announcement (BAA) C4ISR\, Information Operations\, Cyberspace Operations\, and Information Technology System Research\, Cryogenics\, and Quantum\n\nMicrosoft Teams Need help?\nJoin the meeting now\nMeeting ID: 282 010 451 93\nPasscode: Uj9G8p5w
URL:https://www.ncmbc.us/event/6-19-opps-talk-rd/
LOCATION:Online
CATEGORIES:Homepage Events
ATTACH;FMTTYPE=image/jpeg:https://www.ncmbc.us/wp-content/uploads/Untitled-design.jpg
END:VEVENT
END:VCALENDAR