BEGIN:VCALENDAR
VERSION:2.0
PRODID:-//NCMBC - ECPv6.15.20//NONSGML v1.0//EN
CALSCALE:GREGORIAN
METHOD:PUBLISH
X-ORIGINAL-URL:https://www.ncmbc.us
X-WR-CALDESC:Events for NCMBC
REFRESH-INTERVAL;VALUE=DURATION:PT1H
X-Robots-Tag:noindex
X-PUBLISHED-TTL:PT1H
BEGIN:VTIMEZONE
TZID:America/New_York
BEGIN:DAYLIGHT
TZOFFSETFROM:-0500
TZOFFSETTO:-0400
TZNAME:EDT
DTSTART:20240310T070000
END:DAYLIGHT
BEGIN:STANDARD
TZOFFSETFROM:-0400
TZOFFSETTO:-0500
TZNAME:EST
DTSTART:20241103T060000
END:STANDARD
BEGIN:DAYLIGHT
TZOFFSETFROM:-0500
TZOFFSETTO:-0400
TZNAME:EDT
DTSTART:20250309T070000
END:DAYLIGHT
BEGIN:STANDARD
TZOFFSETFROM:-0400
TZOFFSETTO:-0500
TZNAME:EST
DTSTART:20251102T060000
END:STANDARD
BEGIN:DAYLIGHT
TZOFFSETFROM:-0500
TZOFFSETTO:-0400
TZNAME:EDT
DTSTART:20260308T070000
END:DAYLIGHT
BEGIN:STANDARD
TZOFFSETFROM:-0400
TZOFFSETTO:-0500
TZNAME:EST
DTSTART:20261101T060000
END:STANDARD
END:VTIMEZONE
BEGIN:VEVENT
DTSTART;TZID=America/New_York:20250716T090000
DTEND;TZID=America/New_York:20250716T160000
DTSTAMP:20260419T081827
CREATED:20250610T180323Z
LAST-MODIFIED:20250610T180443Z
UID:4929-1752656400-1752681600@www.ncmbc.us
SUMMARY:How to Start a Business - MCB Camp Lejeune
DESCRIPTION:Are you thinking about starting your own business? Not sure what steps to take or which ones to take first? This seminar was designed to provide basic information to individuals who are thinking about starting a business. This information includes critical ingredients for start-up success such as: feasibility studies; market demographics; funding sources; and business owner support. This class is open to all active duty military\, veterans\, and their immediate family members with base access. \nSpeakers: Dan Speagle\, Owner Top Dog Associates \nWhen. July 16 from 9:00 a.m. – 4:00 p.m.\nWhere. Marine Corps Base Camp Lejeune\, John A. Lejeune Education Center\, Room 112 \nRegister
URL:https://www.ncmbc.us/event/how-to-start-a-business-mcb-camp-lejeune/
LOCATION:Coastal Carolina Community College\, James Melton Vocational Skills Bldg\, Jacksonville\, NC
ATTACH;FMTTYPE=image/jpeg:https://www.ncmbc.us/wp-content/uploads/sbcn_jpg-1.jpg
END:VEVENT
END:VCALENDAR