BEGIN:VCALENDAR
VERSION:2.0
PRODID:-//NCMBC - ECPv6.15.20//NONSGML v1.0//EN
CALSCALE:GREGORIAN
METHOD:PUBLISH
X-ORIGINAL-URL:https://www.ncmbc.us
X-WR-CALDESC:Events for NCMBC
REFRESH-INTERVAL;VALUE=DURATION:PT1H
X-Robots-Tag:noindex
X-PUBLISHED-TTL:PT1H
BEGIN:VTIMEZONE
TZID:America/New_York
BEGIN:DAYLIGHT
TZOFFSETFROM:-0500
TZOFFSETTO:-0400
TZNAME:EDT
DTSTART:20240310T070000
END:DAYLIGHT
BEGIN:STANDARD
TZOFFSETFROM:-0400
TZOFFSETTO:-0500
TZNAME:EST
DTSTART:20241103T060000
END:STANDARD
BEGIN:DAYLIGHT
TZOFFSETFROM:-0500
TZOFFSETTO:-0400
TZNAME:EDT
DTSTART:20250309T070000
END:DAYLIGHT
BEGIN:STANDARD
TZOFFSETFROM:-0400
TZOFFSETTO:-0500
TZNAME:EST
DTSTART:20251102T060000
END:STANDARD
BEGIN:DAYLIGHT
TZOFFSETFROM:-0500
TZOFFSETTO:-0400
TZNAME:EDT
DTSTART:20260308T070000
END:DAYLIGHT
BEGIN:STANDARD
TZOFFSETFROM:-0400
TZOFFSETTO:-0500
TZNAME:EST
DTSTART:20261101T060000
END:STANDARD
END:VTIMEZONE
BEGIN:VEVENT
DTSTART;TZID=America/New_York:20251118T130000
DTEND;TZID=America/New_York:20251118T150000
DTSTAMP:20260419T082543
CREATED:20250922T164725Z
LAST-MODIFIED:20250922T164959Z
UID:5243-1763470800-1763478000@www.ncmbc.us
SUMMARY:Intro to Federal Contracting
DESCRIPTION:Join Fran Perez-Wilhite\, with the North Carolina Military Business Center to learn more about federal contracting for small businesses. \nTo sell your products or services to the federal government\, your small business must meet specific requirements. Although the contracting process can seem complicated and overwhelming at first\, the government provides information and tips to help you learn to compete as a federal contractor in North Carolina. \nWhen. November 18 from 1:00p-3:00p \nWhere. Central Piedmont Community College Small Business Center\nLevine Information Technology Room LT 1140\n1125 Charlottetowne Avenue\, Charlotte\, NC 28204 \nPhone: 704-330-6736\nEmail: sbc@cpcc.edu\n\nRegister
URL:https://www.ncmbc.us/event/intro-to-federal-contracting/
LOCATION:Central Piedmonth Community College\, 1125 Charlottetowne Avenue\, Charlotte\, NC\, 28204
ATTACH;FMTTYPE=image/jpeg:https://www.ncmbc.us/wp-content/uploads/sbcn_jpg-1.jpg
END:VEVENT
END:VCALENDAR