BEGIN:VCALENDAR
VERSION:2.0
PRODID:-//NCMBC - ECPv6.15.20//NONSGML v1.0//EN
CALSCALE:GREGORIAN
METHOD:PUBLISH
X-WR-CALNAME:NCMBC
X-ORIGINAL-URL:https://www.ncmbc.us
X-WR-CALDESC:Events for NCMBC
REFRESH-INTERVAL;VALUE=DURATION:PT1H
X-Robots-Tag:noindex
X-PUBLISHED-TTL:PT1H
BEGIN:VTIMEZONE
TZID:America/New_York
BEGIN:DAYLIGHT
TZOFFSETFROM:-0500
TZOFFSETTO:-0400
TZNAME:EDT
DTSTART:20250309T070000
END:DAYLIGHT
BEGIN:STANDARD
TZOFFSETFROM:-0400
TZOFFSETTO:-0500
TZNAME:EST
DTSTART:20251102T060000
END:STANDARD
BEGIN:DAYLIGHT
TZOFFSETFROM:-0500
TZOFFSETTO:-0400
TZNAME:EDT
DTSTART:20260308T070000
END:DAYLIGHT
BEGIN:STANDARD
TZOFFSETFROM:-0400
TZOFFSETTO:-0500
TZNAME:EST
DTSTART:20261101T060000
END:STANDARD
BEGIN:DAYLIGHT
TZOFFSETFROM:-0500
TZOFFSETTO:-0400
TZNAME:EDT
DTSTART:20270314T070000
END:DAYLIGHT
BEGIN:STANDARD
TZOFFSETFROM:-0400
TZOFFSETTO:-0500
TZNAME:EST
DTSTART:20271107T060000
END:STANDARD
END:VTIMEZONE
BEGIN:VEVENT
DTSTART;TZID=America/New_York:20260203T133000
DTEND;TZID=America/New_York:20260203T143000
DTSTAMP:20260422T083335
CREATED:20260121T154053Z
LAST-MODIFIED:20260121T154053Z
UID:5607-1770125400-1770129000@www.ncmbc.us
SUMMARY:VA Technology Transfer Program Virtual Business Opportunity Session
DESCRIPTION:The U.S. Department of Veterans Affairs\, Office of Research and Development\, Technology Transfer Program (TTP)\, in collaboration with the Office of Small and Disadvantaged Business Utilization (OSDBU)\, Direct Access Program (DAP)\, invites you to a virtual business opportunity session. \nThis session is designed for small businesses and entrepreneurs interested in commercializing healthcare technology developed by VA researchers and clinicians. \nVA’s Technology Transfer Program\, through its partnership with TechLink represents the point of engagement for companies seeking to further develop and then bring to market novel VA technologies. Such technologies available for licensing or co-development span the healthcare spectrum from simple aids for daily living\, patient mobility devices\, prosthetics\, diagnostics\, implanted devices\, and pharmaceutical candidates. Such technologies could be the basis for a new business venture or can add to a company’s current product or service offering. \nDate: Tuesday\, February 3\, 2026 \nTime: 1:30 PM – 2:30 PM ET \nRegister
URL:https://www.ncmbc.us/event/va-technology-transfer-program-virtual-business-opportunity-session/
ATTACH;FMTTYPE=image/png:https://www.ncmbc.us/wp-content/uploads/B1A05A2E-42B7-477B-BEEC-DAD6C4A6328E.png
END:VEVENT
END:VCALENDAR