BEGIN:VCALENDAR
VERSION:2.0
PRODID:-//NCMBC - ECPv6.15.20//NONSGML v1.0//EN
CALSCALE:GREGORIAN
METHOD:PUBLISH
X-WR-CALNAME:NCMBC
X-ORIGINAL-URL:https://www.ncmbc.us
X-WR-CALDESC:Events for NCMBC
REFRESH-INTERVAL;VALUE=DURATION:PT1H
X-Robots-Tag:noindex
X-PUBLISHED-TTL:PT1H
BEGIN:VTIMEZONE
TZID:America/New_York
BEGIN:DAYLIGHT
TZOFFSETFROM:-0500
TZOFFSETTO:-0400
TZNAME:EDT
DTSTART:20250309T070000
END:DAYLIGHT
BEGIN:STANDARD
TZOFFSETFROM:-0400
TZOFFSETTO:-0500
TZNAME:EST
DTSTART:20251102T060000
END:STANDARD
BEGIN:DAYLIGHT
TZOFFSETFROM:-0500
TZOFFSETTO:-0400
TZNAME:EDT
DTSTART:20260308T070000
END:DAYLIGHT
BEGIN:STANDARD
TZOFFSETFROM:-0400
TZOFFSETTO:-0500
TZNAME:EST
DTSTART:20261101T060000
END:STANDARD
BEGIN:DAYLIGHT
TZOFFSETFROM:-0500
TZOFFSETTO:-0400
TZNAME:EDT
DTSTART:20270314T070000
END:DAYLIGHT
BEGIN:STANDARD
TZOFFSETFROM:-0400
TZOFFSETTO:-0500
TZNAME:EST
DTSTART:20271107T060000
END:STANDARD
END:VTIMEZONE
BEGIN:VEVENT
DTSTART;TZID=America/New_York:20260401T090000
DTEND;TZID=America/New_York:20260401T100000
DTSTAMP:20260419T090253
CREATED:20260312T150855Z
LAST-MODIFIED:20260312T150855Z
UID:5772-1775034000-1775037600@www.ncmbc.us
SUMMARY:Virtual Industry Day Comprehensive Everglades Restoration Plan
DESCRIPTION:This is an announcement for an upcoming virtual industry day only. The U.S. Army Corps of Engineers-Jacksonville District (Corps) will hold a virtual Industry Day for the Comprehensive Everglades Restoration Plan (CERP) Indian River Lagoon South (IRL-S) C-44 Reservoir and Stormwater Treatment Area (C-44 RSTA) Seepage Management Feature – Relief Wells Contract A\, Martin County\, Florida on Wednesday\, 1 April 2026. The Industry Day will consist of Opening Remarks\, Technical Presentation\, Procurement Strategy\, and Small Business Opportunities. All interested Offerors are required to access SAM.gov for future updates. This announcement seeks information from industry and will only be used for preliminary planning purposes. \nWhen. April 1\, 2026\, from 9:00 – 10:00 am\, EST \nLocation: Virtual (via Microsoft Teams)\nhttps://dod.teams.microsoft.us/meet/993404376565?p=dbdKybOTaxwMMf26vK \nFor a full description and agenda for the Industry Day\, visit: https://sam.gov/workspace/contract/opp/7a939ddfb2b542b082e2b453c844d9ae/view \nPoint of contact: Questions regarding this event can be directed to Ligaya Lowe at ligaya.m.lowe@usace.army.mil and Martha Sequeira at martha.g.sequeira@usace.army.mil \nNOTE: All interested parties to include prospective prime contractors\, subcontractors and suppliers are invited to attend. This is not a solicitation for proposals and no contract shall be awarded from this notice. However\, DRAFT SPECIFICATIONS have been provided for reference as attachments under this notice.
URL:https://www.ncmbc.us/event/virtual-industry-day-comprehensive-everglades-restoration-plan/
LOCATION:Online
ATTACH;FMTTYPE=image/jpeg:https://www.ncmbc.us/wp-content/uploads/251210-A-BS310-2037M.jpeg
END:VEVENT
END:VCALENDAR