BEGIN:VCALENDAR
VERSION:2.0
PRODID:-//NCMBC - ECPv6.15.20//NONSGML v1.0//EN
CALSCALE:GREGORIAN
METHOD:PUBLISH
X-ORIGINAL-URL:https://www.ncmbc.us
X-WR-CALDESC:Events for NCMBC
REFRESH-INTERVAL;VALUE=DURATION:PT1H
X-Robots-Tag:noindex
X-PUBLISHED-TTL:PT1H
BEGIN:VTIMEZONE
TZID:America/New_York
BEGIN:DAYLIGHT
TZOFFSETFROM:-0500
TZOFFSETTO:-0400
TZNAME:EDT
DTSTART:20250309T070000
END:DAYLIGHT
BEGIN:STANDARD
TZOFFSETFROM:-0400
TZOFFSETTO:-0500
TZNAME:EST
DTSTART:20251102T060000
END:STANDARD
BEGIN:DAYLIGHT
TZOFFSETFROM:-0500
TZOFFSETTO:-0400
TZNAME:EDT
DTSTART:20260308T070000
END:DAYLIGHT
BEGIN:STANDARD
TZOFFSETFROM:-0400
TZOFFSETTO:-0500
TZNAME:EST
DTSTART:20261101T060000
END:STANDARD
BEGIN:DAYLIGHT
TZOFFSETFROM:-0500
TZOFFSETTO:-0400
TZNAME:EDT
DTSTART:20270314T070000
END:DAYLIGHT
BEGIN:STANDARD
TZOFFSETFROM:-0400
TZOFFSETTO:-0500
TZNAME:EST
DTSTART:20271107T060000
END:STANDARD
END:VTIMEZONE
BEGIN:VEVENT
DTSTART;TZID=America/New_York:20260605T090000
DTEND;TZID=America/New_York:20260605T160000
DTSTAMP:20260421T141843
CREATED:20260420T200025Z
LAST-MODIFIED:20260420T200025Z
UID:5859-1780650000-1780675200@www.ncmbc.us
SUMMARY:Boots to Business/REBOOT
DESCRIPTION:Boots to Business Reboot is an entrepreneurial education and training program offered by the U.S. Small Business Administration (SBA). The course provides an overview of entrepreneurship and applicable business ownership fundamentals. Veterans of all eras\, Active Duty Service members (including National Guard and Reserve) and spouses are eligible to participate. \nWhen. June 5\, 2026 from 9:00 AM – 4:00 PM \nWhere. Forsyth Technical Community College\nStrickland Building\nRhodes Conference Center\n2100 Silas Creek Parkway\nWinston-Salem\, NC 27103 \nDuring Reboot\, participants are introduced to the skills\, knowledge\, and resources they need to launch a business\, including steps for developing business concepts\, how to develop a business plan\, and information on SBA resources available to help. The program is facilitated by subject matter experts from the SBA and their extensive network of skilled business advisors. \nParticipants that complete an in-person or online B2B Reboot course can elect to further their study through one of many B2B online courses\, offered at no cost to Service members\, Veterans and military spouses. If you’ve already attended an in-person or online B2B Reboot course\, visit sba.my.site.com to sign up for one of the online B2B follow-on course. \nIn collaboration with the Small Business Center at Forsyth Tech\, Veterans’ Services and the NC Military Business Center. \nThe Boots to Business program is provided through the coordinated efforts of the SBA and its valued partner network. All SBA services are extended to the public on a nondiscriminatory basis. Reasonable arrangements for persons with disabilities will be made if requested at least two weeks in advance. Contact Sarah Espinosa at 910-672-2683 or sespinos@uncfsu.edu. \nParking instructions will be sent to registrants \nRegister
URL:https://www.ncmbc.us/event/boots-to-business-reboot/
ATTACH;FMTTYPE=image/png:https://www.ncmbc.us/wp-content/uploads/Screenshot-2026-04-20-at-3.59.58-PM.png
END:VEVENT
END:VCALENDAR