BEGIN:VCALENDAR
VERSION:2.0
PRODID:-//NCMBC - ECPv6.15.20//NONSGML v1.0//EN
CALSCALE:GREGORIAN
METHOD:PUBLISH
X-ORIGINAL-URL:https://www.ncmbc.us
X-WR-CALDESC:Events for NCMBC
REFRESH-INTERVAL;VALUE=DURATION:PT1H
X-Robots-Tag:noindex
X-PUBLISHED-TTL:PT1H
BEGIN:VTIMEZONE
TZID:America/New_York
BEGIN:DAYLIGHT
TZOFFSETFROM:-0500
TZOFFSETTO:-0400
TZNAME:EDT
DTSTART:20250309T070000
END:DAYLIGHT
BEGIN:STANDARD
TZOFFSETFROM:-0400
TZOFFSETTO:-0500
TZNAME:EST
DTSTART:20251102T060000
END:STANDARD
BEGIN:DAYLIGHT
TZOFFSETFROM:-0500
TZOFFSETTO:-0400
TZNAME:EDT
DTSTART:20260308T070000
END:DAYLIGHT
BEGIN:STANDARD
TZOFFSETFROM:-0400
TZOFFSETTO:-0500
TZNAME:EST
DTSTART:20261101T060000
END:STANDARD
BEGIN:DAYLIGHT
TZOFFSETFROM:-0500
TZOFFSETTO:-0400
TZNAME:EDT
DTSTART:20270314T070000
END:DAYLIGHT
BEGIN:STANDARD
TZOFFSETFROM:-0400
TZOFFSETTO:-0500
TZNAME:EST
DTSTART:20271107T060000
END:STANDARD
END:VTIMEZONE
BEGIN:VEVENT
DTSTART;TZID=America/New_York:20260304T090000
DTEND;TZID=America/New_York:20260304T103000
DTSTAMP:20260420T064653
CREATED:20251020T150919Z
LAST-MODIFIED:20251021T162450Z
UID:5379-1772614800-1772620200@www.ncmbc.us
SUMMARY:Introduction to Government Proposals and Source Selection Tips
DESCRIPTION:Join the North Carolina Military Business Center for “Introduction to Government Proposals and Source Selection Tips virtually on the following dates:  \n\nMarch 4\, 2026 from 0900-1030\nAugust 26\, 2026 from 0900-1030\n\nAbout. Are you looking to navigate the complex world of government proposals with confidence and success? Join our introductory webinar on “Federal Government Proposal Best Practices” to gain invaluable insights and strategies that will elevate your proposal game to new heights. Don’t miss this opportunity to sharpen your skills and position your proposals for success in the competitive government contracting landscape.  \nAgenda:  \n\nUnderstanding Government Procurement: Understand the government procurement processes and gain an overview of the key steps involved; \nStrategic Planning: Learn how to develop a robust proposal strategy that aligns with government requirements and maximizes your chances of success; \nEffective Research Techniques: Discover the importance of thorough research and how it can significantly enhance the quality of your government proposals; \nCompliance and Regulations: Navigate the maze of compliance requirements and regulations to ensure your proposals meet the necessary standards; \nCrafting a Compelling Proposal: Master the art of crafting persuasive and compelling proposals that stand out among competitors and resonate with government decision-makers; \nProposal Submission Tips: Get tips on the submission process\, including common pitfalls to avoid and best practices for a smooth submission; \nSource Selection: Get insider knowledge on how source selection panels evaluate contractor proposals. \nQ&A Session: Engage our speakers during the Q&A session to address your specific queries and concerns. \n\nRegistration.  Although this is a free webinar\, registration is required to receive log-in credentials.   \nRegister. 
URL:https://www.ncmbc.us/event/introduction-to-government-proposals-and-source-selection-tips-2/
LOCATION:Online
CATEGORIES:Homepage Events
ATTACH;FMTTYPE=image/jpeg:https://www.ncmbc.us/wp-content/uploads/250816-A-NR779-1187M.jpg
END:VEVENT
BEGIN:VEVENT
DTSTART;TZID=America/New_York:20260305T100000
DTEND;TZID=America/New_York:20260305T110000
DTSTAMP:20260420T064653
CREATED:20260213T162829Z
LAST-MODIFIED:20260213T164241Z
UID:5659-1772704800-1772708400@www.ncmbc.us
SUMMARY:Business Insurance 101 Webinar
DESCRIPTION:Hosted by the NC Department of Insurance – Consumer Services Division \nThe Consumer Services Division of the North Carolina Department of Insurance is offering a free Business Insurance 101 webinar to help business owners understand how to protect their operations from financial risks and ensure they have the right insurance coverage in place. \nThis session is designed for current and prospective business owners who want to better understand their insurance needs. \nWhen. Thursday\, March 5 from 10:00 – 11:00 am \nWhere. Online \nRegistration will be required on the NCDOI webpage and through the Webex invitation. Therefore\, \n\nPlease register on the NCDOI Webpage through the link below.\nA Webex Invitation will be sent\, separately.\n\nTo participate in the event\, you must pre-register with Webex.\nUpon registering with Webex\, registered participants will receive details on how to join the webinar from Webex\n\n\n\n  \nRegister
URL:https://www.ncmbc.us/event/business-insurance-101-webinar/
LOCATION:NC
ATTACH;FMTTYPE=image/png:https://www.ncmbc.us/wp-content/uploads/DOI-seal-logo-1.png
END:VEVENT
BEGIN:VEVENT
DTSTART;TZID=America/New_York:20260305T140000
DTEND;TZID=America/New_York:20260305T160000
DTSTAMP:20260420T064653
CREATED:20260106T150800Z
LAST-MODIFIED:20260106T151226Z
UID:5562-1772719200-1772726400@www.ncmbc.us
SUMMARY:Introduction to Federal Contracting For the Small Business Owner (Online)
DESCRIPTION:To sell your products or services to the federal government\, your small business must meet specific requirements. Although the contracting process can seem complicated and overwhelming at first\, the government provides information and tips to help you learn to compete as a federal contractor in North Carolina. \nWhen. March 5\, 2026 from 2:00-4:00 pm \nWhere. Online \nRegister
URL:https://www.ncmbc.us/event/introduction-to-federal-contracting-for-the-small-business-owner-online-4/
LOCATION:Online
CATEGORIES:Homepage Events
ATTACH;FMTTYPE=image/png:https://www.ncmbc.us/wp-content/uploads/Picture1.png
END:VEVENT
BEGIN:VEVENT
DTSTART;TZID=America/New_York:20260309T080000
DTEND;TZID=America/New_York:20260310T170000
DTSTAMP:20260420T064653
CREATED:20260112T195746Z
LAST-MODIFIED:20260112T200300Z
UID:5581-1773043200-1773162000@www.ncmbc.us
SUMMARY:NCEDA 2026 SPRING CONFERENCE & 60th ANNIVERSARY CELEBRATION
DESCRIPTION:NCEDA conferences provide an excellent opportunity for economic development professionals from across North Carolina to expand their knowledge\, sharpen their skills and build connections so they can advance their careers and better serve the needs of their communities. \nClick HERE to learn more about NCEDA sponsorship opportunities! Contact Liz Dobbins-Smith (888.246.2332 or liz@nceda.org) for more details. \nDates: March 9-10\, 2026\nLocation: Grandover Resort • Greensboro\, NC\nRegistration Fees: $425 for members / $275 for emerging executives and retirees / $750 for non-members \nSave the date! Registration will open in January! Please see the schedule below: \nMonday\, March 9 \n\nOptional Activities (Afternoon)\nConnector’s Network Reception for New Members and Emerging Execs (5:15 – 6 pm)\nWelcoming Reception (6 – 7 pm)\n60th Anniversary Celebration Dinner (7 – 10 pm)\n\nTuesday\, March 10 \n\nBreakfast (7:30 – 8:30 am)\nConference General Session (8:30 am – 12:30 pm)\nLuncheon and Keynote Presentation (12:30 – 2 pm)\nAdjourn (2 pm)\n\n\n\n\nFor more information\, visit: https://nceda.org/events-networking/spring-conference/
URL:https://www.ncmbc.us/event/nceda-2026-spring-conference-60th-anniversary-celebration/
LOCATION:Grandover Resort
ATTACH;FMTTYPE=image/jpeg:https://www.ncmbc.us/wp-content/uploads/F09910A2-2AC9-422D-B2F8-5B1CFE41944D.jpeg
END:VEVENT
BEGIN:VEVENT
DTSTART;TZID=America/New_York:20260311T100000
DTEND;TZID=America/New_York:20260311T113000
DTSTAMP:20260420T064653
CREATED:20251013T144714Z
LAST-MODIFIED:20251013T144727Z
UID:5360-1773223200-1773228600@www.ncmbc.us
SUMMARY:Foundational Infrastructure for GovCon - Government Contracting Foundations
DESCRIPTION:The U.S. Federal Government is the world’s largest customer – and small businesses are a critical part of its supply chain. But breaking into federal contracting can feel overwhelming without a roadmap. \nThe Government Contracting Foundations Series is designed for small businesses that are curious about federal work but don’t know where to start. With these monthly webinars\, you’ll learn the basics step by step: how the government buys\, how to register\, what certifications mean\, how to define your company’s capabilities\, and what infrastructure you need in place to compete. \nWhether you’re a one-person shop or a growing business\, this series gives you practical\, no-nonsense guidance to help you decide if federal contracting is right for you and how to get started the right way. \nWhen. Wednesday\, March 11\, 10:00am-11:30am \nWhere. Online \nNote: These sessions are focused on federal contracting – how to do business with U.S. federal agencies. While some concepts may apply broadly\, this series is not designed for companies pursuing state or local government contracts. \n\nWed\, Apr 8\, 2026 10:00 to 11:30 AM ET Foundations Session 8: Human Factors in GovCon\n\nSession 7 – Foundational Infrastructure for Government Contractors Build the backbone of your business before chasing contracts. Government contracting requires more than a SAM registration. We’ll walk through the core business functions you need – from accounting and timekeeping systems to HR\, IT\, contracts/legal\, and compliance (SPRS\, CMMC). You’ll learn what’s essential at the start and what can scale as you grow. \nReena Bhatia of the NC Military Business Center at Wake Tech will provide a basic overview of essential topics. \nThis webinar will be presented via Microsoft Teams platform. If you’ve never used Teams it will ask you to download onto your computer. We ask that you go ahead and complete this step\, utilizing the same First Name\, Last Name and Email address used during registration. \nOnce you do this it will allow you access to the webinar. We recommend that you sign in to the webinar at least five minutes prior to the start of the session to ensure you don’t have any technical issues. \n\nSpeaker(s): Reena Bhatia \nRegister
URL:https://www.ncmbc.us/event/foundational-infrastructure-for-govcon/
LOCATION:Online event
ATTACH;FMTTYPE=image/jpeg:https://www.ncmbc.us/wp-content/uploads/sbcn_jpg-1.jpg
END:VEVENT
BEGIN:VEVENT
DTSTART;TZID=America/New_York:20260311T100000
DTEND;TZID=America/New_York:20260311T140000
DTSTAMP:20260420T064653
CREATED:20260206T154735Z
LAST-MODIFIED:20260206T155219Z
UID:5642-1773223200-1773237600@www.ncmbc.us
SUMMARY:Supplier Matchmaking Expo at Charlotte Motor Speedway
DESCRIPTION:The U.S. Small Business Administration and the National Association of Manufacturers are excited to announce the 2026 Supplier Matchmaking Expo that will be held at the Charlotte Motor Speedway on March 11\, 2026\, from 10 am – 2 pm EDT. \nThe Supplier Matchmaking Expo is your chance to meet domestic corporate partners from companies of all sizes that are looking for suppliers. This unique opportunity will bring together buyers and suppliers looking to strengthen their U.S. supply chains. \nWhat’s Included: \n\nOne-on-one matchmaking meetings\nExhibit hall with U.S. buyers and local\, state and federal organizations that support small manufacturers\n\nDon’t miss out on meeting key industry players and discovering fresh opportunities. Limited space available. \nRegister
URL:https://www.ncmbc.us/event/supplier-matchmaking-expo-at-charlotte-motor-speedway/
LOCATION:Charlotte Motor Speedway\, 5555 Concord Parkway S.\, Concord\, NC\, 28027
ATTACH;FMTTYPE=image/png:https://www.ncmbc.us/wp-content/uploads/Supplier-Expo.png
END:VEVENT
BEGIN:VEVENT
DTSTART;TZID=America/New_York:20260312T090000
DTEND;TZID=America/New_York:20260312T103000
DTSTAMP:20260420T064653
CREATED:20251107T150315Z
LAST-MODIFIED:20260309T210237Z
UID:5440-1773306000-1773311400@www.ncmbc.us
SUMMARY:Medical Quarterly Industry Forum
DESCRIPTION:Join the North Carolina Military Business Center for our quarterly industry-related forums that spotlight key federal opportunities and strengthen connections across North Carolina’s federal and defense contracting ecosystem. Each industry-specific quarterly session will connect businesses\, government agencies\, and prime contractors to discuss: \n\nUpcoming contracting opportunities and capability gaps\nMarket and policy trends shaping the industry\nSuccess stories and lessons learned from peers\nStrategies for growth in the federal marketplace\n\nThese forums are part of our year-round commitment to industry engagement\, building momentum towards major annual industry events like FEDTEX\, DISC\, MBB\, FTS and the Summit ensuring that businesses stay connected and competitive in a rapidly evolving federal and defense landscape. \nWhen. March 12\, 2026 from 0900-1030 \nWhere. This forum will be held in a virtual setting. \nAgenda: \n\nNCMBC updates and industry insights\nHighlights of upcoming opportunities and capability gaps\nFeatured Presentation: Ramya Vijapurapu\, Technology Commercialization Counselor\, NC SBTDC\nBusiness Spotlight: Dr. Tanya O. Jones\, CEO-Co-Founder\, Interactive Agency\nOpen Q&A and networking\n\nTo learn more about our speakers\, click here. \nSave the date for the Upcoming Medical Quarterly Forums:  June 11\, 2026; and December 10\, 2026 \nRegister
URL:https://www.ncmbc.us/event/medical-quarterly-industry-forum-2/
LOCATION:Online
CATEGORIES:Homepage Events
ATTACH;FMTTYPE=image/png:https://www.ncmbc.us/wp-content/uploads/Medical-1.png
END:VEVENT
BEGIN:VEVENT
DTSTART;TZID=America/New_York:20260312T130000
DTEND;TZID=America/New_York:20260312T150000
DTSTAMP:20260420T064653
CREATED:20260305T190145Z
LAST-MODIFIED:20260305T190546Z
UID:5764-1773320400-1773327600@www.ncmbc.us
SUMMARY:Department of War Cybersecurity Maturity Model Certification Program Small Business Impacts Roundtable
DESCRIPTION:The next Office of Advocacy Small Business Roundtable will be held virtually on March 12\, 2026\, at 1 PM ET on the Microsoft Teams platform. \nIn 2024\, the U.S. Department of War published the final rules for the Cybersecurity Maturity Model Certification Program (CMMC). In 2025\, the Defense Acquisition Regulation Supplement posted rules to incorporate this into all contracts. Advocacy filed comments stating that the Department underestimated the costs of compliance with the certification. Now that these terms have been implemented\, Advocacy is hosting this roundtable to solicit insight from small businesses on their experiences with the CMMC program thus far. Specifically\, Advocacy would like information on how much the certification process has cost\, and the expected impact CMMC requirements will have on small businesses. We also seek to identify program improvements to reduce CMMC compliance burdens. \nPlease register and provide the information requested to receive a Teams link. \nDate: March 12\, 2026\nTime: 1:00 PM – 3:00 PM ET\nMeeting Platform: Microsoft Teams \nRegister
URL:https://www.ncmbc.us/event/department-of-war-cybersecurity-maturity-model-certification-program-small-business-impacts-roundtable/
LOCATION:Online Webinar
ATTACH;FMTTYPE=image/jpeg:https://www.ncmbc.us/wp-content/uploads/sba-logo-horizontal-jpg.jpg
END:VEVENT
BEGIN:VEVENT
DTSTART;VALUE=DATE:20260318
DTEND;VALUE=DATE:20260320
DTSTAMP:20260420T064653
CREATED:20251001T163537Z
LAST-MODIFIED:20251001T163537Z
UID:5302-1773792000-1773964799@www.ncmbc.us
SUMMARY:Defense Industrial Sustainment for Combat Systems Summit
DESCRIPTION:The Offices of US Senator Thom Tillis and US Senator Ted Budd\, and the North Carolina Military Business Center will host the Defense Industrial Sustainment for Combat Systems (DISC) Summit in Chapel Hill\, North Carolina. \nWhen. March 18-19\, 2026 (postponed from November 18-19\, 2025) \nWHERE.   University of North Carolina\, The Friday Center\, 100 Friday Center Drive\, Chapel Hill\, NC 27517 \n\nPrintable Parking Pass will be available closer to the event.\nDirections to the Friday Center\n\nPurpose of the DISC Summit.  To sustain and expand the supply chain and service providers within the defense aerospace\, ground vehicle\, maritime and armaments markets. \nPremise of the DISC Summit \n\nThe defense aerospace\, ground vehicle\, maritime and armaments markets represent tremendous business opportunity\nOEMs\, subcontractors\, service providers and suppliers are often siloed in these market sectors\nFuture sustainment and supply chain resilience will require breaking silos\, engaging new businesses and promoting dialogue among the defense industrial and R&D ecosystem\n\nGoals of the DISC Summit: \n\nEngaging current and prospective suppliers and service providers to leverage prime contracting opportunities with the Department of Defense and other federal agencies across these market silos\nEngaging current and prospective suppliers to leverage subcontracting opportunities with OEMS/prime contractors across these market silos\nInforming the industrial/academia R&D ecosystem about future defense technology imperatives\, and agencies about emerging and future technologies in these sectors\n Establishing a productive and DIRECT dialogue around critical issues in the defense industrial market – including supply chain\, maintenance/repair/overhaul (MRO)\, workforce\, inflation and barriers to entry\n\nWho should participate in the DISC Summit: \n\nCurrent OEMs\, prime contractors\, suppliers and service providers in the defense aerospace\, ground vehicle\, maritime and armaments markets\nBusinesses considering engaging as an OEM\, prime contractor\, supplier and/or service provider within these markets\nIndustry- and academia-based entities conducting R&D and new product development for aerospace\, vehicle\, maritime and armament systems\nFederal and Defense agencies engaged in requirements generation\, acquisition\, sustainment and R&D within these markets\n\nRegister
URL:https://www.ncmbc.us/event/defense-industrial-sustainment-for-combat-systems-summit/
LOCATION:University of North Carolina\, The Friday Center\, 100 Friday Center Drive\, Chapel Hill\, NC\, 27517\, United States
CATEGORIES:Homepage Events
ATTACH;FMTTYPE=image/png:https://www.ncmbc.us/wp-content/uploads/DISC26Slider_NCMBC.png
END:VEVENT
BEGIN:VEVENT
DTSTART;VALUE=DATE:20260318
DTEND;VALUE=DATE:20260320
DTSTAMP:20260420T064653
CREATED:20251009T192528Z
LAST-MODIFIED:20251009T193222Z
UID:5328-1773792000-1773964799@www.ncmbc.us
SUMMARY:19th Annual Homeland Security Week
DESCRIPTION:The Homeland Security Week Summit annually attracts over 500 attendees and 40 expert speakers from across the homeland security ecosystem. Senior officials from DHS\, DOJ\, and local law enforcement join leading industry innovators and technology providers to address one critical question: “how can we best protect the U.S. homeland against evolving threats?” \nNow in its 19th year\, the 2026 summit will gather stakeholders from across government and industry to explore next-generation solutions in AI\, cloud and cybersecurity\, biometrics\, counter-UAS capabilities\, border management\, infrastructure resilience\, and more. \nJoin us March 17–18\, 2026 in the Washington\, DC area for two days of keynote briefings\, expert panels\, and unparalleled networking\, as we chart the future of homeland security together. \nWhen. March 17-28\, 2026 \nWhere. MGM National Harbor Hotel & Casino\, MD \nRegister
URL:https://www.ncmbc.us/event/19th-annual-homeland-security-week/
LOCATION:NC
ATTACH;FMTTYPE=image/png:https://www.ncmbc.us/wp-content/uploads/Seal_of_the_United_States_Department_of_Homeland_Security.svg_.png
END:VEVENT
BEGIN:VEVENT
DTSTART;TZID=America/New_York:20260324T080000
DTEND;TZID=America/New_York:20260326T170000
DTSTAMP:20260420T064653
CREATED:20260123T143623Z
LAST-MODIFIED:20260123T143623Z
UID:5612-1774339200-1774544400@www.ncmbc.us
SUMMARY:Small Business Boot Camp (SBBC) 6
DESCRIPTION:Purpose\nSOFWERX\, in coordination with the United States Special Operations Command (USSOCOM) Office of Small Business Programs (OSBP)\, will provide a forum for Small Businesses with technologies that support National Security Interests and/or the USSOCOM technology interest areas to learn more about doing business with USSOCOM. Additionally\, the event will provide an opportunity for Small Business engagement with government stakeholders\, investors\, and prime contractors in the form of “Speed Dating.” See objective for more details. \nThe OSBP is dedicated to helping you and your business. They will explain known requirements\, help you understand who buys what within the Command\, and can assist you in locating other likely markets within DoW and developing strategies for accessing those markets. They provide information and guidance on defense procurement policies and procedures as well as methods for identifying prime contracting and subcontracting opportunities. \nWhen. March 24-26\, 2026 \nWhere. SOFWERX \nObjective\nDay 1: Presenters will provide an overview of USSOCOM\, information on the basic components and requirements of working with the Department of War\, and how to engage with USSOCOM.  There will also be breakout sessions to allow attendees to pick a topic based on their own learning objectives and an opportunity to hear success stories from two companies. The day will end with a social event. \nDay 2: The second day will consist of more presentations\, covering topics like Foreign Ownership\, Control\, or Influence (FOCI) and Cybersecurity Maturity Model Certification (CMMC)\, and information on raising capital. \nDay 3: The third and final day will consist of an update on USSOCOM’s Investor engagement strategy and the SOF Ventures Pilot Program. Additionally\, we will provide a forum for Small Businesses to engage with government stakeholders\, investors\, and prime contractors in the form of “Speed Dating.” \n\nReview the SOF AT&L Organization Chart Read-Ahead: Click Here to Download \nHow You Can Participate \n1. Small Businesses: Click Here to Request to Attend (NLT 24 February) \n2. Speakers/Panelists: Please RSVP via the emailed link  \n3. Government Stakeholders\, Prime Contractors\, and Investors/VCs ONLY:Click Here to Request to host a table for Speed Dating (NLT 24 February)  \n\nQuestions?\nFor event-related questions\, please contact Olivia Larounis \nFor more information\, visit: https://events.sofwerx.org/small-business-boot-camp-sbbc-6
URL:https://www.ncmbc.us/event/small-business-boot-camp-sbbc-6/
LOCATION:NC
ATTACH;FMTTYPE=image/png:https://www.ncmbc.us/wp-content/uploads/sofwerx.png
END:VEVENT
BEGIN:VEVENT
DTSTART;TZID=America/New_York:20260326T100000
DTEND;TZID=America/New_York:20260326T113000
DTSTAMP:20260420T064653
CREATED:20260323T185613Z
LAST-MODIFIED:20260323T201016Z
UID:5794-1774519200-1774524600@www.ncmbc.us
SUMMARY:DoW SciTechCONNECT North Carolina Regional Pop-Up Information Session
DESCRIPTION:Summary \nJoin the North Carolina Military Business Center for an information session in advance of the DoW SciTechCONNECT North Carolina Regional Pop-Up (April 29\, 2026\, Greensboro). The Regional Pop-Up is designed to break down barriers to entry and educate\, motivate\, and inspire new potential performers from small businesses\, industry\, and academia to engage with the Department of War and grow the national security innovation ecosystem. \nWhen. Thursday\, March 26\, 2026 from 10:00 – 11:30 EST \nWhere. In-person (limited to the first 20 registrants) with virtual option \nPurpose \nThis is a short prep session to help North Carolina small businesses\, researchers\, and innovation partners understand what SciTechCONNECT is\, what the North Carolina Regional Pop-Up is designed to do\, and how to show up ready to engage during the April 29 program (DoW officials and leaders\, direct Q and A\, and pathways into DoW science and technology). \nWhat is SciTechCONNECT \nDoW SciTechCONNECT is a front door into the Department of War’s innovation ecosystem. It helps first time and nontraditional performers navigate pathways\, understand priority areas\, and connect with real people through events\, office hours\, and webinars. It also provides curated toolkits\, guides\, and resources that support practical next steps. \nWho should attend \n\nNorth Carolina small businesses pursuing DoD opportunities\nUniversity researchers\, faculty\, staff\, and students interested in defense innovation pathways\nInnovation ecosystem partners supporting technology transition and commercialization\n\nWhat you will get \n\nOverview of the DoW SciTechCONNECT North Carolina Regional Pop-Up and what to expect on April 29\nHow to prepare for engagement and what to bring to office hours and follow-on discussions\nQ and A\n\nFormat \nHybrid: In-Person (first 20 registrants) and Virtual via Microsoft Teams \nLocation: Hybrid / In Person / Virtual \nTowneBank Conference Room\nFirst Flight Venture Center\, 2 Davis Dr\, Durham\, NC 27709 \nREGISTER HERE \nIn addition to this event\, the Department of War SciTechCONNECT program is heading to Greensboro for a Regional Pop-Up event. Secure your spot and register here for this event on April 29\, 2026.
URL:https://www.ncmbc.us/event/dow-scitechconnect-north-carolina-regional-pop-up-information-session/
LOCATION:NC
CATEGORIES:Homepage Events
ATTACH;FMTTYPE=image/jpeg:https://www.ncmbc.us/wp-content/uploads/250812-F-LF796-1006M-1-scaled.jpg
END:VEVENT
END:VCALENDAR