BEGIN:VCALENDAR
VERSION:2.0
PRODID:-//NCMBC - ECPv6.15.20//NONSGML v1.0//EN
CALSCALE:GREGORIAN
METHOD:PUBLISH
X-ORIGINAL-URL:https://www.ncmbc.us
X-WR-CALDESC:Events for NCMBC
REFRESH-INTERVAL;VALUE=DURATION:PT1H
X-Robots-Tag:noindex
X-PUBLISHED-TTL:PT1H
BEGIN:VTIMEZONE
TZID:America/New_York
BEGIN:DAYLIGHT
TZOFFSETFROM:-0500
TZOFFSETTO:-0400
TZNAME:EDT
DTSTART:20250309T070000
END:DAYLIGHT
BEGIN:STANDARD
TZOFFSETFROM:-0400
TZOFFSETTO:-0500
TZNAME:EST
DTSTART:20251102T060000
END:STANDARD
BEGIN:DAYLIGHT
TZOFFSETFROM:-0500
TZOFFSETTO:-0400
TZNAME:EDT
DTSTART:20260308T070000
END:DAYLIGHT
BEGIN:STANDARD
TZOFFSETFROM:-0400
TZOFFSETTO:-0500
TZNAME:EST
DTSTART:20261101T060000
END:STANDARD
BEGIN:DAYLIGHT
TZOFFSETFROM:-0500
TZOFFSETTO:-0400
TZNAME:EDT
DTSTART:20270314T070000
END:DAYLIGHT
BEGIN:STANDARD
TZOFFSETFROM:-0400
TZOFFSETTO:-0500
TZNAME:EST
DTSTART:20271107T060000
END:STANDARD
END:VTIMEZONE
BEGIN:VEVENT
DTSTART;TZID=America/New_York:20260504T080000
DTEND;TZID=America/New_York:20260508T170000
DTSTAMP:20260422T085251
CREATED:20260401T182706Z
LAST-MODIFIED:20260401T182706Z
UID:5826-1777881600-1778259600@www.ncmbc.us
SUMMARY:US Commercial Service Export Week
DESCRIPTION:In celebration of World Trade Month\, the U.S. Commercial Service will host a number of export sessions during the first week of May as well as throughout the month! The sessions\, led by both private and public sector experts\, will feature tradecraft programs and industry focused opportunities. Many of the programs are being offered free of charge and you can choose as many as you’d like to attend. Whether you are new-to-export or an experienced exporter\, Export Week will provide valuable information on forward thinking strategies and invaluable resources to increase your global sales. \nExport Week Kick-Off: Navigating Export Resources for U.S. Manufacturers \nMonday\, May 4\, 2026 | 11:00am-12:00pm Eastern\nCost: FREE\nLocation: Virtual (MS Teams)\nDiscover how U.S. manufacturers can tap into federal export resources\, trade counseling\, market intelligence\, and global connections to expand internationally. \nA number of sessions are available throughout this week. Click on the tabs below to view all sessions. \n\nTrade Craft\nIndustry Sessions\nTrade Deal Access\nExport Compliance Series\n\n 
URL:https://www.ncmbc.us/event/us-commercial-service-export-week/
ATTACH;FMTTYPE=image/png:https://www.ncmbc.us/wp-content/uploads/Screenshot-2026-04-01-at-2.26.09-PM.png
END:VEVENT
BEGIN:VEVENT
DTSTART;TZID=America/New_York:20260506T030000
DTEND;TZID=America/New_York:20260506T170000
DTSTAMP:20260422T085251
CREATED:20260206T143717Z
LAST-MODIFIED:20260304T142441Z
UID:5635-1778036400-1778086800@www.ncmbc.us
SUMMARY:Small Business Outreach Event at Wayne Community College
DESCRIPTION:Join the NCMBC for an engaging Small Business Outreach Event at Wayne Community College. This session brings together regional experts\, federal partners\, and local resource organizations that will share valuable opportunities and insights supporting business growth\, government contracting\, workforce development and small business assistance. \nWhen. May 6\, 2026 from 3:00 – 5:00 pm \nWhere. Wayne Community College\, 3000 Wayne Memorial Drive\, Goldsboro\, NC 27534; Walnut Building\, Room 101 \nAgenda. \n3:00 – 3:30 Welcome Remarks \n\nBill Simons\, NCMBC\, Wayne Community College (Welcome & Purpose)\nRenita Dawson\, Vice President-Workforce Continuing Education & Community Engagement\, Wayne Community College\n\n3:30 – 4:30 Organizational Resources and Mini Briefs \n\nTodd Walker\, Wayne County Chamber of Commerce\nHeather Port\, Small Business Administration (SBA)\nKyle Donah\, 4th Contracting Squadron (SJAFB)\nJoel Guge\, Government Contracting Assistance Program (GCAP)\nJulius Cook\, Veteran Business Outreach Center\, Fayetteville State\nEsteban Guzman\, Wayne Community College’s Small Business Center (SBC)\nChristina Therodorou\, NCGrowth\, UNC Chapel Hill\nBill Simons\, North Carolina Military Business Center (NCMBC)\, Wayne Community College\n\n4:30 – 5:00 Questions & Answers Interactive Forum: All previous presenters & audience \n5:00 Closing Comments: Bill Simons\, NCMBC\, Wayne Community College \nFlyer Information \nRegister
URL:https://www.ncmbc.us/event/small-business-outreach-event-at-wayne-community-college/
LOCATION:Wayne\, 3000 Wayne Memorial Drive\, Goldsboro\, NC\, 27534
CATEGORIES:Homepage Events
ATTACH;FMTTYPE=image/jpeg:https://www.ncmbc.us/wp-content/uploads/us-air-force-77907_1280-768x389-1.jpg
END:VEVENT
BEGIN:VEVENT
DTSTART;TZID=America/New_York:20260512T110000
DTEND;TZID=America/New_York:20260512T130000
DTSTAMP:20260422T085251
CREATED:20260106T151451Z
LAST-MODIFIED:20260106T151451Z
UID:5564-1778583600-1778590800@www.ncmbc.us
SUMMARY:Introduction to Federal Contracting For the Small Business Owner (Online)
DESCRIPTION:To sell your products or services to the federal government\, your small business must meet specific requirements. Although the contracting process can seem complicated and overwhelming at first\, the government provides information and tips to help you learn to compete as a federal contractor in North Carolina. \nWhen. May 12\, 2026 from 11:00-1:00 pm \nWhere. Online \nRegister
URL:https://www.ncmbc.us/event/introduction-to-federal-contracting-for-the-small-business-owner-online-6/
LOCATION:Online
CATEGORIES:Homepage Events
ATTACH;FMTTYPE=image/png:https://www.ncmbc.us/wp-content/uploads/Picture1.png
END:VEVENT
BEGIN:VEVENT
DTSTART;TZID=America/New_York:20260513T080000
DTEND;TZID=America/New_York:20260514T170000
DTSTAMP:20260422T085251
CREATED:20260401T183858Z
LAST-MODIFIED:20260401T192101Z
UID:5828-1778659200-1778778000@www.ncmbc.us
SUMMARY:AES Export Compliance Seminar
DESCRIPTION:If your company is seeking to expand into Foreign Military Sales (FMS) or commercial defense opportunities overseas\, you should strongly consider participating in the US Commercial Service AES Export Compliance Seminar. \nThis intensive two-day virtual program gives you the practical knowledge and real-world tools to strengthen your export operations. \nThis two-day seminar is a practical\, government-led training focused on the full spectrum of U.S. export compliance. The program features expert speakers from the U.S. Commercial Service and the U.S. Census Bureau\, as well as private sector specialists. \n\nMay 13\, 2026 | 9:00 AM – 1:00 PM PT\nMay 14\, 2026 | 9:00 AM – 1:00 PM PT\nFormat: Live Virtual Program\n\nWhat You’ll Learn \n\nWhy export regulations are essential to protecting your company from costly penalties\, fines\, cargo seizures\, or delays\nACE/AESDirect — Navigating the Automated Commercial Environment and AESDirect filing platform\nCommodity Classification — Correctly classifying your goods for export control and reporting purposes\nACE Export Reports — Using ACE reporting tools to monitor and manage your export filings\nForeign Trade Regulations (FTR)\, Export Administration Regulations (EAR)\, and ITAR Requirements\n\nWho Should Attend \nWhether you are new to exporting or a seasoned pro\, this program is built for you. Recommended attendees include U.S. exporters\, freight forwarders\, logistics and documentation professionals\, compliance managers\, manufacturers\, shippers\, and U.S. Principal Parties of Interest (USPPIs). \nWhy Attend? \n\nLearn from government experts and experienced private sector practitioners\nGet trade data guidance straight from the sources\nWalk away with compliance strategies you can implement immediately\nReduce regulatory risk and avoid expensive mistakes\n\nSponsorship Opportunities \nInterested in reaching an engaged audience of export professionals\, compliance managers\, and trade specialists? Sponsorship opportunities are available for this program. \nRegister
URL:https://www.ncmbc.us/event/aes-export-compliance-seminar/
ATTACH;FMTTYPE=image/png:https://www.ncmbc.us/wp-content/uploads/Screenshot-2026-04-01-at-2.38.20-PM.png
END:VEVENT
BEGIN:VEVENT
DTSTART;TZID=America/New_York:20260513T090000
DTEND;TZID=America/New_York:20260513T103000
DTSTAMP:20260422T085251
CREATED:20251021T154019Z
LAST-MODIFIED:20251021T162614Z
UID:5388-1778662800-1778668200@www.ncmbc.us
SUMMARY:Introduction to Federal Contracting
DESCRIPTION:The North Carolina Military Business Center will host “Introduction to Federal Contracting” virtually on the following dates:  \n\nFebruary 4\, 2026 from 0900 -1030\nMay 13\, 2026 from 0900 – 1030\nAugust 12\, 2026 from 0900 – 1030\nNovember 18\, 2026 from 0900 -1030\n\nAbout. This training is an introduction to doing business with the federal government. Topics trained include: levels of federal purchasing; how the federal government buys products\, construction and engineering and non-personal services; marketing a business to the federal government; socio-economic small business programs; registering as a federal contractor; locating\, identifying and responding to federal business opportunities; and resources available to assist federal contractors in North Carolina.  \nRegistration. This is a free webinar; however\, pre-registration is required in order to receive the virtual platform credentials. Credentials will be emailed out a few days prior to the training.  \nRegister. 
URL:https://www.ncmbc.us/event/introduction-to-federal-contracting-5/
LOCATION:Online
CATEGORIES:Homepage Events
ATTACH;FMTTYPE=image/jpeg:https://www.ncmbc.us/wp-content/uploads/250425-F-GY077-1091K-scaled.jpg
END:VEVENT
BEGIN:VEVENT
DTSTART;TZID=America/New_York:20260514T100000
DTEND;TZID=America/New_York:20260514T113000
DTSTAMP:20260422T085251
CREATED:20251107T153347Z
LAST-MODIFIED:20260401T200226Z
UID:5449-1778752800-1778758200@www.ncmbc.us
SUMMARY:Innovation and Technology Quarterly Industry Forum
DESCRIPTION:Join the North Carolina Military Business Center for our quarterly industry-related forums that spotlight key federal opportunities and strengthen connections across North Carolina’s federal and defense contracting ecosystem. Each industry-specific quarterly session will connect businesses\, government agencies\, and prime contractors to discuss: \n\nUpcoming contracting opportunities and capability gaps\nMarket and policy trends shaping the industry\nSuccess stories and lessons learned from peers\nStrategies for growth in the federal marketplace\n\nThese forums are part of our year-round commitment to industry engagement\, building momentum towards major annual industry events like FEDTEX\, DISC\, MBB\, FTS and the Summit ensuring that businesses stay connected and competitive in a rapidly evolving federal and defense landscape. \nWhen. May 14\, 2026 from 1000-1130 \nWhere. This forum will be held in a virtual setting. \nAgenda: \n\nNCMBC updates and industry insights\nHighlights of upcoming opportunities and capability gaps\nFeatured Presentation: DEVCOM Army Research Office\, Klinton Snead\, Staff Director\, Army Research Office\nKlinton Snead serves as Staff Director for the Army Research Office (ARO)\, supporting engagement and execution of the Army’s extramural research mission. ARO\, part of the Army’s Combat Capabilities Development Command (DEVCOM). ARO manages the Army’s extramural basic research program and advances high-risk\, high-payoff foundational research with academia and other performers to help enable future Army technologies and capabilities.\nArmy Research Office (ARO). The Army Research Office\, leads the Army’s extramural basic research program\, investing in foundational science and high-risk\, high-payoff research that supports future Army capabilities. Working across academia\, nonprofit organizations\, and industry\, ARO helps shape the scientific discoveries that underpin long-term national security advantage. In this Quarterly Industry Forum\, ARO will share its mission\, current areas of interest\, funding and partnership mechanisms\, and practical guidance for how industry and research performers can better align with Army research priorities and pursue engagement opportunities.\nBusiness Spotlight: Matthew Kolmes\, Supreme Corporation. Matthew Kolmes is the CEO for Supreme Corporation and is a senior leader focused on advancing innovation\, product development\, and business growth. Supreme Corporation supports federal and defense customers with advanced material and manufacturing solutions that align with performance\, compliance\, and supply chain reliability requirements. Matthew will share perspective on how industry can position capabilities for federal demand signals\, strengthen partnerships with primes and government\, and translate innovation into scalable delivery for mission needs.\nNCMBC OTA Discussion. This session will highlight Other Transaction Authority (OTA) as a key mechanism for accelerating innovation and expanding access to federal opportunities. The discussion will cover how OTA works\, how it differs from traditional procurement\, and practical ways companies can position for prototype and transition opportunities.\nOpen Q&A and networking\n\nSave the date for the 2026 Innovation and Technology Quarterly Forums: November 12\, 2026 \nRegister
URL:https://www.ncmbc.us/event/innovation-and-technology-quarterly-industry-forum-2/
LOCATION:Online
CATEGORIES:Homepage Events
ATTACH;FMTTYPE=image/png:https://www.ncmbc.us/wp-content/uploads/Innovation-1.png
END:VEVENT
BEGIN:VEVENT
DTSTART;TZID=America/New_York:20260519T090000
DTEND;TZID=America/New_York:20260519T140000
DTSTAMP:20260422T085251
CREATED:20260409T182440Z
LAST-MODIFIED:20260409T182440Z
UID:5845-1779181200-1779199200@www.ncmbc.us
SUMMARY:Small Business Outreach Event\, Coastal Carolina Community College
DESCRIPTION:When. 19 May 2026\, 9:00 AM to 2:00 PM \nWhere. Coastal Carolina Community College\, Melton Skills Center\, 444 Western Blvd. Jacksonville\, NC  28546 \nPurpose of the Outreach Event. \n\nInform and educate businesses on the North Carolina-based support organizations available to assist businesses in becoming eligible and competitive for Department of Defense contracts.\nInform businesses on how to do business with the various contracting organizations aboard Camp Lejeune.\nProvide businesses general information on upcoming opportunities.\n\nPremise of the Outreach Event. \n\nMany businesses do not know where to start in becoming eligible and competitive for Department of Defense contracts.\nFor existing businesses\, there are many new regulations and requirements regarding Department of Defense contracting.\nMany businesses are not aware of opportunities aboard Camp Lejeune.\n\nGoals of the Outreach Event. \n\nBusinesses leave with a greater understanding of the support organizations available to assist them.\nIncrease the base of eligible and competitive businesses proposing on Department of Defense contracts.\n\nWho should participate in the Outreach Event:  Businesses interested in doing business with the Department of Defense\, businesses currently doing business with the Department of Defense.  Please note registration is limited to 100 people due to capacity limitations. \nCost:  Free to all registrants and presenters.  However\, you must register to attend. \nIf you have any questions about this event\, please contact Mr. Chris Rabassi\, chris.rabassi@usmc.mil \nRegister
URL:https://www.ncmbc.us/event/small-business-outreach-event-coastal-carolina-community-college/
LOCATION:Coastal Carolina Community College\, James Melton Vocational Skills Bldg\, Jacksonville\, NC
CATEGORIES:Homepage Events
ATTACH;FMTTYPE=image/png:https://www.ncmbc.us/wp-content/uploads/SBOE-Jacksonville.png
END:VEVENT
BEGIN:VEVENT
DTSTART;TZID=America/New_York:20260527T090000
DTEND;TZID=America/New_York:20260527T103000
DTSTAMP:20260422T085251
CREATED:20251021T162109Z
LAST-MODIFIED:20251021T162109Z
UID:5397-1779872400-1779877800@www.ncmbc.us
SUMMARY:Effectively Presenting Your Business to the Government\, Military & Prime Contractors
DESCRIPTION:The North Carolina Military Business Center will host “Effectively Presenting Your Business to the Government\, Military & Prime Contractors” virtually on the following dates:  \n\nFebruary 11\, 2026 from 0900-1030\nMay 27\, 2026 from 0900-1030\nAugust 19 2026 from 0900-1030\nNovember 3\, 2026 from 0900-1030\n\nAbout. This training focuses on real world tips\, tricks\, tools and lessons learned on how to effectively market a business to federal customers. It also focuses on techniques to market a business to federal prime contractors\, in anticipation of teaming on current and future opportunities.  \nRegistration. This is a free webinar; however\, pre-registration is required in order to receive the virtual platform credentials. Credentials will be emailed out a few days prior to the training.  \nRegister
URL:https://www.ncmbc.us/event/effectively-presenting-your-business-to-the-government-military-prime-contractors-6/
LOCATION:Online
CATEGORIES:Homepage Events
ATTACH;FMTTYPE=image/jpeg:https://www.ncmbc.us/wp-content/uploads/250909-A-AJ888-1285K.jpg
END:VEVENT
END:VCALENDAR