BEGIN:VCALENDAR
VERSION:2.0
PRODID:-//NCMBC - ECPv6.15.20//NONSGML v1.0//EN
CALSCALE:GREGORIAN
METHOD:PUBLISH
X-ORIGINAL-URL:https://www.ncmbc.us
X-WR-CALDESC:Events for NCMBC
REFRESH-INTERVAL;VALUE=DURATION:PT1H
X-Robots-Tag:noindex
X-PUBLISHED-TTL:PT1H
BEGIN:VTIMEZONE
TZID:America/New_York
BEGIN:DAYLIGHT
TZOFFSETFROM:-0500
TZOFFSETTO:-0400
TZNAME:EDT
DTSTART:20250309T070000
END:DAYLIGHT
BEGIN:STANDARD
TZOFFSETFROM:-0400
TZOFFSETTO:-0500
TZNAME:EST
DTSTART:20251102T060000
END:STANDARD
BEGIN:DAYLIGHT
TZOFFSETFROM:-0500
TZOFFSETTO:-0400
TZNAME:EDT
DTSTART:20260308T070000
END:DAYLIGHT
BEGIN:STANDARD
TZOFFSETFROM:-0400
TZOFFSETTO:-0500
TZNAME:EST
DTSTART:20261101T060000
END:STANDARD
BEGIN:DAYLIGHT
TZOFFSETFROM:-0500
TZOFFSETTO:-0400
TZNAME:EDT
DTSTART:20270314T070000
END:DAYLIGHT
BEGIN:STANDARD
TZOFFSETFROM:-0400
TZOFFSETTO:-0500
TZNAME:EST
DTSTART:20271107T060000
END:STANDARD
END:VTIMEZONE
BEGIN:VEVENT
DTSTART;VALUE=DATE:20260223
DTEND;VALUE=DATE:20260226
DTSTAMP:20260422T101604
CREATED:20251017T130229Z
LAST-MODIFIED:20251017T130347Z
UID:5375-1771804800-1772063999@www.ncmbc.us
SUMMARY:SAME Mid-Atlantic Small Business Outreach + Industry Day
DESCRIPTION:Join us in Virginia Beach\, February 23 – 25\, 2026\, for the 2026 SAME Mid-Atlantic Small Business Outreach + Industry Day\, hosted by the Hampton Roads\, Coastal Carolina\, Virginia Peninsula\, and Central Virginia Society of American Military Engineers Posts. This two-and-a-half-day event offers numerous opportunities to engage with industry experts\, decision-makers\, solution providers\, business partners\, and small business federal contracting officers. \nWhen. February 23-25\, 2026 \nWhere. Virginia Beach Convention Center \nExpand your network by attending business opportunity sessions led by government agencies\, exploring the exhibit hall\, and participating in one-on-one meetings between small businesses\, government agencies\, and large firms. You’ll leave with valuable insights and new partnerships to drive future success! \nDon’t miss out—join hundreds of professionals in the federal A/E/C industry this February in Virginia Beach!\nQuestions?\nFor questions\, contact samehrpost757@gmail.com \nMore Information
URL:https://www.ncmbc.us/event/same-mid-atlantic-small-business-outreach-industry-day/
ATTACH;FMTTYPE=image/jpeg:https://www.ncmbc.us/wp-content/uploads/SAMEcolorlogo.jpg
END:VEVENT
BEGIN:VEVENT
DTSTART;TZID=America/New_York:20260225T100000
DTEND;TZID=America/New_York:20260225T110000
DTSTAMP:20260422T101604
CREATED:20260219T175008Z
LAST-MODIFIED:20260219T175026Z
UID:5684-1772013600-1772017200@www.ncmbc.us
SUMMARY:Lessons Learned on Burn & Blast Wound Care from the Ukrainian Front Lines
DESCRIPTION:Lessons Learned on Burn and Blast Wound Care from the Ukrainian Front Lines\nWednesday\, February 25\, 2026\n10:00 AM – 11:00 AM EST\nVirtual (Google Meet – Will be Recorded) \nCarroll International is honored to host Dr. Mykola I. Kushnirchuk\, PhD\, Department of General Surgery at Danylo Halytsky Lviv National Medical University and Vice-Academician of the Academy of Technological Sciences. Dr. Kushnirchuk has direct clinical experience treating complex burn and soft tissue injuries during the ongoing war in Ukraine\, including hands-on use of Regenlyst Hydrogel Bandages in frontline and civilian hospital settings. \nKey Topics Include: \n\nPower outages during surgery & supply chain improvisation\nInfection\, necrosis\, and survival: the hidden war of soft tissue\nBurn management during infrastructure instability\nCivilian hospitals adapting to military-grade injuries\nModified triage algorithms under missile strikes\nClinical use of Regenlyst Hydrogel Bandage during the invasion\n\nYou can preview our short overview video here: https://share.google/zEAJXcQZBbt7mytP6\nThis session is designed specifically for medical professionals seeking real-world\, field-tested insights that may improve readiness\, trauma response\, and burn management outcomes. \nInvite with sign up registration Link: https://forms.gle/Z7Lr7yJGHU4woZQu5
URL:https://www.ncmbc.us/event/lessons-learned-on-burn-blast-wound-care-from-the-ukrainian-front-lines/
ATTACH;FMTTYPE=image/jpeg:https://www.ncmbc.us/wp-content/uploads/250313-F-DU873-1151K-scaled.jpg
END:VEVENT
END:VCALENDAR